Workbook
Name Self_Ded: 'Cài đặt'!$C$29
Name Titles: 'Cài đặt'!$G$28:$G$32
Name Cap_BHTN: 'Cài đặt'!$C$27
Name BHTN_NV: 'Cài đặt'!$C$20
Name Lunch_Cap: 'Cài đặt'!$C$31
Name New_Cust_Bonus: 'Cài đặt'!$C$32
Name BHXH_DN: 'Cài đặt'!$C$21
Name Com_Rate: 'Cài đặt'!$H$13:$H$18
Name BHYT_DN: 'Cài đặt'!$C$22
Name Dep_Ded: 'Cài đặt'!$C$30
Name BHYT_NV: 'Cài đặt'!$C$19
Name Com_From: 'Cài đặt'!$G$13:$G$18
Name Pay_Period: 'Cài đặt'!$C$8
Name Tax_Delta: 'Cài đặt'!$J$5:$J$9
Name Groups: 'Cài đặt'!$G$21:$G$25
Name Tax_From: 'Cài đặt'!$G$5:$G$9
Name BHXH_NV: 'Cài đặt'!$C$18
Name Cap_BHXH: 'Cài đặt'!$C$26
Name Com_Bonus: 'Cài đặt'!$I$13:$I$18
Name Std_Days: 'Cài đặt'!$C$16
Name BHTN_DN: 'Cài đặt'!$C$23

Sheet Tổng hợp
B1: TỔNG HỢP LƯƠNG & DOANH SỐ KINH DOANH
B2: ="Kỳ lương: Tháng "&'Cài đặt'!C8&"/"&'Cài đặt'!C9&" | "&'Cài đặt'!C4 -> Kỳ lương: Tháng 10/2026 | Công ty CP Thương mại ABC
B3: ="Ngày công chuẩn: "&Std_Days&" ngày | Người lập: "&'Cài đặt'!C6 -> Ngày công chuẩn: 22 ngày | Người lập: Nguyễn Thị Lan – Kế toán
B5: SỐ NHÂN VIÊN | D5: TỔNG DOANH SỐ (VNĐ) | F5: % HOÀN THÀNH CHỈ TIÊU | H5: TỔNG THU NHẬP (VNĐ) | J5: TỔNG THỰC LĨNH (VNĐ)
B6: =COUNTIF('Bảng lương'!$B$7:$B$46,"?*") -> 10 | D6: ='Bảng lương'!K6 -> 2737000000 | F6: ='Bảng lương'!L6 -> 1.0861111 | H6: ='Bảng lương'!U6 -> 220461364 | J6: ='Bảng lương'!AG6 -> 202985614
B8: HOA HỒNG + THƯỞNG KD | D8: TỔNG BH NGƯỜI LAO ĐỘNG | F8: TỔNG THUẾ TNCN | H8: CHI PHÍ LƯƠNG DOANH NGHIỆP | J8: THỰC LĨNH BÌNH QUÂN/NGƯỜI
B9: ='Bảng lương'!N6+'Bảng lương'!O6+'Bảng lương'!Q6 -> 73420000 | D9: ='Bảng lương'!Z6 -> 11970000 | F9: ='Bảng lương'!AD6 -> 2305750 | H9: ='Bảng lương'!AI6 -> 244971364 | J9: =IF(B6=0,0,'Bảng lương'!AG6/B6) -> 20298561
B11: TỔNG HỢP THEO NHÓM KINH DOANH
B12: Nhóm | D12: Số NV | E12: Chỉ tiêu | F12: Doanh số | G12: % hoàn thành | H12: Tổng thu nhập | I12: Thực lĩnh | J12: Thuế TNCN | K12: BH người LĐ
B13: =IF('Cài đặt'!G21="","",'Cài đặt'!G21) -> Nhóm Miền Bắc | D13: =IF($B13="","",COUNTIF('Bảng lương'!$E$7:$E$46,$B13)) -> 4 | E13: =IF($B13="","",SUMIFS('Bảng lương'!$J$7:$J$46,'Bảng lương'!$E$7:$E$46,$B13)) -> 1200000000 | F13: =IF($B13="","",SUMIFS('Bảng lương'!$K$7:$K$46,'Bảng lương'!$E$7:$E$46,$B13)) -> 1287000000 | G13: =IF($B13="","",IF(E13>0,F13/E13,0)) -> 1.0725 | H13: =IF($B13="","",SUMIFS('Bảng lương'!$U$7:$U$46,'Bảng lương'!$E$7:$E$46,$B13)) -> 102380000 | I13: =IF($B13="","",SUMIFS('Bảng lương'!$AG$7:$AG$46,'Bảng lương'!$E$7:$E$46,$B13)) -> 93171250 | J13: =IF($B13="","",SUMIFS('Bảng lương'!$AD$7:$AD$46,'Bảng lương'!$E$7:$E$46,$B13)) -> 1118750 | K13: =IF($B13="","",SUMIFS('Bảng lương'!$Z$7:$Z$46,'Bảng lương'!$E$7:$E$46,$B13)) -> 6090000
B14: =IF('Cài đặt'!G22="","",'Cài đặt'!G22) -> Nhóm Miền Trung | D14: =IF($B14="","",COUNTIF('Bảng lương'!$E$7:$E$46,$B14)) -> 3 | E14: =IF($B14="","",SUMIFS('Bảng lương'!$J$7:$J$46,'Bảng lương'!$E$7:$E$46,$B14)) -> 640000000 | F14: =IF($B14="","",SUMIFS('Bảng lương'!$K$7:$K$46,'Bảng lương'!$E$7:$E$46,$B14)) -> 607000000 | G14: =IF($B14="","",IF(E14>0,F14/E14,0)) -> 0.9484375 | H14: =IF($B14="","",SUMIFS('Bảng lương'!$U$7:$U$46,'Bảng lương'!$E$7:$E$46,$B14)) -> 48971364 | I14: =IF($B14="","",SUMIFS('Bảng lương'!$AG$7:$AG$46,'Bảng lương'!$E$7:$E$46,$B14)) -> 44516364 | J14: =IF($B14="","",SUMIFS('Bảng lương'!$AD$7:$AD$46,'Bảng lương'!$E$7:$E$46,$B14)) -> 0 | K14: =IF($B14="","",SUMIFS('Bảng lương'!$Z$7:$Z$46,'Bảng lương'!$E$7:$E$46,$B14)) -> 3255000
B15: =IF('Cài đặt'!G23="","",'Cài đặt'!G23) -> Nhóm Miền Nam | D15: =IF($B15="","",COUNTIF('Bảng lương'!$E$7:$E$46,$B15)) -> 3 | E15: =IF($B15="","",SUMIFS('Bảng lương'!$J$7:$J$46,'Bảng lương'!$E$7:$E$46,$B15)) -> 680000000 | F15: =IF($B15="","",SUMIFS('Bảng lương'!$K$7:$K$46,'Bảng lương'!$E$7:$E$46,$B15)) -> 843000000 | G15: =IF($B15="","",IF(E15>0,F15/E15,0)) -> 1.2397059 | H15: =IF($B15="","",SUMIFS('Bảng lương'!$U$7:$U$46,'Bảng lương'!$E$7:$E$46,$B15)) -> 69110000 | I15: =IF($B15="","",SUMIFS('Bảng lương'!$AG$7:$AG$46,'Bảng lương'!$E$7:$E$46,$B15)) -> 65298000 | J15: =IF($B15="","",SUMIFS('Bảng lương'!$AD$7:$AD$46,'Bảng lương'!$E$7:$E$46,$B15)) -> 1187000 | K15: =IF($B15="","",SUMIFS('Bảng lương'!$Z$7:$Z$46,'Bảng lương'!$E$7:$E$46,$B15)) -> 2625000
B16: =IF('Cài đặt'!G24="","",'Cài đặt'!G24) | D16: =IF($B16="","",COUNTIF('Bảng lương'!$E$7:$E$46,$B16)) | E16: =IF($B16="","",SUMIFS('Bảng lương'!$J$7:$J$46,'Bảng lương'!$E$7:$E$46,$B16)) | F16: =IF($B16="","",SUMIFS('Bảng lương'!$K$7:$K$46,'Bảng lương'!$E$7:$E$46,$B16)) | G16: =IF($B16="","",IF(E16>0,F16/E16,0)) | H16: =IF($B16="","",SUMIFS('Bảng lương'!$U$7:$U$46,'Bảng lương'!$E$7:$E$46,$B16)) | I16: =IF($B16="","",SUMIFS('Bảng lương'!$AG$7:$AG$46,'Bảng lương'!$E$7:$E$46,$B16)) | J16: =IF($B16="","",SUMIFS('Bảng lương'!$AD$7:$AD$46,'Bảng lương'!$E$7:$E$46,$B16)) | K16: =IF($B16="","",SUMIFS('Bảng lương'!$Z$7:$Z$46,'Bảng lương'!$E$7:$E$46,$B16))
B17: =IF('Cài đặt'!G25="","",'Cài đặt'!G25) | D17: =IF($B17="","",COUNTIF('Bảng lương'!$E$7:$E$46,$B17)) | E17: =IF($B17="","",SUMIFS('Bảng lương'!$J$7:$J$46,'Bảng lương'!$E$7:$E$46,$B17)) | F17: =IF($B17="","",SUMIFS('Bảng lương'!$K$7:$K$46,'Bảng lương'!$E$7:$E$46,$B17)) | G17: =IF($B17="","",IF(E17>0,F17/E17,0)) | H17: =IF($B17="","",SUMIFS('Bảng lương'!$U$7:$U$46,'Bảng lương'!$E$7:$E$46,$B17)) | I17: =IF($B17="","",SUMIFS('Bảng lương'!$AG$7:$AG$46,'Bảng lương'!$E$7:$E$46,$B17)) | J17: =IF($B17="","",SUMIFS('Bảng lương'!$AD$7:$AD$46,'Bảng lương'!$E$7:$E$46,$B17)) | K17: =IF($B17="","",SUMIFS('Bảng lương'!$Z$7:$Z$46,'Bảng lương'!$E$7:$E$46,$B17))
B18: TỔNG CỘNG | D18: =B6 -> 10 | E18: ='Bảng lương'!J6 -> 2520000000 | F18: ='Bảng lương'!K6 -> 2737000000 | G18: ='Bảng lương'!L6 -> 1.0861111 | H18: ='Bảng lương'!U6 -> 220461364 | I18: ='Bảng lương'!AG6 -> 202985614 | J18: ='Bảng lương'!AD6 -> 2305750 | K18: ='Bảng lương'!Z6 -> 11970000
B20: TOP 10 DOANH SỐ
B21: Hạng | C21: Họ và tên | E21: Nhóm | F21: Chỉ tiêu | G21: Doanh số | H21: % hoàn thành | I21: Hoa hồng + thưởng KD | J21: Thực lĩnh
B22: 1 | C22: {=IF($L22="","",INDEX('Bảng lương'!$C$7:$C$46,$L22))} -> Nguyễn Minh Tuấn | E22: {=IF($L22="","",INDEX('Bảng lương'!$E$7:$E$46,$L22))} -> Nhóm Miền Bắc | F22: {=IF($L22="","",INDEX('Bảng lương'!$J$7:$J$46,$L22))} -> 500000000 | G22: {=IF($L22="","",INDEX('Bảng lương'!$K$7:$K$46,$L22))} -> 560000000 | H22: {=IF($L22="","",INDEX('Bảng lương'!$L$7:$L$46,$L22))} -> 1.12 | I22: {=IF($L22="","",INDEX('Bảng lương'!$N$7:$N$46,$L22)+INDEX('Bảng lương'!$O$7:$O$46,$L22)+INDEX('Bảng lương'!$Q$7:$Q$46,$L22))} -> 13400000 | J22: {=IF($L22="","",INDEX('Bảng lương'!$AG$7:$AG$46,$L22))} -> 42517500 | L22: =IFERROR(MATCH(LARGE('Bảng lương'!$AL$7:$AL$46,1),'Bảng lương'!$AL$7:$AL$46,0),"") -> 1
B23: 2 | C23: {=IF($L23="","",INDEX('Bảng lương'!$C$7:$C$46,$L23))} -> Bùi Thanh Hằng | E23: {=IF($L23="","",INDEX('Bảng lương'!$E$7:$E$46,$L23))} -> Nhóm Miền Nam | F23: {=IF($L23="","",INDEX('Bảng lương'!$J$7:$J$46,$L23))} -> 320000000 | G23: {=IF($L23="","",INDEX('Bảng lương'!$K$7:$K$46,$L23))} -> 505000000 | H23: {=IF($L23="","",INDEX('Bảng lương'!$L$7:$L$46,$L23))} -> 1.578125 | I23: {=IF($L23="","",INDEX('Bảng lương'!$N$7:$N$46,$L23)+INDEX('Bảng lương'!$O$7:$O$46,$L23)+INDEX('Bảng lương'!$Q$7:$Q$46,$L23))} -> 21750000 | J23: {=IF($L23="","",INDEX('Bảng lương'!$AG$7:$AG$46,$L23))} -> 38113000 | L23: =IFERROR(MATCH(LARGE('Bảng lương'!$AL$7:$AL$46,2),'Bảng lương'!$AL$7:$AL$46,0),"") -> 8
B24: 3 | C24: {=IF($L24="","",INDEX('Bảng lương'!$C$7:$C$46,$L24))} -> Trần Thị Hồng Nhung | E24: {=IF($L24="","",INDEX('Bảng lương'!$E$7:$E$46,$L24))} -> Nhóm Miền Bắc | F24: {=IF($L24="","",INDEX('Bảng lương'!$J$7:$J$46,$L24))} -> 300000000 | G24: {=IF($L24="","",INDEX('Bảng lương'!$K$7:$K$46,$L24))} -> 345000000 | H24: {=IF($L24="","",INDEX('Bảng lương'!$L$7:$L$46,$L24))} -> 1.15 | I24: {=IF($L24="","",INDEX('Bảng lương'!$N$7:$N$46,$L24)+INDEX('Bảng lương'!$O$7:$O$46,$L24)+INDEX('Bảng lương'!$Q$7:$Q$46,$L24))} -> 8900000 | J24: {=IF($L24="","",INDEX('Bảng lương'!$AG$7:$AG$46,$L24))} -> 24923750 | L24: =IFERROR(MATCH(LARGE('Bảng lương'!$AL$7:$AL$46,3),'Bảng lương'!$AL$7:$AL$46,0),"") -> 2
B25: 4 | C25: {=IF($L25="","",INDEX('Bảng lương'!$C$7:$C$46,$L25))} -> Hoàng Đức Anh | E25: {=IF($L25="","",INDEX('Bảng lương'!$E$7:$E$46,$L25))} -> Nhóm Miền Trung | F25: {=IF($L25="","",INDEX('Bảng lương'!$J$7:$J$46,$L25))} -> 280000000 | G25: {=IF($L25="","",INDEX('Bảng lương'!$K$7:$K$46,$L25))} -> 292000000 | H25: {=IF($L25="","",INDEX('Bảng lương'!$L$7:$L$46,$L25))} -> 1.0428571 | I25: {=IF($L25="","",INDEX('Bảng lương'!$N$7:$N$46,$L25)+INDEX('Bảng lương'!$O$7:$O$46,$L25)+INDEX('Bảng lương'!$Q$7:$Q$46,$L25))} -> 7440000 | J25: {=IF($L25="","",INDEX('Bảng lương'!$AG$7:$AG$46,$L25))} -> 22200000 | L25: =IFERROR(MATCH(LARGE('Bảng lương'!$AL$7:$AL$46,4),'Bảng lương'!$AL$7:$AL$46,0),"") -> 5
B26: 5 | C26: {=IF($L26="","",INDEX('Bảng lương'!$C$7:$C$46,$L26))} -> Lê Quốc Bảo | E26: {=IF($L26="","",INDEX('Bảng lương'!$E$7:$E$46,$L26))} -> Nhóm Miền Bắc | F26: {=IF($L26="","",INDEX('Bảng lương'!$J$7:$J$46,$L26))} -> 200000000 | G26: {=IF($L26="","",INDEX('Bảng lương'!$K$7:$K$46,$L26))} -> 214000000 | H26: {=IF($L26="","",INDEX('Bảng lương'!$L$7:$L$46,$L26))} -> 1.07 | I26: {=IF($L26="","",INDEX('Bảng lương'!$N$7:$N$46,$L26)+INDEX('Bảng lương'!$O$7:$O$46,$L26)+INDEX('Bảng lương'!$Q$7:$Q$46,$L26))} -> 6080000 | J26: {=IF($L26="","",INDEX('Bảng lương'!$AG$7:$AG$46,$L26))} -> 13865000 | L26: =IFERROR(MATCH(LARGE('Bảng lương'!$AL$7:$AL$46,5),'Bảng lương'!$AL$7:$AL$46,0),"") -> 3
B27: 6 | C27: {=IF($L27="","",INDEX('Bảng lương'!$C$7:$C$46,$L27))} -> Đặng Văn Khoa | E27: {=IF($L27="","",INDEX('Bảng lương'!$E$7:$E$46,$L27))} -> Nhóm Miền Trung | F27: {=IF($L27="","",INDEX('Bảng lương'!$J$7:$J$46,$L27))} -> 180000000 | G27: {=IF($L27="","",INDEX('Bảng lương'!$K$7:$K$46,$L27))} -> 205000000 | H27: {=IF($L27="","",INDEX('Bảng lương'!$L$7:$L$46,$L27))} -> 1.1388889 | I27: {=IF($L27="","",INDEX('Bảng lương'!$N$7:$N$46,$L27)+INDEX('Bảng lương'!$O$7:$O$46,$L27)+INDEX('Bảng lương'!$Q$7:$Q$46,$L27))} -> 5900000 | J27: {=IF($L27="","",INDEX('Bảng lương'!$AG$7:$AG$46,$L27))} -> 12978864 | L27: =IFERROR(MATCH(LARGE('Bảng lương'!$AL$7:$AL$46,6),'Bảng lương'!$AL$7:$AL$46,0),"") -> 7
B28: 7 | C28: {=IF($L28="","",INDEX('Bảng lương'!$C$7:$C$46,$L28))} -> Ngô Gia Huy | E28: {=IF($L28="","",INDEX('Bảng lương'!$E$7:$E$46,$L28))} -> Nhóm Miền Nam | F28: {=IF($L28="","",INDEX('Bảng lương'!$J$7:$J$46,$L28))} -> 200000000 | G28: {=IF($L28="","",INDEX('Bảng lương'!$K$7:$K$46,$L28))} -> 188000000 | H28: {=IF($L28="","",INDEX('Bảng lương'!$L$7:$L$46,$L28))} -> 0.94 | I28: {=IF($L28="","",INDEX('Bảng lương'!$N$7:$N$46,$L28)+INDEX('Bảng lương'!$O$7:$O$46,$L28)+INDEX('Bảng lương'!$Q$7:$Q$46,$L28))} -> 3920000 | J28: {=IF($L28="","",INDEX('Bảng lương'!$AG$7:$AG$46,$L28))} -> 13705000 | L28: =IFERROR(MATCH(LARGE('Bảng lương'!$AL$7:$AL$46,7),'Bảng lương'!$AL$7:$AL$46,0),"") -> 9
B29: 8 | C29: {=IF($L29="","",INDEX('Bảng lương'!$C$7:$C$46,$L29))} -> Phạm Thu Hà | E29: {=IF($L29="","",INDEX('Bảng lương'!$E$7:$E$46,$L29))} -> Nhóm Miền Bắc | F29: {=IF($L29="","",INDEX('Bảng lương'!$J$7:$J$46,$L29))} -> 200000000 | G29: {=IF($L29="","",INDEX('Bảng lương'!$K$7:$K$46,$L29))} -> 168000000 | H29: {=IF($L29="","",INDEX('Bảng lương'!$L$7:$L$46,$L29))} -> 0.84 | I29: {=IF($L29="","",INDEX('Bảng lương'!$N$7:$N$46,$L29)+INDEX('Bảng lương'!$O$7:$O$46,$L29)+INDEX('Bảng lương'!$Q$7:$Q$46,$L29))} -> 2080000 | J29: {=IF($L29="","",INDEX('Bảng lương'!$AG$7:$AG$46,$L29))} -> 11865000 | L29: =IFERROR(MATCH(LARGE('Bảng lương'!$AL$7:$AL$46,8),'Bảng lương'!$AL$7:$AL$46,0),"") -> 4
B30: 9 | C30: {=IF($L30="","",INDEX('Bảng lương'!$C$7:$C$46,$L30))} -> Đỗ Khánh Linh | E30: {=IF($L30="","",INDEX('Bảng lương'!$E$7:$E$46,$L30))} -> Nhóm Miền Nam | F30: {=IF($L30="","",INDEX('Bảng lương'!$J$7:$J$46,$L30))} -> 160000000 | G30: {=IF($L30="","",INDEX('Bảng lương'!$K$7:$K$46,$L30))} -> 150000000 | H30: {=IF($L30="","",INDEX('Bảng lương'!$L$7:$L$46,$L30))} -> 0.9375 | I30: {=IF($L30="","",INDEX('Bảng lương'!$N$7:$N$46,$L30)+INDEX('Bảng lương'!$O$7:$O$46,$L30)+INDEX('Bảng lương'!$Q$7:$Q$46,$L30))} -> 3750000 | J30: {=IF($L30="","",INDEX('Bảng lương'!$AG$7:$AG$46,$L30))} -> 13480000 | L30: =IFERROR(MATCH(LARGE('Bảng lương'!$AL$7:$AL$46,9),'Bảng lương'!$AL$7:$AL$46,0),"") -> 10
B31: 10 | C31: {=IF($L31="","",INDEX('Bảng lương'!$C$7:$C$46,$L31))} -> Võ Thị Mai Anh | E31: {=IF($L31="","",INDEX('Bảng lương'!$E$7:$E$46,$L31))} -> Nhóm Miền Trung | F31: {=IF($L31="","",INDEX('Bảng lương'!$J$7:$J$46,$L31))} -> 180000000 | G31: {=IF($L31="","",INDEX('Bảng lương'!$K$7:$K$46,$L31))} -> 110000000 | H31: {=IF($L31="","",INDEX('Bảng lương'!$L$7:$L$46,$L31))} -> 0.61111111 | I31: {=IF($L31="","",INDEX('Bảng lương'!$N$7:$N$46,$L31)+INDEX('Bảng lương'!$O$7:$O$46,$L31)+INDEX('Bảng lương'!$Q$7:$Q$46,$L31))} -> 200000 | J31: {=IF($L31="","",INDEX('Bảng lương'!$AG$7:$AG$46,$L31))} -> 9337500 | L31: =IFERROR(MATCH(LARGE('Bảng lương'!$AL$7:$AL$46,10),'Bảng lương'!$AL$7:$AL$46,0),"") -> 6
B33: CƠ CẤU THU NHẬP
B34: Khoản mục | E34: Số tiền (VNĐ) | G34: Tỷ trọng
B35: Lương theo ngày công | E35: ='Bảng lương'!I6 -> 125840909 | G35: =IF($E$39=0,0,E35/$E$39) -> 0.57080709
B36: Hoa hồng bán hàng | E36: ='Bảng lương'!N6 -> 54220000 | G36: =IF($E$39=0,0,E36/$E$39) -> 0.24593878
B37: Thưởng (thành tích + KH mới + khác) | E37: ='Bảng lương'!O6+'Bảng lương'!Q6+'Bảng lương'!T6 -> 20700000 | G37: =IF($E$39=0,0,E37/$E$39) -> 0.093894003
B38: Phụ cấp (ăn trưa + khác) | E38: ='Bảng lương'!R6+'Bảng lương'!S6 -> 19700455 | G38: =IF($E$39=0,0,E38/$E$39) -> 0.089360125
B39: TỔNG THU NHẬP | E39: =SUM(E35:E38) -> 220461364 | G39: =IF(E39=0,0,1) -> 1

Sheet Cài đặt
B1: THIẾT LẬP CHUNG & THAM SỐ BẢNG LƯƠNG
B2: Chỉ nhập vào ô chữ xanh, nền cam nhạt. Các ô khác tự động tính. Các mức luật định có thể thay đổi – hãy kiểm tra lại khi có quy định mới.
B3: THÔNG TIN CHUNG | F3: BIỂU THUẾ LŨY TIẾN TỪNG PHẦN (5 BẬC)
B4: Tên công ty | C4: Công ty CP Thương mại ABC | F4: Bậc | G4: Thu nhập tính thuế từ (VNĐ/tháng) | H4: Đến (VNĐ/tháng) | I4: Thuế suất | J4: Chênh lệch thuế suất (tự động)
B5: Địa chỉ | C5: 123 Đường Láng, Đống Đa, Hà Nội | F5: 1 | G5: 0 | H5: =G6 -> 10000000 | I5: 0.05 | J5: =I5 -> 0.05
B6: Người lập bảng lương | C6: Nguyễn Thị Lan – Kế toán | F6: 2 | G6: 10000000 | H6: =G7 -> 30000000 | I6: 0.1 | J6: =I6-I5 -> 0.05
B7: KỲ LƯƠNG | F7: 3 | G7: 30000000 | H7: =G8 -> 60000000 | I7: 0.2 | J7: =I7-I6 -> 0.1
B8: Tháng | C8: 10 | D8: Nhập 1 – 12 | F8: 4 | G8: 60000000 | H8: =G9 -> 100000000 | I8: 0.3 | J8: =I8-I7 -> 0.1
B9: Năm | C9: 2026 | F9: 5 | G9: 100000000 | H9: Trên | I9: 0.35 | J9: =I9-I8 -> 0.05
B10: Ngày đầu tháng (tự động) | C10: =DATE(C9,C8,1) -> 46296
B11: Ngày nghỉ hằng tuần | C11: Thứ 7 + Chủ nhật | D11: Chọn trong danh sách | F11: HOA HỒNG & THƯỞNG THÀNH TÍCH THEO % HOÀN THÀNH CHỈ TIÊU
B12: Mẫu ngày nghỉ (tự động) | C12: =IF(C11="Chỉ Chủ nhật","0000001",IF(C11="Không nghỉ","0000000","0000011")) -> 0000011 | F12: Mức | G12: % hoàn thành chỉ tiêu từ | H12: Tỷ lệ hoa hồng (% doanh số) | I12: Thưởng thành tích (VNĐ)
B13: Số ngày nghỉ lễ trong tháng | C13: 0 | D13: Số ngày lễ rơi vào ngày làm việc | F13: 1 | G13: 0 | H13: 0 | I13: 0 | J13: Mức 1 phải bắt đầu từ 0%; sắp xếp tăng dần
B14: Ngày công chuẩn (tự tính) | C14: =_xlfn.NETWORKDAYS.INTL(C10,EOMONTH(C10,0),C12)-C13 -> 22 | D14: Số ngày làm việc trong tháng trừ ngày lễ | F14: 2 | G14: 0.7 | H14: 0.01 | I14: 0
B15: Ngày công chuẩn – ghi đè (tùy chọn) | D15: Để trống để dùng số tự tính; nhập nếu công ty quy định khác (VD 26) | F15: 3 | G15: 0.9 | H15: 0.015 | I15: 500000
B16: Ngày công chuẩn áp dụng | C16: =IF(C15="",C14,C15) -> 22 | D16: Dùng để chia lương theo ngày công | F16: 4 | G16: 1 | H16: 0.02 | I16: 1000000
B17: BẢO HIỂM BẮT BUỘC | F17: 5 | G17: 1.2 | H17: 0.025 | I17: 2500000
B18: BHXH – người lao động | C18: 0.08 | F18: 6 | G18: 1.5 | H18: 0.03 | I18: 5000000
B19: BHYT – người lao động | C19: 0.015
B20: BHTN – người lao động | C20: 0.01 | F20: DANH SÁCH NHÓM KINH DOANH
B21: BHXH – doanh nghiệp | C21: 0.175 | D21: Gồm 0,5% BH tai nạn lao động – bệnh nghề nghiệp | F21: 1 | G21: Nhóm Miền Bắc
B22: BHYT – doanh nghiệp | C22: 0.03 | F22: 2 | G22: Nhóm Miền Trung
B23: BHTN – doanh nghiệp | C23: 0.01 | F23: 3 | G23: Nhóm Miền Nam
B24: Mức lương cơ sở (VNĐ) | C24: 2530000 | D24: Áp dụng từ 01/7/2026 | F24: 4
B25: Lương tối thiểu vùng (VNĐ) | C25: 5310000 | D25: Vùng I theo Nghị định 293/2025/NĐ-CP. Đổi theo vùng của công ty | F25: 5
B26: Trần lương đóng BHXH, BHYT (tự động) | C26: =20*C24 -> 50600000 | D26: Bằng 20 × lương cơ sở
B27: Trần lương đóng BHTN (tự động) | C27: =20*C25 -> 106200000 | D27: Bằng 20 × lương tối thiểu vùng | F27: DANH SÁCH CHỨC DANH
B28: THUẾ TNCN & THƯỞNG | F28: 1 | G28: Giám đốc kinh doanh
B29: Giảm trừ gia cảnh – bản thân (VNĐ/tháng) | C29: 15500000 | D29: Luật Thuế TNCN số 109/2025/QH15, áp dụng từ kỳ tính thuế 2026 | F29: 2 | G29: Trưởng nhóm kinh doanh
B30: Giảm trừ – mỗi người phụ thuộc (VNĐ/tháng) | C30: 6200000 | F30: 3 | G30: Nhân viên kinh doanh
B31: Phụ cấp ăn trưa miễn thuế tối đa (VNĐ/tháng) | C31: 730000 | D31: Phần vượt mức này tính vào thu nhập chịu thuế – kiểm tra theo quy định hiện hành | F31: 4
B32: Thưởng mỗi khách hàng mới (VNĐ) | C32: 200000 | D32: Chính sách riêng của công ty | F32: 5

Sheet Nhân viên
A1: DANH MỤC NHÂN VIÊN KINH DOANH
A2: Nhập thông tin cố định của nhân viên một lần; chỉ cập nhật khi có thay đổi (tăng lương, chỉ tiêu mới, người phụ thuộc…). Tối đa 40 nhân viên.
A3: Mã NV phải duy nhất. Chữ xanh = ô nhập liệu.
A5: STT | B5: Mã NV | C5: Họ và tên | D5: Chức danh | E5: Nhóm | F5: Ngày vào làm | G5: Lương cơ bản (VNĐ) | H5: Tham gia BH | I5: Lương đóng BH (để trống = lương cơ bản) | J5: Phụ cấp ăn trưa (VNĐ/tháng) | K5: Phụ cấp khác – xăng xe, điện thoại (VNĐ/tháng) | L5: Số người phụ thuộc | M5: Chỉ tiêu doanh số tháng (VNĐ) | N5: Mã số thuế | O5: Số tài khoản | P5: Ngân hàng
A6: 1 | B6: NV001 | C6: Nguyễn Minh Tuấn | D6: Giám đốc kinh doanh | E6: Nhóm Miền Bắc | F6: 44256 | G6: 30000000 | H6: Có | I6: 25000000 | J6: 730000 | K6: 2000000 | L6: 2 | M6: 500000000 | N6: 8123456701 | O6: 0011002233445 | P6: Vietcombank
A7: 2 | B7: NV002 | C7: Trần Thị Hồng Nhung | D7: Trưởng nhóm kinh doanh | E7: Nhóm Miền Bắc | F7: 44727 | G7: 15000000 | H7: Có | I7: 15000000 | J7: 730000 | K7: 1500000 | L7: 1 | M7: 300000000 | N7: 8123456702 | O7: 0021003344556 | P7: Techcombank
A8: 3 | B8: NV003 | C8: Lê Quốc Bảo | D8: Nhân viên kinh doanh | E8: Nhóm Miền Bắc | F8: 44958 | G8: 9000000 | H8: Có | I8: 9000000 | J8: 730000 | K8: 1000000 | L8: 0 | M8: 200000000 | N8: 8123456703 | O8: 0031004455667 | P8: MB Bank
A9: 4 | B9: NV004 | C9: Phạm Thu Hà | D9: Nhân viên kinh doanh | E9: Nhóm Miền Bắc | F9: 45179 | G9: 9000000 | H9: Có | I9: 9000000 | J9: 730000 | K9: 1000000 | L9: 0 | M9: 200000000 | N9: 8123456704 | O9: 0041005566778 | P9: BIDV
A10: 5 | B10: NV005 | C10: Hoàng Đức Anh | D10: Trưởng nhóm kinh doanh | E10: Nhóm Miền Trung | F10: 44571 | G10: 14000000 | H10: Có | I10: 14000000 | J10: 730000 | K10: 1500000 | L10: 2 | M10: 280000000 | N10: 8123456705 | O10: 0051006677889 | P10: Vietcombank
A11: 6 | B11: NV006 | C11: Võ Thị Mai Anh | D11: Nhân viên kinh doanh | E11: Nhóm Miền Trung | F11: 45355 | G11: 8500000 | H11: Có | I11: 8500000 | J11: 730000 | K11: 1000000 | L11: 0 | M11: 180000000 | N11: 8123456706 | O11: 0061007788990 | P11: Agribank
A12: 7 | B12: NV007 | C12: Đặng Văn Khoa | D12: Nhân viên kinh doanh | E12: Nhóm Miền Trung | F12: 45474 | G12: 8500000 | H12: Có | I12: 8500000 | J12: 730000 | K12: 1000000 | L12: 0 | M12: 180000000 | N12: 8123456707 | O12: 0071008899001 | P12: Techcombank
A13: 8 | B13: NV008 | C13: Bùi Thanh Hằng | D13: Trưởng nhóm kinh doanh | E13: Nhóm Miền Nam | F13: 44520 | G13: 16000000 | H13: Có | I13: 16000000 | J13: 730000 | K13: 1500000 | L13: 1 | M13: 320000000 | N13: 8123456708 | O13: 0081009900112 | P13: ACB
A14: 9 | B14: NV009 | C14: Ngô Gia Huy | D14: Nhân viên kinh doanh | E14: Nhóm Miền Nam | F14: 45663 | G14: 9000000 | H14: Có | I14: 9000000 | J14: 730000 | K14: 1000000 | L14: 0 | M14: 200000000 | N14: 8123456709 | O14: 0091001011223 | P14: Vietcombank
A15: 10 | B15: NV010 | C15: Đỗ Khánh Linh | D15: Nhân viên kinh doanh | E15: Nhóm Miền Nam | F15: 45887 | G15: 8000000 | H15: Không | J15: 730000 | K15: 1000000 | L15: 0 | M15: 160000000 | N15: 8123456710 | O15: 0101001122334 | P15: VPBank
A16: 11
A17: 12
A18: 13
A19: 14
A20: 15
A21: 16
A22: 17
A23: 18
A24: 19
A25: 20
A26: 21
A27: 22
... A45: 40

Sheet Dữ liệu tháng
A1: DỮ LIỆU CHẤM CÔNG & DOANH SỐ THÁNG
A2: ="Kỳ lương: Tháng "&'Cài đặt'!C8&"/"&'Cài đặt'!C9&" | Ngày công chuẩn: "&Std_Days -> Kỳ lương: Tháng 10/2026 | Ngày công chuẩn: 22
A3: Mỗi tháng chỉ cần cập nhật bảng này: chọn Mã NV rồi nhập ngày công, doanh số, khách hàng mới, thưởng và khấu trừ. Bảng lương tự tính.
A5: STT | B5: Mã NV | C5: Họ và tên (tự động) | D5: Ngày công thực tế | E5: Nghỉ phép hưởng lương (ngày) | F5: Doanh số thực hiện (VNĐ) | G5: Số khách hàng mới | H5: Thưởng khác (VNĐ) | I5: Tạm ứng (VNĐ) | J5: Khấu trừ khác (VNĐ) | K5: Ghi chú
A6: 1 | B6: NV001 | C6: {=IF(B6="","",IFERROR(INDEX('Nhân viên'!$C$6:$C$45,MATCH(B6,'Nhân viên'!$B$6:$B$45,0)),"⚠ Mã NV không tồn tại"))} -> Nguyễn Minh Tuấn | D6: 22 | E6: 0 | F6: 560000000 | G6: 6 | H6: 0 | I6: 0 | J6: 0
A7: 2 | B7: NV002 | C7: {=IF(B7="","",IFERROR(INDEX('Nhân viên'!$C$6:$C$45,MATCH(B7,'Nhân viên'!$B$6:$B$45,0)),"⚠ Mã NV không tồn tại"))} -> Trần Thị Hồng Nhung | D7: 22 | E7: 0 | F7: 345000000 | G7: 5 | H7: 500000 | I7: 0 | J7: 0 | K7: Thưởng nóng hợp đồng lớn
A8: 3 | B8: NV003 | C8: {=IF(B8="","",IFERROR(INDEX('Nhân viên'!$C$6:$C$45,MATCH(B8,'Nhân viên'!$B$6:$B$45,0)),"⚠ Mã NV không tồn tại"))} -> Lê Quốc Bảo | D8: 21 | E8: 1 | F8: 214000000 | G8: 4 | H8: 0 | I8: 2000000 | J8: 0
A9: 4 | B9: NV004 | C9: {=IF(B9="","",IFERROR(INDEX('Nhân viên'!$C$6:$C$45,MATCH(B9,'Nhân viên'!$B$6:$B$45,0)),"⚠ Mã NV không tồn tại"))} -> Phạm Thu Hà | D9: 22 | E9: 0 | F9: 168000000 | G9: 2 | H9: 0 | I9: 0 | J9: 0
A10: 5 | B10: NV005 | C10: {=IF(B10="","",IFERROR(INDEX('Nhân viên'!$C$6:$C$45,MATCH(B10,'Nhân viên'!$B$6:$B$45,0)),"⚠ Mã NV không tồn tại"))} -> Hoàng Đức Anh | D10: 20 | E10: 2 | F10: 292000000 | G10: 3 | H10: 0 | I10: 0 | J10: 0
A11: 6 | B11: NV006 | C11: {=IF(B11="","",IFERROR(INDEX('Nhân viên'!$C$6:$C$45,MATCH(B11,'Nhân viên'!$B$6:$B$45,0)),"⚠ Mã NV không tồn tại"))} -> Võ Thị Mai Anh | D11: 22 | E11: 0 | F11: 110000000 | G11: 1 | H11: 0 | I11: 0 | J11: 200000 | K11: Phạt đi muộn
A12: 7 | B12: NV007 | C12: {=IF(B12="","",IFERROR(INDEX('Nhân viên'!$C$6:$C$45,MATCH(B12,'Nhân viên'!$B$6:$B$45,0)),"⚠ Mã NV không tồn tại"))} -> Đặng Văn Khoa | D12: 19 | E12: 0 | F12: 205000000 | G12: 4 | H12: 0 | I12: 1000000 | J12: 0 | K12: Nghỉ không lương 3 ngày
A13: 8 | B13: NV008 | C13: {=IF(B13="","",IFERROR(INDEX('Nhân viên'!$C$6:$C$45,MATCH(B13,'Nhân viên'!$B$6:$B$45,0)),"⚠ Mã NV không tồn tại"))} -> Bùi Thanh Hằng | D13: 22 | E13: 0 | F13: 505000000 | G13: 8 | H13: 1000000 | I13: 0 | J13: 0
A14: 9 | B14: NV009 | C14: {=IF(B14="","",IFERROR(INDEX('Nhân viên'!$C$6:$C$45,MATCH(B14,'Nhân viên'!$B$6:$B$45,0)),"⚠ Mã NV không tồn tại"))} -> Ngô Gia Huy | D14: 22 | E14: 0 | F14: 188000000 | G14: 3 | H14: 0 | I14: 0 | J14: 0
A15: 10 | B15: NV010 | C15: {=IF(B15="","",IFERROR(INDEX('Nhân viên'!$C$6:$C$45,MATCH(B15,'Nhân viên'!$B$6:$B$45,0)),"⚠ Mã NV không tồn tại"))} -> Đỗ Khánh Linh | D15: 22 | E15: 0 | F15: 150000000 | G15: 5 | H15: 0 | I15: 0 | J15: 0 | K15: Đang thử việc – chưa đóng BH
A16: 11 | C16: {=IF(B16="","",IFERROR(INDEX('Nhân viên'!$C$6:$C$45,MATCH(B16,'Nhân viên'!$B$6:$B$45,0)),"⚠ Mã NV không tồn tại"))}
A17: 12 | C17: {=IF(B17="","",IFERROR(INDEX('Nhân viên'!$C$6:$C$45,MATCH(B17,'Nhân viên'!$B$6:$B$45,0)),"⚠ Mã NV không tồn tại"))}
A18: 13 | C18: {=IF(B18="","",IFERROR(INDEX('Nhân viên'!$C$6:$C$45,MATCH(B18,'Nhân viên'!$B$6:$B$45,0)),"⚠ Mã NV không tồn tại"))}
A19: 14 | C19: {=IF(B19="","",IFERROR(INDEX('Nhân viên'!$C$6:$C$45,MATCH(B19,'Nhân viên'!$B$6:$B$45,0)),"⚠ Mã NV không tồn tại"))}
A20: 15 | C20: {=IF(B20="","",IFERROR(INDEX('Nhân viên'!$C$6:$C$45,MATCH(B20,'Nhân viên'!$B$6:$B$45,0)),"⚠ Mã NV không tồn tại"))}
A21: 16 | C21: {=IF(B21="","",IFERROR(INDEX('Nhân viên'!$C$6:$C$45,MATCH(B21,'Nhân viên'!$B$6:$B$45,0)),"⚠ Mã NV không tồn tại"))}
A22: 17 | C22: {=IF(B22="","",IFERROR(INDEX('Nhân viên'!$C$6:$C$45,MATCH(B22,'Nhân viên'!$B$6:$B$45,0)),"⚠ Mã NV không tồn tại"))}
A23: 18 | C23: {=IF(B23="","",IFERROR(INDEX('Nhân viên'!$C$6:$C$45,MATCH(B23,'Nhân viên'!$B$6:$B$45,0)),"⚠ Mã NV không tồn tại"))}
A24: 19 | C24: {=IF(B24="","",IFERROR(INDEX('Nhân viên'!$C$6:$C$45,MATCH(B24,'Nhân viên'!$B$6:$B$45,0)),"⚠ Mã NV không tồn tại"))}
A25: 20 | C25: {=IF(B25="","",IFERROR(INDEX('Nhân viên'!$C$6:$C$45,MATCH(B25,'Nhân viên'!$B$6:$B$45,0)),"⚠ Mã NV không tồn tại"))}
A26: 21 | C26: {=IF(B26="","",IFERROR(INDEX('Nhân viên'!$C$6:$C$45,MATCH(B26,'Nhân viên'!$B$6:$B$45,0)),"⚠ Mã NV không tồn tại"))}
A27: 22 | C27: {=IF(B27="","",IFERROR(INDEX('Nhân viên'!$C$6:$C$45,MATCH(B27,'Nhân viên'!$B$6:$B$45,0)),"⚠ Mã NV không tồn tại"))}
... A45: 40 | C45: {=IF(B45="","",IFERROR(INDEX('Nhân viên'!$C$6:$C$45,MATCH(B45,'Nhân viên'!$B$6:$B$45,0)),"⚠ Mã NV không tồn tại"))}

Sheet Bảng lương
A1: BẢNG LƯƠNG NHÂN VIÊN KINH DOANH
A2: ="Kỳ lương: Tháng "&'Cài đặt'!C8&"/"&'Cài đặt'!C9&" | "&'Cài đặt'!C4 -> Kỳ lương: Tháng 10/2026 | Công ty CP Thương mại ABC
A3: ="Ngày công chuẩn: "&Std_Days&" · Đơn vị tiền: VNĐ · Bảng tự động tính từ sheet Nhân viên + Dữ liệu tháng + Cài đặt (không nhập tay vào bảng này)" -> Ngày công chuẩn: 22 · Đơn vị tiền: VNĐ · Bảng tự động tính từ sheet Nhân viên + Dữ liệu tháng + Cài đặt (không nhập tay vào bảng này)
A4: THÔNG TIN NHÂN VIÊN | F4: LƯƠNG & NGÀY CÔNG | J4: KINH DOANH & HOA HỒNG | R4: PHỤ CẤP & TỔNG THU NHẬP | V4: BẢO HIỂM BẮT BUỘC (NLĐ) | AA4: THUẾ THU NHẬP CÁ NHÂN | AE4: KHẤU TRỪ & THỰC LĨNH | AH4: CHI PHÍ DOANH NGHIỆP
A5: STT | B5: Mã NV | C5: Họ và tên | D5: Chức danh | E5: Nhóm | F5: Lương cơ bản | G5: Ngày công chuẩn | H5: Ngày công hưởng lương | I5: Lương theo ngày công | J5: Chỉ tiêu doanh số | K5: Doanh số thực hiện | L5: % hoàn thành | M5: Tỷ lệ hoa hồng | N5: Hoa hồng | O5: Thưởng thành tích | P5: KH mới | Q5: Thưởng KH mới | R5: Phụ cấp ăn trưa | S5: Phụ cấp khác | T5: Thưởng khác | U5: TỔNG THU NHẬP | V5: Lương đóng BH | W5: BHXH (8%) | X5: BHYT (1,5%) | Y5: BHTN (1%) | Z5: Tổng BH người LĐ | AA5: Thu nhập miễn thuế | AB5: Giảm trừ gia cảnh | AC5: Thu nhập tính thuế | AD5: Thuế TNCN | AE5: Tạm ứng | AF5: Khấu trừ khác | AG5: THỰC LĨNH | AH5: BH phần doanh nghiệp | AI5: Tổng chi phí doanh nghiệp | AJ5: Ghi chú
A6: TỔNG CỘNG | F6: =SUM(F7:F46) -> 127000000 | I6: =SUM(I7:I46) -> 125840909 | J6: =SUM(J7:J46) -> 2520000000 | K6: =SUM(K7:K46) -> 2737000000 | L6: =IF(J6>0,K6/J6,0) -> 1.0861111 | N6: =SUM(N7:N46) -> 54220000 | O6: =SUM(O7:O46) -> 11000000 | P6: =SUM(P7:P46) -> 41 | Q6: =SUM(Q7:Q46) -> 8200000 | R6: =SUM(R7:R46) -> 7200455 | S6: =SUM(S7:S46) -> 12500000 | T6: =SUM(T7:T46) -> 1500000 | U6: =SUM(U7:U46) -> 220461364 | ... AI6: =SUM(AI7:AI46) -> 244971364
A7: =IF($B7="","",ROW()-6) -> 1 | B7: =IF('Dữ liệu tháng'!B6="","",'Dữ liệu tháng'!B6) -> NV001 | C7: {=IF($B7="","",IF($AK7="","⚠ Mã NV không tồn tại",INDEX('Nhân viên'!$C$6:$C$45,$AK7)))} -> Nguyễn Minh Tuấn | D7: {=IF($AK7="","",INDEX('Nhân viên'!$D$6:$D$45,$AK7)&"")} -> Giám đốc kinh doanh | E7: {=IF($AK7="","",INDEX('Nhân viên'!$E$6:$E$45,$AK7)&"")} -> Nhóm Miền Bắc | F7: {=IF($AK7="","",N(INDEX('Nhân viên'!$G$6:$G$45,$AK7)))} -> 30000000 | G7: =IF($AK7="","",Std_Days) -> 22 | H7: =IF($AK7="","",MIN(G7,N('Dữ liệu tháng'!D6)+N('Dữ liệu tháng'!E6))) -> 22 | I7: =IF($AK7="","",ROUND(F7/G7*H7,0)) -> 30000000 | J7: {=IF($AK7="","",N(INDEX('Nhân viên'!$M$6:$M$45,$AK7)))} -> 500000000 | K7: =IF($AK7="","",N('Dữ liệu tháng'!F6)) -> 560000000 | L7: =IF($AK7="","",IF(J7>0,K7/J7,0)) -> 1.12 | M7: {=IF($AK7="","",INDEX(Com_Rate,MATCH(L7,Com_From,1)))} -> 0.02 | N7: =IF($AK7="","",ROUND(K7*M7,0)) -> 11200000 | O7: {=IF($AK7="","",INDEX(Com_Bonus,MATCH(L7,Com_From,1)))} -> 1000000 | P7: =IF($AK7="","",N('Dữ liệu tháng'!G6)) -> 6 | Q7: =IF($AK7="","",P7*New_Cust_Bonus) -> 1200000 | R7: {=IF($AK7="","",ROUND(N(INDEX('Nhân viên'!$J$6:$J$45,$AK7))/G7*H7,0))} -> 730000 | S7: {=IF($AK7="","",N(INDEX('Nhân viên'!$K$6:$K$45,$AK7)))} -> 2000000 | T7: =IF($AK7="","",N('Dữ liệu tháng'!H6)) -> 0 | U7: =IF($AK7="","",I7+N7+O7+Q7+R7+S7+T7) -> 46130000 | V7: {=IF($AK7="","",IF(INDEX('Nhân viên'!$H$6:$H$45,$AK7)="Có",IF(N(INDEX('Nhân viên'!$I$6:$I$45,$AK7))>0,INDEX('Nhân viên'!$I$6:$I$45,$AK7),F7),0))} -> 25000000 | W7: =IF($AK7="","",ROUND(MIN(V7,Cap_BHXH)*BHXH_NV,0)) -> 2000000 | X7: =IF($AK7="","",ROUND(MIN(V7,Cap_BHXH)*BHYT_NV,0)) -> 375000 | Y7: =IF($AK7="","",ROUND(MIN(V7,Cap_BHTN)*BHTN_NV,0)) -> 250000 | Z7: =IF($AK7="","",W7+X7+Y7) -> 2625000 | AA7: =IF($AK7="","",MIN(R7,Lunch_Cap)) -> 730000 | AB7: {=IF($AK7="","",Self_Ded+N(INDEX('Nhân viên'!$L$6:$L$45,$AK7))*Dep_Ded)} -> 27900000 | AC7: =IF($AK7="","",MAX(0,U7-AA7-Z7-AB7)) -> 14875000 | AD7: =IF($AK7="","",ROUND(SUMPRODUCT((AC7>Tax_From)*(AC7-Tax_From)*Tax_Delta),0)) -> 987500 | AE7: =IF($AK7="","",N('Dữ liệu tháng'!I6)) -> 0 | AF7: =IF($AK7="","",N('Dữ liệu tháng'!J6)) -> 0 | AG7: =IF($AK7="","",U7-Z7-AD7-AE7-AF7) -> 42517500 | AH7: =IF($AK7="","",ROUND(MIN(V7,Cap_BHXH)*(BHXH_DN+BHYT_DN)+MIN(V7,Cap_BHTN)*BHTN_DN,0)) -> 5375000 | AI7: =IF($AK7="","",U7+AH7) -> 51505000 | AJ7: =IF($B7="","",'Dữ liệu tháng'!K6&"") | AK7: =IF($B7="","",IFERROR(MATCH($B7,'Nhân viên'!$B$6:$B$45,0),"")) -> 1 | AL7: =IF($AK7="","",K7+ROW()/1000000) -> 560000000
A8: =IF($B8="","",ROW()-6) -> 2 | B8: =IF('Dữ liệu tháng'!B7="","",'Dữ liệu tháng'!B7) -> NV002 | C8: {=IF($B8="","",IF($AK8="","⚠ Mã NV không tồn tại",INDEX('Nhân viên'!$C$6:$C$45,$AK8)))} -> Trần Thị Hồng Nhung | D8: {=IF($AK8="","",INDEX('Nhân viên'!$D$6:$D$45,$AK8)&"")} -> Trưởng nhóm kinh doanh | E8: {=IF($AK8="","",INDEX('Nhân viên'!$E$6:$E$45,$AK8)&"")} -> Nhóm Miền Bắc | F8: {=IF($AK8="","",N(INDEX('Nhân viên'!$G$6:$G$45,$AK8)))} -> 15000000 | G8: =IF($AK8="","",Std_Days) -> 22 | H8: =IF($AK8="","",MIN(G8,N('Dữ liệu tháng'!D7)+N('Dữ liệu tháng'!E7))) -> 22 | I8: =IF($AK8="","",ROUND(F8/G8*H8,0)) -> 15000000 | J8: {=IF($AK8="","",N(INDEX('Nhân viên'!$M$6:$M$45,$AK8)))} -> 300000000 | K8: =IF($AK8="","",N('Dữ liệu tháng'!F7)) -> 345000000 | L8: =IF($AK8="","",IF(J8>0,K8/J8,0)) -> 1.15 | M8: {=IF($AK8="","",INDEX(Com_Rate,MATCH(L8,Com_From,1)))} -> 0.02 | N8: =IF($AK8="","",ROUND(K8*M8,0)) -> 6900000 | O8: {=IF($AK8="","",INDEX(Com_Bonus,MATCH(L8,Com_From,1)))} -> 1000000 | P8: =IF($AK8="","",N('Dữ liệu tháng'!G7)) -> 5 | Q8: =IF($AK8="","",P8*New_Cust_Bonus) -> 1000000 | R8: {=IF($AK8="","",ROUND(N(INDEX('Nhân viên'!$J$6:$J$45,$AK8))/G8*H8,0))} -> 730000 | S8: {=IF($AK8="","",N(INDEX('Nhân viên'!$K$6:$K$45,$AK8)))} -> 1500000 | T8: =IF($AK8="","",N('Dữ liệu tháng'!H7)) -> 500000 | U8: =IF($AK8="","",I8+N8+O8+Q8+R8+S8+T8) -> 26630000 | V8: {=IF($AK8="","",IF(INDEX('Nhân viên'!$H$6:$H$45,$AK8)="Có",IF(N(INDEX('Nhân viên'!$I$6:$I$45,$AK8))>0,INDEX('Nhân viên'!$I$6:$I$45,$AK8),F8),0))} -> 15000000 | W8: =IF($AK8="","",ROUND(MIN(V8,Cap_BHXH)*BHXH_NV,0)) -> 1200000 | X8: =IF($AK8="","",ROUND(MIN(V8,Cap_BHXH)*BHYT_NV,0)) -> 225000 | Y8: =IF($AK8="","",ROUND(MIN(V8,Cap_BHTN)*BHTN_NV,0)) -> 150000 | Z8: =IF($AK8="","",W8+X8+Y8) -> 1575000 | AA8: =IF($AK8="","",MIN(R8,Lunch_Cap)) -> 730000 | AB8: {=IF($AK8="","",Self_Ded+N(INDEX('Nhân viên'!$L$6:$L$45,$AK8))*Dep_Ded)} -> 21700000 | AC8: =IF($AK8="","",MAX(0,U8-AA8-Z8-AB8)) -> 2625000 | AD8: =IF($AK8="","",ROUND(SUMPRODUCT((AC8>Tax_From)*(AC8-Tax_From)*Tax_Delta),0)) -> 131250 | AE8: =IF($AK8="","",N('Dữ liệu tháng'!I7)) -> 0 | AF8: =IF($AK8="","",N('Dữ liệu tháng'!J7)) -> 0 | AG8: =IF($AK8="","",U8-Z8-AD8-AE8-AF8) -> 24923750 | AH8: =IF($AK8="","",ROUND(MIN(V8,Cap_BHXH)*(BHXH_DN+BHYT_DN)+MIN(V8,Cap_BHTN)*BHTN_DN,0)) -> 3225000 | AI8: =IF($AK8="","",U8+AH8) -> 29855000 | AJ8: =IF($B8="","",'Dữ liệu tháng'!K7&"") -> Thưởng nóng hợp đồng lớn | AK8: =IF($B8="","",IFERROR(MATCH($B8,'Nhân viên'!$B$6:$B$45,0),"")) -> 2 | AL8: =IF($AK8="","",K8+ROW()/1000000) -> 345000000
A9: =IF($B9="","",ROW()-6) -> 3 | B9: =IF('Dữ liệu tháng'!B8="","",'Dữ liệu tháng'!B8) -> NV003 | C9: {=IF($B9="","",IF($AK9="","⚠ Mã NV không tồn tại",INDEX('Nhân viên'!$C$6:$C$45,$AK9)))} -> Lê Quốc Bảo | D9: {=IF($AK9="","",INDEX('Nhân viên'!$D$6:$D$45,$AK9)&"")} -> Nhân viên kinh doanh | E9: {=IF($AK9="","",INDEX('Nhân viên'!$E$6:$E$45,$AK9)&"")} -> Nhóm Miền Bắc | F9: {=IF($AK9="","",N(INDEX('Nhân viên'!$G$6:$G$45,$AK9)))} -> 9000000 | G9: =IF($AK9="","",Std_Days) -> 22 | H9: =IF($AK9="","",MIN(G9,N('Dữ liệu tháng'!D8)+N('Dữ liệu tháng'!E8))) -> 22 | I9: =IF($AK9="","",ROUND(F9/G9*H9,0)) -> 9000000 | J9: {=IF($AK9="","",N(INDEX('Nhân viên'!$M$6:$M$45,$AK9)))} -> 200000000 | K9: =IF($AK9="","",N('Dữ liệu tháng'!F8)) -> 214000000 | L9: =IF($AK9="","",IF(J9>0,K9/J9,0)) -> 1.07 | M9: {=IF($AK9="","",INDEX(Com_Rate,MATCH(L9,Com_From,1)))} -> 0.02 | N9: =IF($AK9="","",ROUND(K9*M9,0)) -> 4280000 | O9: {=IF($AK9="","",INDEX(Com_Bonus,MATCH(L9,Com_From,1)))} -> 1000000 | P9: =IF($AK9="","",N('Dữ liệu tháng'!G8)) -> 4 | Q9: =IF($AK9="","",P9*New_Cust_Bonus) -> 800000 | R9: {=IF($AK9="","",ROUND(N(INDEX('Nhân viên'!$J$6:$J$45,$AK9))/G9*H9,0))} -> 730000 | S9: {=IF($AK9="","",N(INDEX('Nhân viên'!$K$6:$K$45,$AK9)))} -> 1000000 | T9: =IF($AK9="","",N('Dữ liệu tháng'!H8)) -> 0 | U9: =IF($AK9="","",I9+N9+O9+Q9+R9+S9+T9) -> 16810000 | V9: {=IF($AK9="","",IF(INDEX('Nhân viên'!$H$6:$H$45,$AK9)="Có",IF(N(INDEX('Nhân viên'!$I$6:$I$45,$AK9))>0,INDEX('Nhân viên'!$I$6:$I$45,$AK9),F9),0))} -> 9000000 | W9: =IF($AK9="","",ROUND(MIN(V9,Cap_BHXH)*BHXH_NV,0)) -> 720000 | X9: =IF($AK9="","",ROUND(MIN(V9,Cap_BHXH)*BHYT_NV,0)) -> 135000 | Y9: =IF($AK9="","",ROUND(MIN(V9,Cap_BHTN)*BHTN_NV,0)) -> 90000 | Z9: =IF($AK9="","",W9+X9+Y9) -> 945000 | AA9: =IF($AK9="","",MIN(R9,Lunch_Cap)) -> 730000 | AB9: {=IF($AK9="","",Self_Ded+N(INDEX('Nhân viên'!$L$6:$L$45,$AK9))*Dep_Ded)} -> 15500000 | AC9: =IF($AK9="","",MAX(0,U9-AA9-Z9-AB9)) -> 0 | AD9: =IF($AK9="","",ROUND(SUMPRODUCT((AC9>Tax_From)*(AC9-Tax_From)*Tax_Delta),0)) -> 0 | AE9: =IF($AK9="","",N('Dữ liệu tháng'!I8)) -> 2000000 | AF9: =IF($AK9="","",N('Dữ liệu tháng'!J8)) -> 0 | AG9: =IF($AK9="","",U9-Z9-AD9-AE9-AF9) -> 13865000 | AH9: =IF($AK9="","",ROUND(MIN(V9,Cap_BHXH)*(BHXH_DN+BHYT_DN)+MIN(V9,Cap_BHTN)*BHTN_DN,0)) -> 1935000 | AI9: =IF($AK9="","",U9+AH9) -> 18745000 | AJ9: =IF($B9="","",'Dữ liệu tháng'!K8&"") | AK9: =IF($B9="","",IFERROR(MATCH($B9,'Nhân viên'!$B$6:$B$45,0),"")) -> 3 | AL9: =IF($AK9="","",K9+ROW()/1000000) -> 214000000
A10: =IF($B10="","",ROW()-6) -> 4 | B10: =IF('Dữ liệu tháng'!B9="","",'Dữ liệu tháng'!B9) -> NV004 | C10: {=IF($B10="","",IF($AK10="","⚠ Mã NV không tồn tại",INDEX('Nhân viên'!$C$6:$C$45,$AK10)))} -> Phạm Thu Hà | D10: {=IF($AK10="","",INDEX('Nhân viên'!$D$6:$D$45,$AK10)&"")} -> Nhân viên kinh doanh | E10: {=IF($AK10="","",INDEX('Nhân viên'!$E$6:$E$45,$AK10)&"")} -> Nhóm Miền Bắc | F10: {=IF($AK10="","",N(INDEX('Nhân viên'!$G$6:$G$45,$AK10)))} -> 9000000 | G10: =IF($AK10="","",Std_Days) -> 22 | H10: =IF($AK10="","",MIN(G10,N('Dữ liệu tháng'!D9)+N('Dữ liệu tháng'!E9))) -> 22 | I10: =IF($AK10="","",ROUND(F10/G10*H10,0)) -> 9000000 | J10: {=IF($AK10="","",N(INDEX('Nhân viên'!$M$6:$M$45,$AK10)))} -> 200000000 | K10: =IF($AK10="","",N('Dữ liệu tháng'!F9)) -> 168000000 | L10: =IF($AK10="","",IF(J10>0,K10/J10,0)) -> 0.84 | M10: {=IF($AK10="","",INDEX(Com_Rate,MATCH(L10,Com_From,1)))} -> 0.01 | N10: =IF($AK10="","",ROUND(K10*M10,0)) -> 1680000 | O10: {=IF($AK10="","",INDEX(Com_Bonus,MATCH(L10,Com_From,1)))} -> 0 | P10: =IF($AK10="","",N('Dữ liệu tháng'!G9)) -> 2 | Q10: =IF($AK10="","",P10*New_Cust_Bonus) -> 400000 | R10: {=IF($AK10="","",ROUND(N(INDEX('Nhân viên'!$J$6:$J$45,$AK10))/G10*H10,0))} -> 730000 | S10: {=IF($AK10="","",N(INDEX('Nhân viên'!$K$6:$K$45,$AK10)))} -> 1000000 | T10: =IF($AK10="","",N('Dữ liệu tháng'!H9)) -> 0 | U10: =IF($AK10="","",I10+N10+O10+Q10+R10+S10+T10) -> 12810000 | V10: {=IF($AK10="","",IF(INDEX('Nhân viên'!$H$6:$H$45,$AK10)="Có",IF(N(INDEX('Nhân viên'!$I$6:$I$45,$AK10))>0,INDEX('Nhân viên'!$I$6:$I$45,$AK10),F10),0))} -> 9000000 | W10: =IF($AK10="","",ROUND(MIN(V10,Cap_BHXH)*BHXH_NV,0)) -> 720000 | X10: =IF($AK10="","",ROUND(MIN(V10,Cap_BHXH)*BHYT_NV,0)) -> 135000 | Y10: =IF($AK10="","",ROUND(MIN(V10,Cap_BHTN)*BHTN_NV,0)) -> 90000 | Z10: =IF($AK10="","",W10+X10+Y10) -> 945000 | AA10: =IF($AK10="","",MIN(R10,Lunch_Cap)) -> 730000 | AB10: {=IF($AK10="","",Self_Ded+N(INDEX('Nhân viên'!$L$6:$L$45,$AK10))*Dep_Ded)} -> 15500000 | AC10: =IF($AK10="","",MAX(0,U10-AA10-Z10-AB10)) -> 0 | AD10: =IF($AK10="","",ROUND(SUMPRODUCT((AC10>Tax_From)*(AC10-Tax_From)*Tax_Delta),0)) -> 0 | AE10: =IF($AK10="","",N('Dữ liệu tháng'!I9)) -> 0 | AF10: =IF($AK10="","",N('Dữ liệu tháng'!J9)) -> 0 | AG10: =IF($AK10="","",U10-Z10-AD10-AE10-AF10) -> 11865000 | AH10: =IF($AK10="","",ROUND(MIN(V10,Cap_BHXH)*(BHXH_DN+BHYT_DN)+MIN(V10,Cap_BHTN)*BHTN_DN,0)) -> 1935000 | AI10: =IF($AK10="","",U10+AH10) -> 14745000 | AJ10: =IF($B10="","",'Dữ liệu tháng'!K9&"") | AK10: =IF($B10="","",IFERROR(MATCH($B10,'Nhân viên'!$B$6:$B$45,0),"")) -> 4 | AL10: =IF($AK10="","",K10+ROW()/1000000) -> 168000000
A11: =IF($B11="","",ROW()-6) -> 5 | B11: =IF('Dữ liệu tháng'!B10="","",'Dữ liệu tháng'!B10) -> NV005 | C11: {=IF($B11="","",IF($AK11="","⚠ Mã NV không tồn tại",INDEX('Nhân viên'!$C$6:$C$45,$AK11)))} -> Hoàng Đức Anh | D11: {=IF($AK11="","",INDEX('Nhân viên'!$D$6:$D$45,$AK11)&"")} -> Trưởng nhóm kinh doanh | E11: {=IF($AK11="","",INDEX('Nhân viên'!$E$6:$E$45,$AK11)&"")} -> Nhóm Miền Trung | F11: {=IF($AK11="","",N(INDEX('Nhân viên'!$G$6:$G$45,$AK11)))} -> 14000000 | G11: =IF($AK11="","",Std_Days) -> 22 | H11: =IF($AK11="","",MIN(G11,N('Dữ liệu tháng'!D10)+N('Dữ liệu tháng'!E10))) -> 22 | I11: =IF($AK11="","",ROUND(F11/G11*H11,0)) -> 14000000 | J11: {=IF($AK11="","",N(INDEX('Nhân viên'!$M$6:$M$45,$AK11)))} -> 280000000 | K11: =IF($AK11="","",N('Dữ liệu tháng'!F10)) -> 292000000 | L11: =IF($AK11="","",IF(J11>0,K11/J11,0)) -> 1.0428571 | M11: {=IF($AK11="","",INDEX(Com_Rate,MATCH(L11,Com_From,1)))} -> 0.02 | N11: =IF($AK11="","",ROUND(K11*M11,0)) -> 5840000 | O11: {=IF($AK11="","",INDEX(Com_Bonus,MATCH(L11,Com_From,1)))} -> 1000000 | P11: =IF($AK11="","",N('Dữ liệu tháng'!G10)) -> 3 | Q11: =IF($AK11="","",P11*New_Cust_Bonus) -> 600000 | R11: {=IF($AK11="","",ROUND(N(INDEX('Nhân viên'!$J$6:$J$45,$AK11))/G11*H11,0))} -> 730000 | S11: {=IF($AK11="","",N(INDEX('Nhân viên'!$K$6:$K$45,$AK11)))} -> 1500000 | T11: =IF($AK11="","",N('Dữ liệu tháng'!H10)) -> 0 | U11: =IF($AK11="","",I11+N11+O11+Q11+R11+S11+T11) -> 23670000 | V11: {=IF($AK11="","",IF(INDEX('Nhân viên'!$H$6:$H$45,$AK11)="Có",IF(N(INDEX('Nhân viên'!$I$6:$I$45,$AK11))>0,INDEX('Nhân viên'!$I$6:$I$45,$AK11),F11),0))} -> 14000000 | W11: =IF($AK11="","",ROUND(MIN(V11,Cap_BHXH)*BHXH_NV,0)) -> 1120000 | X11: =IF($AK11="","",ROUND(MIN(V11,Cap_BHXH)*BHYT_NV,0)) -> 210000 | Y11: =IF($AK11="","",ROUND(MIN(V11,Cap_BHTN)*BHTN_NV,0)) -> 140000 | Z11: =IF($AK11="","",W11+X11+Y11) -> 1470000 | AA11: =IF($AK11="","",MIN(R11,Lunch_Cap)) -> 730000 | AB11: {=IF($AK11="","",Self_Ded+N(INDEX('Nhân viên'!$L$6:$L$45,$AK11))*Dep_Ded)} -> 27900000 | AC11: =IF($AK11="","",MAX(0,U11-AA11-Z11-AB11)) -> 0 | AD11: =IF($AK11="","",ROUND(SUMPRODUCT((AC11>Tax_From)*(AC11-Tax_From)*Tax_Delta),0)) -> 0 | AE11: =IF($AK11="","",N('Dữ liệu tháng'!I10)) -> 0 | AF11: =IF($AK11="","",N('Dữ liệu tháng'!J10)) -> 0 | AG11: =IF($AK11="","",U11-Z11-AD11-AE11-AF11) -> 22200000 | AH11: =IF($AK11="","",ROUND(MIN(V11,Cap_BHXH)*(BHXH_DN+BHYT_DN)+MIN(V11,Cap_BHTN)*BHTN_DN,0)) -> 3010000 | AI11: =IF($AK11="","",U11+AH11) -> 26680000 | AJ11: =IF($B11="","",'Dữ liệu tháng'!K10&"") | AK11: =IF($B11="","",IFERROR(MATCH($B11,'Nhân viên'!$B$6:$B$45,0),"")) -> 5 | AL11: =IF($AK11="","",K11+ROW()/1000000) -> 292000000
A12: =IF($B12="","",ROW()-6) -> 6 | B12: =IF('Dữ liệu tháng'!B11="","",'Dữ liệu tháng'!B11) -> NV006 | C12: {=IF($B12="","",IF($AK12="","⚠ Mã NV không tồn tại",INDEX('Nhân viên'!$C$6:$C$45,$AK12)))} -> Võ Thị Mai Anh | D12: {=IF($AK12="","",INDEX('Nhân viên'!$D$6:$D$45,$AK12)&"")} -> Nhân viên kinh doanh | E12: {=IF($AK12="","",INDEX('Nhân viên'!$E$6:$E$45,$AK12)&"")} -> Nhóm Miền Trung | F12: {=IF($AK12="","",N(INDEX('Nhân viên'!$G$6:$G$45,$AK12)))} -> 8500000 | G12: =IF($AK12="","",Std_Days) -> 22 | H12: =IF($AK12="","",MIN(G12,N('Dữ liệu tháng'!D11)+N('Dữ liệu tháng'!E11))) -> 22 | I12: =IF($AK12="","",ROUND(F12/G12*H12,0)) -> 8500000 | J12: {=IF($AK12="","",N(INDEX('Nhân viên'!$M$6:$M$45,$AK12)))} -> 180000000 | K12: =IF($AK12="","",N('Dữ liệu tháng'!F11)) -> 110000000 | L12: =IF($AK12="","",IF(J12>0,K12/J12,0)) -> 0.61111111 | M12: {=IF($AK12="","",INDEX(Com_Rate,MATCH(L12,Com_From,1)))} -> 0 | N12: =IF($AK12="","",ROUND(K12*M12,0)) -> 0 | O12: {=IF($AK12="","",INDEX(Com_Bonus,MATCH(L12,Com_From,1)))} -> 0 | P12: =IF($AK12="","",N('Dữ liệu tháng'!G11)) -> 1 | Q12: =IF($AK12="","",P12*New_Cust_Bonus) -> 200000 | R12: {=IF($AK12="","",ROUND(N(INDEX('Nhân viên'!$J$6:$J$45,$AK12))/G12*H12,0))} -> 730000 | S12: {=IF($AK12="","",N(INDEX('Nhân viên'!$K$6:$K$45,$AK12)))} -> 1000000 | T12: =IF($AK12="","",N('Dữ liệu tháng'!H11)) -> 0 | U12: =IF($AK12="","",I12+N12+O12+Q12+R12+S12+T12) -> 10430000 | V12: {=IF($AK12="","",IF(INDEX('Nhân viên'!$H$6:$H$45,$AK12)="Có",IF(N(INDEX('Nhân viên'!$I$6:$I$45,$AK12))>0,INDEX('Nhân viên'!$I$6:$I$45,$AK12),F12),0))} -> 8500000 | W12: =IF($AK12="","",ROUND(MIN(V12,Cap_BHXH)*BHXH_NV,0)) -> 680000 | X12: =IF($AK12="","",ROUND(MIN(V12,Cap_BHXH)*BHYT_NV,0)) -> 127500 | Y12: =IF($AK12="","",ROUND(MIN(V12,Cap_BHTN)*BHTN_NV,0)) -> 85000 | Z12: =IF($AK12="","",W12+X12+Y12) -> 892500 | AA12: =IF($AK12="","",MIN(R12,Lunch_Cap)) -> 730000 | AB12: {=IF($AK12="","",Self_Ded+N(INDEX('Nhân viên'!$L$6:$L$45,$AK12))*Dep_Ded)} -> 15500000 | AC12: =IF($AK12="","",MAX(0,U12-AA12-Z12-AB12)) -> 0 | AD12: =IF($AK12="","",ROUND(SUMPRODUCT((AC12>Tax_From)*(AC12-Tax_From)*Tax_Delta),0)) -> 0 | AE12: =IF($AK12="","",N('Dữ liệu tháng'!I11)) -> 0 | AF12: =IF($AK12="","",N('Dữ liệu tháng'!J11)) -> 200000 | AG12: =IF($AK12="","",U12-Z12-AD12-AE12-AF12) -> 9337500 | AH12: =IF($AK12="","",ROUND(MIN(V12,Cap_BHXH)*(BHXH_DN+BHYT_DN)+MIN(V12,Cap_BHTN)*BHTN_DN,0)) -> 1827500 | AI12: =IF($AK12="","",U12+AH12) -> 12257500 | AJ12: =IF($B12="","",'Dữ liệu tháng'!K11&"") -> Phạt đi muộn | AK12: =IF($B12="","",IFERROR(MATCH($B12,'Nhân viên'!$B$6:$B$45,0),"")) -> 6 | AL12: =IF($AK12="","",K12+ROW()/1000000) -> 110000000
A13: =IF($B13="","",ROW()-6) -> 7 | B13: =IF('Dữ liệu tháng'!B12="","",'Dữ liệu tháng'!B12) -> NV007 | C13: {=IF($B13="","",IF($AK13="","⚠ Mã NV không tồn tại",INDEX('Nhân viên'!$C$6:$C$45,$AK13)))} -> Đặng Văn Khoa | D13: {=IF($AK13="","",INDEX('Nhân viên'!$D$6:$D$45,$AK13)&"")} -> Nhân viên kinh doanh | E13: {=IF($AK13="","",INDEX('Nhân viên'!$E$6:$E$45,$AK13)&"")} -> Nhóm Miền Trung | F13: {=IF($AK13="","",N(INDEX('Nhân viên'!$G$6:$G$45,$AK13)))} -> 8500000 | G13: =IF($AK13="","",Std_Days) -> 22 | H13: =IF($AK13="","",MIN(G13,N('Dữ liệu tháng'!D12)+N('Dữ liệu tháng'!E12))) -> 19 | I13: =IF($AK13="","",ROUND(F13/G13*H13,0)) -> 7340909 | J13: {=IF($AK13="","",N(INDEX('Nhân viên'!$M$6:$M$45,$AK13)))} -> 180000000 | K13: =IF($AK13="","",N('Dữ liệu tháng'!F12)) -> 205000000 | L13: =IF($AK13="","",IF(J13>0,K13/J13,0)) -> 1.1388889 | M13: {=IF($AK13="","",INDEX(Com_Rate,MATCH(L13,Com_From,1)))} -> 0.02 | N13: =IF($AK13="","",ROUND(K13*M13,0)) -> 4100000 | O13: {=IF($AK13="","",INDEX(Com_Bonus,MATCH(L13,Com_From,1)))} -> 1000000 | P13: =IF($AK13="","",N('Dữ liệu tháng'!G12)) -> 4 | Q13: =IF($AK13="","",P13*New_Cust_Bonus) -> 800000 | R13: {=IF($AK13="","",ROUND(N(INDEX('Nhân viên'!$J$6:$J$45,$AK13))/G13*H13,0))} -> 630455 | S13: {=IF($AK13="","",N(INDEX('Nhân viên'!$K$6:$K$45,$AK13)))} -> 1000000 | T13: =IF($AK13="","",N('Dữ liệu tháng'!H12)) -> 0 | U13: =IF($AK13="","",I13+N13+O13+Q13+R13+S13+T13) -> 14871364 | V13: {=IF($AK13="","",IF(INDEX('Nhân viên'!$H$6:$H$45,$AK13)="Có",IF(N(INDEX('Nhân viên'!$I$6:$I$45,$AK13))>0,INDEX('Nhân viên'!$I$6:$I$45,$AK13),F13),0))} -> 8500000 | W13: =IF($AK13="","",ROUND(MIN(V13,Cap_BHXH)*BHXH_NV,0)) -> 680000 | X13: =IF($AK13="","",ROUND(MIN(V13,Cap_BHXH)*BHYT_NV,0)) -> 127500 | Y13: =IF($AK13="","",ROUND(MIN(V13,Cap_BHTN)*BHTN_NV,0)) -> 85000 | Z13: =IF($AK13="","",W13+X13+Y13) -> 892500 | AA13: =IF($AK13="","",MIN(R13,Lunch_Cap)) -> 630455 | AB13: {=IF($AK13="","",Self_Ded+N(INDEX('Nhân viên'!$L$6:$L$45,$AK13))*Dep_Ded)} -> 15500000 | AC13: =IF($AK13="","",MAX(0,U13-AA13-Z13-AB13)) -> 0 | AD13: =IF($AK13="","",ROUND(SUMPRODUCT((AC13>Tax_From)*(AC13-Tax_From)*Tax_Delta),0)) -> 0 | AE13: =IF($AK13="","",N('Dữ liệu tháng'!I12)) -> 1000000 | AF13: =IF($AK13="","",N('Dữ liệu tháng'!J12)) -> 0 | AG13: =IF($AK13="","",U13-Z13-AD13-AE13-AF13) -> 12978864 | AH13: =IF($AK13="","",ROUND(MIN(V13,Cap_BHXH)*(BHXH_DN+BHYT_DN)+MIN(V13,Cap_BHTN)*BHTN_DN,0)) -> 1827500 | AI13: =IF($AK13="","",U13+AH13) -> 16698864 | AJ13: =IF($B13="","",'Dữ liệu tháng'!K12&"") -> Nghỉ không lương 3 ngày | AK13: =IF($B13="","",IFERROR(MATCH($B13,'Nhân viên'!$B$6:$B$45,0),"")) -> 7 | AL13: =IF($AK13="","",K13+ROW()/1000000) -> 205000000
A14: =IF($B14="","",ROW()-6) -> 8 | B14: =IF('Dữ liệu tháng'!B13="","",'Dữ liệu tháng'!B13) -> NV008 | C14: {=IF($B14="","",IF($AK14="","⚠ Mã NV không tồn tại",INDEX('Nhân viên'!$C$6:$C$45,$AK14)))} -> Bùi Thanh Hằng | D14: {=IF($AK14="","",INDEX('Nhân viên'!$D$6:$D$45,$AK14)&"")} -> Trưởng nhóm kinh doanh | E14: {=IF($AK14="","",INDEX('Nhân viên'!$E$6:$E$45,$AK14)&"")} -> Nhóm Miền Nam | F14: {=IF($AK14="","",N(INDEX('Nhân viên'!$G$6:$G$45,$AK14)))} -> 16000000 | G14: =IF($AK14="","",Std_Days) -> 22 | H14: =IF($AK14="","",MIN(G14,N('Dữ liệu tháng'!D13)+N('Dữ liệu tháng'!E13))) -> 22 | I14: =IF($AK14="","",ROUND(F14/G14*H14,0)) -> 16000000 | J14: {=IF($AK14="","",N(INDEX('Nhân viên'!$M$6:$M$45,$AK14)))} -> 320000000 | K14: =IF($AK14="","",N('Dữ liệu tháng'!F13)) -> 505000000 | L14: =IF($AK14="","",IF(J14>0,K14/J14,0)) -> 1.578125 | M14: {=IF($AK14="","",INDEX(Com_Rate,MATCH(L14,Com_From,1)))} -> 0.03 | N14: =IF($AK14="","",ROUND(K14*M14,0)) -> 15150000 | O14: {=IF($AK14="","",INDEX(Com_Bonus,MATCH(L14,Com_From,1)))} -> 5000000 | P14: =IF($AK14="","",N('Dữ liệu tháng'!G13)) -> 8 | Q14: =IF($AK14="","",P14*New_Cust_Bonus) -> 1600000 | R14: {=IF($AK14="","",ROUND(N(INDEX('Nhân viên'!$J$6:$J$45,$AK14))/G14*H14,0))} -> 730000 | S14: {=IF($AK14="","",N(INDEX('Nhân viên'!$K$6:$K$45,$AK14)))} -> 1500000 | T14: =IF($AK14="","",N('Dữ liệu tháng'!H13)) -> 1000000 | U14: =IF($AK14="","",I14+N14+O14+Q14+R14+S14+T14) -> 40980000 | V14: {=IF($AK14="","",IF(INDEX('Nhân viên'!$H$6:$H$45,$AK14)="Có",IF(N(INDEX('Nhân viên'!$I$6:$I$45,$AK14))>0,INDEX('Nhân viên'!$I$6:$I$45,$AK14),F14),0))} -> 16000000 | W14: =IF($AK14="","",ROUND(MIN(V14,Cap_BHXH)*BHXH_NV,0)) -> 1280000 | X14: =IF($AK14="","",ROUND(MIN(V14,Cap_BHXH)*BHYT_NV,0)) -> 240000 | Y14: =IF($AK14="","",ROUND(MIN(V14,Cap_BHTN)*BHTN_NV,0)) -> 160000 | Z14: =IF($AK14="","",W14+X14+Y14) -> 1680000 | AA14: =IF($AK14="","",MIN(R14,Lunch_Cap)) -> 730000 | AB14: {=IF($AK14="","",Self_Ded+N(INDEX('Nhân viên'!$L$6:$L$45,$AK14))*Dep_Ded)} -> 21700000 | AC14: =IF($AK14="","",MAX(0,U14-AA14-Z14-AB14)) -> 16870000 | AD14: =IF($AK14="","",ROUND(SUMPRODUCT((AC14>Tax_From)*(AC14-Tax_From)*Tax_Delta),0)) -> 1187000 | AE14: =IF($AK14="","",N('Dữ liệu tháng'!I13)) -> 0 | AF14: =IF($AK14="","",N('Dữ liệu tháng'!J13)) -> 0 | AG14: =IF($AK14="","",U14-Z14-AD14-AE14-AF14) -> 38113000 | AH14: =IF($AK14="","",ROUND(MIN(V14,Cap_BHXH)*(BHXH_DN+BHYT_DN)+MIN(V14,Cap_BHTN)*BHTN_DN,0)) -> 3440000 | AI14: =IF($AK14="","",U14+AH14) -> 44420000 | AJ14: =IF($B14="","",'Dữ liệu tháng'!K13&"") | AK14: =IF($B14="","",IFERROR(MATCH($B14,'Nhân viên'!$B$6:$B$45,0),"")) -> 8 | AL14: =IF($AK14="","",K14+ROW()/1000000) -> 505000000
A15: =IF($B15="","",ROW()-6) -> 9 | B15: =IF('Dữ liệu tháng'!B14="","",'Dữ liệu tháng'!B14) -> NV009 | C15: {=IF($B15="","",IF($AK15="","⚠ Mã NV không tồn tại",INDEX('Nhân viên'!$C$6:$C$45,$AK15)))} -> Ngô Gia Huy | D15: {=IF($AK15="","",INDEX('Nhân viên'!$D$6:$D$45,$AK15)&"")} -> Nhân viên kinh doanh | E15: {=IF($AK15="","",INDEX('Nhân viên'!$E$6:$E$45,$AK15)&"")} -> Nhóm Miền Nam | F15: {=IF($AK15="","",N(INDEX('Nhân viên'!$G$6:$G$45,$AK15)))} -> 9000000 | G15: =IF($AK15="","",Std_Days) -> 22 | H15: =IF($AK15="","",MIN(G15,N('Dữ liệu tháng'!D14)+N('Dữ liệu tháng'!E14))) -> 22 | I15: =IF($AK15="","",ROUND(F15/G15*H15,0)) -> 9000000 | J15: {=IF($AK15="","",N(INDEX('Nhân viên'!$M$6:$M$45,$AK15)))} -> 200000000 | K15: =IF($AK15="","",N('Dữ liệu tháng'!F14)) -> 188000000 | L15: =IF($AK15="","",IF(J15>0,K15/J15,0)) -> 0.94 | M15: {=IF($AK15="","",INDEX(Com_Rate,MATCH(L15,Com_From,1)))} -> 0.015 | N15: =IF($AK15="","",ROUND(K15*M15,0)) -> 2820000 | O15: {=IF($AK15="","",INDEX(Com_Bonus,MATCH(L15,Com_From,1)))} -> 500000 | P15: =IF($AK15="","",N('Dữ liệu tháng'!G14)) -> 3 | Q15: =IF($AK15="","",P15*New_Cust_Bonus) -> 600000 | R15: {=IF($AK15="","",ROUND(N(INDEX('Nhân viên'!$J$6:$J$45,$AK15))/G15*H15,0))} -> 730000 | S15: {=IF($AK15="","",N(INDEX('Nhân viên'!$K$6:$K$45,$AK15)))} -> 1000000 | T15: =IF($AK15="","",N('Dữ liệu tháng'!H14)) -> 0 | U15: =IF($AK15="","",I15+N15+O15+Q15+R15+S15+T15) -> 14650000 | V15: {=IF($AK15="","",IF(INDEX('Nhân viên'!$H$6:$H$45,$AK15)="Có",IF(N(INDEX('Nhân viên'!$I$6:$I$45,$AK15))>0,INDEX('Nhân viên'!$I$6:$I$45,$AK15),F15),0))} -> 9000000 | W15: =IF($AK15="","",ROUND(MIN(V15,Cap_BHXH)*BHXH_NV,0)) -> 720000 | X15: =IF($AK15="","",ROUND(MIN(V15,Cap_BHXH)*BHYT_NV,0)) -> 135000 | Y15: =IF($AK15="","",ROUND(MIN(V15,Cap_BHTN)*BHTN_NV,0)) -> 90000 | Z15: =IF($AK15="","",W15+X15+Y15) -> 945000 | AA15: =IF($AK15="","",MIN(R15,Lunch_Cap)) -> 730000 | AB15: {=IF($AK15="","",Self_Ded+N(INDEX('Nhân viên'!$L$6:$L$45,$AK15))*Dep_Ded)} -> 15500000 | AC15: =IF($AK15="","",MAX(0,U15-AA15-Z15-AB15)) -> 0 | AD15: =IF($AK15="","",ROUND(SUMPRODUCT((AC15>Tax_From)*(AC15-Tax_From)*Tax_Delta),0)) -> 0 | AE15: =IF($AK15="","",N('Dữ liệu tháng'!I14)) -> 0 | AF15: =IF($AK15="","",N('Dữ liệu tháng'!J14)) -> 0 | AG15: =IF($AK15="","",U15-Z15-AD15-AE15-AF15) -> 13705000 | AH15: =IF($AK15="","",ROUND(MIN(V15,Cap_BHXH)*(BHXH_DN+BHYT_DN)+MIN(V15,Cap_BHTN)*BHTN_DN,0)) -> 1935000 | AI15: =IF($AK15="","",U15+AH15) -> 16585000 | AJ15: =IF($B15="","",'Dữ liệu tháng'!K14&"") | AK15: =IF($B15="","",IFERROR(MATCH($B15,'Nhân viên'!$B$6:$B$45,0),"")) -> 9 | AL15: =IF($AK15="","",K15+ROW()/1000000) -> 188000000
A16: =IF($B16="","",ROW()-6) -> 10 | B16: =IF('Dữ liệu tháng'!B15="","",'Dữ liệu tháng'!B15) -> NV010 | C16: {=IF($B16="","",IF($AK16="","⚠ Mã NV không tồn tại",INDEX('Nhân viên'!$C$6:$C$45,$AK16)))} -> Đỗ Khánh Linh | D16: {=IF($AK16="","",INDEX('Nhân viên'!$D$6:$D$45,$AK16)&"")} -> Nhân viên kinh doanh | E16: {=IF($AK16="","",INDEX('Nhân viên'!$E$6:$E$45,$AK16)&"")} -> Nhóm Miền Nam | F16: {=IF($AK16="","",N(INDEX('Nhân viên'!$G$6:$G$45,$AK16)))} -> 8000000 | G16: =IF($AK16="","",Std_Days) -> 22 | H16: =IF($AK16="","",MIN(G16,N('Dữ liệu tháng'!D15)+N('Dữ liệu tháng'!E15))) -> 22 | I16: =IF($AK16="","",ROUND(F16/G16*H16,0)) -> 8000000 | J16: {=IF($AK16="","",N(INDEX('Nhân viên'!$M$6:$M$45,$AK16)))} -> 160000000 | K16: =IF($AK16="","",N('Dữ liệu tháng'!F15)) -> 150000000 | L16: =IF($AK16="","",IF(J16>0,K16/J16,0)) -> 0.9375 | M16: {=IF($AK16="","",INDEX(Com_Rate,MATCH(L16,Com_From,1)))} -> 0.015 | N16: =IF($AK16="","",ROUND(K16*M16,0)) -> 2250000 | O16: {=IF($AK16="","",INDEX(Com_Bonus,MATCH(L16,Com_From,1)))} -> 500000 | P16: =IF($AK16="","",N('Dữ liệu tháng'!G15)) -> 5 | Q16: =IF($AK16="","",P16*New_Cust_Bonus) -> 1000000 | R16: {=IF($AK16="","",ROUND(N(INDEX('Nhân viên'!$J$6:$J$45,$AK16))/G16*H16,0))} -> 730000 | S16: {=IF($AK16="","",N(INDEX('Nhân viên'!$K$6:$K$45,$AK16)))} -> 1000000 | T16: =IF($AK16="","",N('Dữ liệu tháng'!H15)) -> 0 | U16: =IF($AK16="","",I16+N16+O16+Q16+R16+S16+T16) -> 13480000 | V16: {=IF($AK16="","",IF(INDEX('Nhân viên'!$H$6:$H$45,$AK16)="Có",IF(N(INDEX('Nhân viên'!$I$6:$I$45,$AK16))>0,INDEX('Nhân viên'!$I$6:$I$45,$AK16),F16),0))} -> 0 | W16: =IF($AK16="","",ROUND(MIN(V16,Cap_BHXH)*BHXH_NV,0)) -> 0 | X16: =IF($AK16="","",ROUND(MIN(V16,Cap_BHXH)*BHYT_NV,0)) -> 0 | Y16: =IF($AK16="","",ROUND(MIN(V16,Cap_BHTN)*BHTN_NV,0)) -> 0 | Z16: =IF($AK16="","",W16+X16+Y16) -> 0 | AA16: =IF($AK16="","",MIN(R16,Lunch_Cap)) -> 730000 | AB16: {=IF($AK16="","",Self_Ded+N(INDEX('Nhân viên'!$L$6:$L$45,$AK16))*Dep_Ded)} -> 15500000 | AC16: =IF($AK16="","",MAX(0,U16-AA16-Z16-AB16)) -> 0 | AD16: =IF($AK16="","",ROUND(SUMPRODUCT((AC16>Tax_From)*(AC16-Tax_From)*Tax_Delta),0)) -> 0 | AE16: =IF($AK16="","",N('Dữ liệu tháng'!I15)) -> 0 | AF16: =IF($AK16="","",N('Dữ liệu tháng'!J15)) -> 0 | AG16: =IF($AK16="","",U16-Z16-AD16-AE16-AF16) -> 13480000 | AH16: =IF($AK16="","",ROUND(MIN(V16,Cap_BHXH)*(BHXH_DN+BHYT_DN)+MIN(V16,Cap_BHTN)*BHTN_DN,0)) -> 0 | AI16: =IF($AK16="","",U16+AH16) -> 13480000 | AJ16: =IF($B16="","",'Dữ liệu tháng'!K15&"") -> Đang thử việc – chưa đóng BH | AK16: =IF($B16="","",IFERROR(MATCH($B16,'Nhân viên'!$B$6:$B$45,0),"")) -> 10 | AL16: =IF($AK16="","",K16+ROW()/1000000) -> 150000000
A17: =IF($B17="","",ROW()-6) | B17: =IF('Dữ liệu tháng'!B16="","",'Dữ liệu tháng'!B16) | C17: {=IF($B17="","",IF($AK17="","⚠ Mã NV không tồn tại",INDEX('Nhân viên'!$C$6:$C$45,$AK17)))} | D17: {=IF($AK17="","",INDEX('Nhân viên'!$D$6:$D$45,$AK17)&"")} | E17: {=IF($AK17="","",INDEX('Nhân viên'!$E$6:$E$45,$AK17)&"")} | F17: {=IF($AK17="","",N(INDEX('Nhân viên'!$G$6:$G$45,$AK17)))} | G17: =IF($AK17="","",Std_Days) | H17: =IF($AK17="","",MIN(G17,N('Dữ liệu tháng'!D16)+N('Dữ liệu tháng'!E16))) | I17: =IF($AK17="","",ROUND(F17/G17*H17,0)) | J17: {=IF($AK17="","",N(INDEX('Nhân viên'!$M$6:$M$45,$AK17)))} | K17: =IF($AK17="","",N('Dữ liệu tháng'!F16)) | L17: =IF($AK17="","",IF(J17>0,K17/J17,0)) | M17: {=IF($AK17="","",INDEX(Com_Rate,MATCH(L17,Com_From,1)))} | N17: =IF($AK17="","",ROUND(K17*M17,0)) | O17: {=IF($AK17="","",INDEX(Com_Bonus,MATCH(L17,Com_From,1)))} | P17: =IF($AK17="","",N('Dữ liệu tháng'!G16)) | Q17: =IF($AK17="","",P17*New_Cust_Bonus) | R17: {=IF($AK17="","",ROUND(N(INDEX('Nhân viên'!$J$6:$J$45,$AK17))/G17*H17,0))} | S17: {=IF($AK17="","",N(INDEX('Nhân viên'!$K$6:$K$45,$AK17)))} | T17: =IF($AK17="","",N('Dữ liệu tháng'!H16)) | U17: =IF($AK17="","",I17+N17+O17+Q17+R17+S17+T17) | V17: {=IF($AK17="","",IF(INDEX('Nhân viên'!$H$6:$H$45,$AK17)="Có",IF(N(INDEX('Nhân viên'!$I$6:$I$45,$AK17))>0,INDEX('Nhân viên'!$I$6:$I$45,$AK17),F17),0))} | W17: =IF($AK17="","",ROUND(MIN(V17,Cap_BHXH)*BHXH_NV,0)) | X17: =IF($AK17="","",ROUND(MIN(V17,Cap_BHXH)*BHYT_NV,0)) | Y17: =IF($AK17="","",ROUND(MIN(V17,Cap_BHTN)*BHTN_NV,0)) | Z17: =IF($AK17="","",W17+X17+Y17) | AA17: =IF($AK17="","",MIN(R17,Lunch_Cap)) | AB17: {=IF($AK17="","",Self_Ded+N(INDEX('Nhân viên'!$L$6:$L$45,$AK17))*Dep_Ded)} | AC17: =IF($AK17="","",MAX(0,U17-AA17-Z17-AB17)) | AD17: =IF($AK17="","",ROUND(SUMPRODUCT((AC17>Tax_From)*(AC17-Tax_From)*Tax_Delta),0)) | AE17: =IF($AK17="","",N('Dữ liệu tháng'!I16)) | AF17: =IF($AK17="","",N('Dữ liệu tháng'!J16)) | AG17: =IF($AK17="","",U17-Z17-AD17-AE17-AF17) | AH17: =IF($AK17="","",ROUND(MIN(V17,Cap_BHXH)*(BHXH_DN+BHYT_DN)+MIN(V17,Cap_BHTN)*BHTN_DN,0)) | AI17: =IF($AK17="","",U17+AH17) | AJ17: =IF($B17="","",'Dữ liệu tháng'!K16&"") | AK17: =IF($B17="","",IFERROR(MATCH($B17,'Nhân viên'!$B$6:$B$45,0),"")) | AL17: =IF($AK17="","",K17+ROW()/1000000)
A18: =IF($B18="","",ROW()-6) | B18: =IF('Dữ liệu tháng'!B17="","",'Dữ liệu tháng'!B17) | C18: {=IF($B18="","",IF($AK18="","⚠ Mã NV không tồn tại",INDEX('Nhân viên'!$C$6:$C$45,$AK18)))} | D18: {=IF($AK18="","",INDEX('Nhân viên'!$D$6:$D$45,$AK18)&"")} | E18: {=IF($AK18="","",INDEX('Nhân viên'!$E$6:$E$45,$AK18)&"")} | F18: {=IF($AK18="","",N(INDEX('Nhân viên'!$G$6:$G$45,$AK18)))} | G18: =IF($AK18="","",Std_Days) | H18: =IF($AK18="","",MIN(G18,N('Dữ liệu tháng'!D17)+N('Dữ liệu tháng'!E17))) | I18: =IF($AK18="","",ROUND(F18/G18*H18,0)) | J18: {=IF($AK18="","",N(INDEX('Nhân viên'!$M$6:$M$45,$AK18)))} | K18: =IF($AK18="","",N('Dữ liệu tháng'!F17)) | L18: =IF($AK18="","",IF(J18>0,K18/J18,0)) | M18: {=IF($AK18="","",INDEX(Com_Rate,MATCH(L18,Com_From,1)))} | N18: =IF($AK18="","",ROUND(K18*M18,0)) | O18: {=IF($AK18="","",INDEX(Com_Bonus,MATCH(L18,Com_From,1)))} | P18: =IF($AK18="","",N('Dữ liệu tháng'!G17)) | Q18: =IF($AK18="","",P18*New_Cust_Bonus) | R18: {=IF($AK18="","",ROUND(N(INDEX('Nhân viên'!$J$6:$J$45,$AK18))/G18*H18,0))} | S18: {=IF($AK18="","",N(INDEX('Nhân viên'!$K$6:$K$45,$AK18)))} | T18: =IF($AK18="","",N('Dữ liệu tháng'!H17)) | U18: =IF($AK18="","",I18+N18+O18+Q18+R18+S18+T18) | V18: {=IF($AK18="","",IF(INDEX('Nhân viên'!$H$6:$H$45,$AK18)="Có",IF(N(INDEX('Nhân viên'!$I$6:$I$45,$AK18))>0,INDEX('Nhân viên'!$I$6:$I$45,$AK18),F18),0))} | W18: =IF($AK18="","",ROUND(MIN(V18,Cap_BHXH)*BHXH_NV,0)) | X18: =IF($AK18="","",ROUND(MIN(V18,Cap_BHXH)*BHYT_NV,0)) | Y18: =IF($AK18="","",ROUND(MIN(V18,Cap_BHTN)*BHTN_NV,0)) | Z18: =IF($AK18="","",W18+X18+Y18) | AA18: =IF($AK18="","",MIN(R18,Lunch_Cap)) | AB18: {=IF($AK18="","",Self_Ded+N(INDEX('Nhân viên'!$L$6:$L$45,$AK18))*Dep_Ded)} | AC18: =IF($AK18="","",MAX(0,U18-AA18-Z18-AB18)) | AD18: =IF($AK18="","",ROUND(SUMPRODUCT((AC18>Tax_From)*(AC18-Tax_From)*Tax_Delta),0)) | AE18: =IF($AK18="","",N('Dữ liệu tháng'!I17)) | AF18: =IF($AK18="","",N('Dữ liệu tháng'!J17)) | AG18: =IF($AK18="","",U18-Z18-AD18-AE18-AF18) | AH18: =IF($AK18="","",ROUND(MIN(V18,Cap_BHXH)*(BHXH_DN+BHYT_DN)+MIN(V18,Cap_BHTN)*BHTN_DN,0)) | AI18: =IF($AK18="","",U18+AH18) | AJ18: =IF($B18="","",'Dữ liệu tháng'!K17&"") | AK18: =IF($B18="","",IFERROR(MATCH($B18,'Nhân viên'!$B$6:$B$45,0),"")) | AL18: =IF($AK18="","",K18+ROW()/1000000)
... A46: =IF($B46="","",ROW()-6) | B46: =IF('Dữ liệu tháng'!B45="","",'Dữ liệu tháng'!B45) | C46: {=IF($B46="","",IF($AK46="","⚠ Mã NV không tồn tại",INDEX('Nhân viên'!$C$6:$C$45,$AK46)))} | D46: {=IF($AK46="","",INDEX('Nhân viên'!$D$6:$D$45,$AK46)&"")} | E46: {=IF($AK46="","",INDEX('Nhân viên'!$E$6:$E$45,$AK46)&"")} | F46: {=IF($AK46="","",N(INDEX('Nhân viên'!$G$6:$G$45,$AK46)))} | G46: =IF($AK46="","",Std_Days) | H46: =IF($AK46="","",MIN(G46,N('Dữ liệu tháng'!D45)+N('Dữ liệu tháng'!E45))) | I46: =IF($AK46="","",ROUND(F46/G46*H46,0)) | J46: {=IF($AK46="","",N(INDEX('Nhân viên'!$M$6:$M$45,$AK46)))} | K46: =IF($AK46="","",N('Dữ liệu tháng'!F45)) | L46: =IF($AK46="","",IF(J46>0,K46/J46,0)) | M46: {=IF($AK46="","",INDEX(Com_Rate,MATCH(L46,Com_From,1)))} | N46: =IF($AK46="","",ROUND(K46*M46,0)) | O46: {=IF($AK46="","",INDEX(Com_Bonus,MATCH(L46,Com_From,1)))} | P46: =IF($AK46="","",N('Dữ liệu tháng'!G45)) | Q46: =IF($AK46="","",P46*New_Cust_Bonus) | R46: {=IF($AK46="","",ROUND(N(INDEX('Nhân viên'!$J$6:$J$45,$AK46))/G46*H46,0))} | S46: {=IF($AK46="","",N(INDEX('Nhân viên'!$K$6:$K$45,$AK46)))} | T46: =IF($AK46="","",N('Dữ liệu tháng'!H45)) | U46: =IF($AK46="","",I46+N46+O46+Q46+R46+S46+T46) | V46: {=IF($AK46="","",IF(INDEX('Nhân viên'!$H$6:$H$45,$AK46)="Có",IF(N(INDEX('Nhân viên'!$I$6:$I$45,$AK46))>0,INDEX('Nhân viên'!$I$6:$I$45,$AK46),F46),0))} | W46: =IF($AK46="","",ROUND(MIN(V46,Cap_BHXH)*BHXH_NV,0)) | X46: =IF($AK46="","",ROUND(MIN(V46,Cap_BHXH)*BHYT_NV,0)) | Y46: =IF($AK46="","",ROUND(MIN(V46,Cap_BHTN)*BHTN_NV,0)) | Z46: =IF($AK46="","",W46+X46+Y46) | AA46: =IF($AK46="","",MIN(R46,Lunch_Cap)) | AB46: {=IF($AK46="","",Self_Ded+N(INDEX('Nhân viên'!$L$6:$L$45,$AK46))*Dep_Ded)} | AC46: =IF($AK46="","",MAX(0,U46-AA46-Z46-AB46)) | AD46: =IF($AK46="","",ROUND(SUMPRODUCT((AC46>Tax_From)*(AC46-Tax_From)*Tax_Delta),0)) | AE46: =IF($AK46="","",N('Dữ liệu tháng'!I45)) | AF46: =IF($AK46="","",N('Dữ liệu tháng'!J45)) | AG46: =IF($AK46="","",U46-Z46-AD46-AE46-AF46) | AH46: =IF($AK46="","",ROUND(MIN(V46,Cap_BHXH)*(BHXH_DN+BHYT_DN)+MIN(V46,Cap_BHTN)*BHTN_DN,0)) | AI46: =IF($AK46="","",U46+AH46) | AJ46: =IF($B46="","",'Dữ liệu tháng'!K45&"") | AK46: =IF($B46="","",IFERROR(MATCH($B46,'Nhân viên'!$B$6:$B$45,0),"")) | AL46: =IF($AK46="","",K46+ROW()/1000000)

Sheet Phiếu lương
