Workbook

Sheet Chấm công
E2: BẢNG CHẤM CÔNG NHÂN VIÊN VỆ SINH
A3: ="Tháng "&'Cài đặt'!D7&" năm "&'Cài đặt'!D8&" | Địa điểm: "&'Cài đặt'!D6&" | Công chuẩn: "&'Cài đặt'!D11&" ngày" -> Tháng 11 năm 2026 | Địa điểm: Tòa nhà văn phòng ABC – 123 Phố Huế, Hà Nội | Công chuẩn: 25 ngày
A4: STT | B4: Mã NV | C4: Họ và tên | D4: Khu vực phụ trách | E4: NGÀY TRONG THÁNG | AJ4: TỔNG HỢP SỐ CA / NGÀY | AS4: TỔNG HỢP GIỜ & CÔNG | AX4: Ghi chú
E5: =IF(E$6="","",IF(COUNTIF('Cài đặt'!$J$16:$J$30,DATE('Cài đặt'!$D$8,'Cài đặt'!$D$7,E$6))>0,"Lễ","")) | F5: =IF(F$6="","",IF(COUNTIF('Cài đặt'!$J$16:$J$30,DATE('Cài đặt'!$D$8,'Cài đặt'!$D$7,F$6))>0,"Lễ","")) | G5: =IF(G$6="","",IF(COUNTIF('Cài đặt'!$J$16:$J$30,DATE('Cài đặt'!$D$8,'Cài đặt'!$D$7,G$6))>0,"Lễ","")) | H5: =IF(H$6="","",IF(COUNTIF('Cài đặt'!$J$16:$J$30,DATE('Cài đặt'!$D$8,'Cài đặt'!$D$7,H$6))>0,"Lễ","")) | I5: =IF(I$6="","",IF(COUNTIF('Cài đặt'!$J$16:$J$30,DATE('Cài đặt'!$D$8,'Cài đặt'!$D$7,I$6))>0,"Lễ","")) | J5: =IF(J$6="","",IF(COUNTIF('Cài đặt'!$J$16:$J$30,DATE('Cài đặt'!$D$8,'Cài đặt'!$D$7,J$6))>0,"Lễ","")) | K5: =IF(K$6="","",IF(COUNTIF('Cài đặt'!$J$16:$J$30,DATE('Cài đặt'!$D$8,'Cài đặt'!$D$7,K$6))>0,"Lễ","")) | L5: =IF(L$6="","",IF(COUNTIF('Cài đặt'!$J$16:$J$30,DATE('Cài đặt'!$D$8,'Cài đặt'!$D$7,L$6))>0,"Lễ","")) | ... AI5: =IF(AI$6="","",IF(COUNTIF('Cài đặt'!$J$16:$J$30,DATE('Cài đặt'!$D$8,'Cài đặt'!$D$7,AI$6))>0,"Lễ","")) | AJ5: ='Cài đặt'!C16 -> Ca sáng | AK5: ='Cài đặt'!C17 -> Ca chiều | AL5: ='Cài đặt'!C18 -> Ca hành chính | AM5: ='Cài đặt'!C19 -> Ca gãy (2 đợt) | AN5: ='Cài đặt'!C20 -> Nửa ngày | AO5: ='Cài đặt'!C21 -> Nghỉ phép năm | AP5: ='Cài đặt'!C22 -> Nghỉ lễ | AQ5: ='Cài đặt'!C23 -> Nghỉ ốm (BHXH) | AR5: ='Cài đặt'!C24 -> Nghỉ không lương | AS5: Tổng giờ làm thực tế | AT5: Giờ làm Chủ nhật | AU5: Giờ làm ngày lễ | AV5: Tổng công hưởng lương | AW5: Giờ tăng ca
E6: =IF(COLUMN()-4<='Cài đặt'!$D$9,COLUMN()-4,"") -> 1 | F6: =IF(COLUMN()-4<='Cài đặt'!$D$9,COLUMN()-4,"") -> 2 | G6: =IF(COLUMN()-4<='Cài đặt'!$D$9,COLUMN()-4,"") -> 3 | H6: =IF(COLUMN()-4<='Cài đặt'!$D$9,COLUMN()-4,"") -> 4 | I6: =IF(COLUMN()-4<='Cài đặt'!$D$9,COLUMN()-4,"") -> 5 | J6: =IF(COLUMN()-4<='Cài đặt'!$D$9,COLUMN()-4,"") -> 6 | K6: =IF(COLUMN()-4<='Cài đặt'!$D$9,COLUMN()-4,"") -> 7 | L6: =IF(COLUMN()-4<='Cài đặt'!$D$9,COLUMN()-4,"") -> 8 | ... AI6: =IF(COLUMN()-4<='Cài đặt'!$D$9,COLUMN()-4,"")
E7: =IF(E$6="","",CHOOSE(WEEKDAY(DATE('Cài đặt'!$D$8,'Cài đặt'!$D$7,E$6),2),"T2","T3","T4","T5","T6","T7","CN")) -> CN | F7: =IF(F$6="","",CHOOSE(WEEKDAY(DATE('Cài đặt'!$D$8,'Cài đặt'!$D$7,F$6),2),"T2","T3","T4","T5","T6","T7","CN")) -> T2 | G7: =IF(G$6="","",CHOOSE(WEEKDAY(DATE('Cài đặt'!$D$8,'Cài đặt'!$D$7,G$6),2),"T2","T3","T4","T5","T6","T7","CN")) -> T3 | H7: =IF(H$6="","",CHOOSE(WEEKDAY(DATE('Cài đặt'!$D$8,'Cài đặt'!$D$7,H$6),2),"T2","T3","T4","T5","T6","T7","CN")) -> T4 | I7: =IF(I$6="","",CHOOSE(WEEKDAY(DATE('Cài đặt'!$D$8,'Cài đặt'!$D$7,I$6),2),"T2","T3","T4","T5","T6","T7","CN")) -> T5 | J7: =IF(J$6="","",CHOOSE(WEEKDAY(DATE('Cài đặt'!$D$8,'Cài đặt'!$D$7,J$6),2),"T2","T3","T4","T5","T6","T7","CN")) -> T6 | K7: =IF(K$6="","",CHOOSE(WEEKDAY(DATE('Cài đặt'!$D$8,'Cài đặt'!$D$7,K$6),2),"T2","T3","T4","T5","T6","T7","CN")) -> T7 | L7: =IF(L$6="","",CHOOSE(WEEKDAY(DATE('Cài đặt'!$D$8,'Cài đặt'!$D$7,L$6),2),"T2","T3","T4","T5","T6","T7","CN")) -> CN | ... AI7: =IF(AI$6="","",CHOOSE(WEEKDAY(DATE('Cài đặt'!$D$8,'Cài đặt'!$D$7,AI$6),2),"T2","T3","T4","T5","T6","T7","CN"))
A8: 1 | B8: VS001 | C8: Nguyễn Thị Lan | D8: Tầng 1 – Sảnh | E8: H | F8: H | G8: H | H8: H | I8: H | J8: H | K8: OFF | L8: H | M8: H | N8: H | O8: H | P8: H | Q8: H | R8: OFF | S8: H | T8: H | U8: H | V8: H | W8: H | X8: H | Y8: OFF | Z8: H | AA8: H | AB8: H | AC8: H | AD8: H | AE8: H | AF8: OFF | AG8: H | AH8: H | AJ8: =IF($C8="","",COUNTIF($E8:$AI8,'Cài đặt'!$B$16)) -> 0 | AK8: =IF($C8="","",COUNTIF($E8:$AI8,'Cài đặt'!$B$17)) -> 0 | AL8: =IF($C8="","",COUNTIF($E8:$AI8,'Cài đặt'!$B$18)) -> 26 | AM8: =IF($C8="","",COUNTIF($E8:$AI8,'Cài đặt'!$B$19)) -> 0 | AN8: =IF($C8="","",COUNTIF($E8:$AI8,'Cài đặt'!$B$20)) -> 0 | AO8: =IF($C8="","",COUNTIF($E8:$AI8,'Cài đặt'!$B$21)) -> 0 | AP8: =IF($C8="","",COUNTIF($E8:$AI8,'Cài đặt'!$B$22)) -> 0 | AQ8: =IF($C8="","",COUNTIF($E8:$AI8,'Cài đặt'!$B$23)) -> 0 | AR8: =IF($C8="","",COUNTIF($E8:$AI8,'Cài đặt'!$B$24)) -> 0 | AS8: {=IF($C8="","",SUMPRODUCT(COUNTIF($E8:$AI8,'Cài đặt'!$B$16:$B$25)*'Cài đặt'!$G$16:$G$25))} -> 208 | AT8: =IF($C8="","",SUMPRODUCT(--($E$7:$AI$7="CN"),SUMIF('Cài đặt'!$B$16:$B$25,$E8:$AI8,'Cài đặt'!$G$16:$G$25))) -> 40 | AU8: =IF($C8="","",SUMPRODUCT(--($E$5:$AI$5="Lễ"),SUMIF('Cài đặt'!$B$16:$B$25,$E8:$AI8,'Cài đặt'!$G$16:$G$25))) -> 0 | AV8: {=IF($C8="","",SUMPRODUCT(COUNTIF($E8:$AI8,'Cài đặt'!$B$16:$B$25)*'Cài đặt'!$H$16:$H$25)/'Cài đặt'!$D$12)} -> 26 | AW8: =IF($C8="","",MAX(0,AS8-'Cài đặt'!$D$11*'Cài đặt'!$D$12)) -> 8
A9: 2 | B9: VS002 | C9: Trần Thị Hoa | D9: Tầng 2–3 | E9: H | F9: H | G9: H | H9: H | I9: H | J9: OFF | K9: H | L9: H | M9: H | N9: H | O9: H | P9: H | Q9: OFF | R9: H | S9: H | T9: H | U9: H | V9: H | W9: H | X9: OFF | Y9: H | Z9: H | AA9: H | AB9: H | AC9: K | AD9: H | AE9: OFF | AF9: H | AG9: H | AH9: H | AJ9: =IF($C9="","",COUNTIF($E9:$AI9,'Cài đặt'!$B$16)) -> 0 | AK9: =IF($C9="","",COUNTIF($E9:$AI9,'Cài đặt'!$B$17)) -> 0 | AL9: =IF($C9="","",COUNTIF($E9:$AI9,'Cài đặt'!$B$18)) -> 25 | AM9: =IF($C9="","",COUNTIF($E9:$AI9,'Cài đặt'!$B$19)) -> 0 | AN9: =IF($C9="","",COUNTIF($E9:$AI9,'Cài đặt'!$B$20)) -> 0 | AO9: =IF($C9="","",COUNTIF($E9:$AI9,'Cài đặt'!$B$21)) -> 0 | AP9: =IF($C9="","",COUNTIF($E9:$AI9,'Cài đặt'!$B$22)) -> 0 | AQ9: =IF($C9="","",COUNTIF($E9:$AI9,'Cài đặt'!$B$23)) -> 0 | AR9: =IF($C9="","",COUNTIF($E9:$AI9,'Cài đặt'!$B$24)) -> 1 | AS9: {=IF($C9="","",SUMPRODUCT(COUNTIF($E9:$AI9,'Cài đặt'!$B$16:$B$25)*'Cài đặt'!$G$16:$G$25))} -> 200 | AT9: =IF($C9="","",SUMPRODUCT(--($E$7:$AI$7="CN"),SUMIF('Cài đặt'!$B$16:$B$25,$E9:$AI9,'Cài đặt'!$G$16:$G$25))) -> 40 | AU9: =IF($C9="","",SUMPRODUCT(--($E$5:$AI$5="Lễ"),SUMIF('Cài đặt'!$B$16:$B$25,$E9:$AI9,'Cài đặt'!$G$16:$G$25))) -> 0 | AV9: {=IF($C9="","",SUMPRODUCT(COUNTIF($E9:$AI9,'Cài đặt'!$B$16:$B$25)*'Cài đặt'!$H$16:$H$25)/'Cài đặt'!$D$12)} -> 25 | AW9: =IF($C9="","",MAX(0,AS9-'Cài đặt'!$D$11*'Cài đặt'!$D$12)) -> 0
A10: 3 | B10: VS003 | C10: Lê Thị Mai | D10: Tầng 4–5 | E10: H | F10: H | G10: H | H10: H | I10: OFF | J10: H | K10: H | L10: H | M10: H | N10: P | O10: P | P10: OFF | Q10: H | R10: H | S10: H | T10: H | U10: H | V10: H | W10: OFF | X10: H | Y10: H | Z10: H | AA10: H | AB10: H | AC10: H | AD10: OFF | AE10: H | AF10: H | AG10: H | AH10: H | AJ10: =IF($C10="","",COUNTIF($E10:$AI10,'Cài đặt'!$B$16)) -> 0 | AK10: =IF($C10="","",COUNTIF($E10:$AI10,'Cài đặt'!$B$17)) -> 0 | AL10: =IF($C10="","",COUNTIF($E10:$AI10,'Cài đặt'!$B$18)) -> 24 | AM10: =IF($C10="","",COUNTIF($E10:$AI10,'Cài đặt'!$B$19)) -> 0 | AN10: =IF($C10="","",COUNTIF($E10:$AI10,'Cài đặt'!$B$20)) -> 0 | AO10: =IF($C10="","",COUNTIF($E10:$AI10,'Cài đặt'!$B$21)) -> 2 | AP10: =IF($C10="","",COUNTIF($E10:$AI10,'Cài đặt'!$B$22)) -> 0 | AQ10: =IF($C10="","",COUNTIF($E10:$AI10,'Cài đặt'!$B$23)) -> 0 | AR10: =IF($C10="","",COUNTIF($E10:$AI10,'Cài đặt'!$B$24)) -> 0 | AS10: {=IF($C10="","",SUMPRODUCT(COUNTIF($E10:$AI10,'Cài đặt'!$B$16:$B$25)*'Cài đặt'!$G$16:$G$25))} -> 192 | AT10: =IF($C10="","",SUMPRODUCT(--($E$7:$AI$7="CN"),SUMIF('Cài đặt'!$B$16:$B$25,$E10:$AI10,'Cài đặt'!$G$16:$G$25))) -> 40 | AU10: =IF($C10="","",SUMPRODUCT(--($E$5:$AI$5="Lễ"),SUMIF('Cài đặt'!$B$16:$B$25,$E10:$AI10,'Cài đặt'!$G$16:$G$25))) -> 0 | AV10: {=IF($C10="","",SUMPRODUCT(COUNTIF($E10:$AI10,'Cài đặt'!$B$16:$B$25)*'Cài đặt'!$H$16:$H$25)/'Cài đặt'!$D$12)} -> 26 | AW10: =IF($C10="","",MAX(0,AS10-'Cài đặt'!$D$11*'Cài đặt'!$D$12)) -> 0
A11: 4 | B11: VS004 | C11: Phạm Thị Hương | D11: Nhà vệ sinh chung | E11: S | F11: S | G11: S | H11: OFF | I11: S | J11: S | K11: S | L11: S | M11: S | N11: S | O11: OFF | P11: S | Q11: S | R11: S | S11: S | T11: S | U11: S | V11: OFF | W11: S | X11: S | Y11: S | Z11: S | AA11: S | AB11: S | AC11: OFF | AD11: S | AE11: S | AF11: S | AG11: S | AH11: S | AJ11: =IF($C11="","",COUNTIF($E11:$AI11,'Cài đặt'!$B$16)) -> 26 | AK11: =IF($C11="","",COUNTIF($E11:$AI11,'Cài đặt'!$B$17)) -> 0 | AL11: =IF($C11="","",COUNTIF($E11:$AI11,'Cài đặt'!$B$18)) -> 0 | AM11: =IF($C11="","",COUNTIF($E11:$AI11,'Cài đặt'!$B$19)) -> 0 | AN11: =IF($C11="","",COUNTIF($E11:$AI11,'Cài đặt'!$B$20)) -> 0 | AO11: =IF($C11="","",COUNTIF($E11:$AI11,'Cài đặt'!$B$21)) -> 0 | AP11: =IF($C11="","",COUNTIF($E11:$AI11,'Cài đặt'!$B$22)) -> 0 | AQ11: =IF($C11="","",COUNTIF($E11:$AI11,'Cài đặt'!$B$23)) -> 0 | AR11: =IF($C11="","",COUNTIF($E11:$AI11,'Cài đặt'!$B$24)) -> 0 | AS11: {=IF($C11="","",SUMPRODUCT(COUNTIF($E11:$AI11,'Cài đặt'!$B$16:$B$25)*'Cài đặt'!$G$16:$G$25))} -> 208 | AT11: =IF($C11="","",SUMPRODUCT(--($E$7:$AI$7="CN"),SUMIF('Cài đặt'!$B$16:$B$25,$E11:$AI11,'Cài đặt'!$G$16:$G$25))) -> 40 | AU11: =IF($C11="","",SUMPRODUCT(--($E$5:$AI$5="Lễ"),SUMIF('Cài đặt'!$B$16:$B$25,$E11:$AI11,'Cài đặt'!$G$16:$G$25))) -> 0 | AV11: {=IF($C11="","",SUMPRODUCT(COUNTIF($E11:$AI11,'Cài đặt'!$B$16:$B$25)*'Cài đặt'!$H$16:$H$25)/'Cài đặt'!$D$12)} -> 26 | AW11: =IF($C11="","",MAX(0,AS11-'Cài đặt'!$D$11*'Cài đặt'!$D$12)) -> 8
A12: 5 | B12: VS005 | C12: Đỗ Văn Nam | D12: Ngoại cảnh – sân vườn | E12: C | F12: C | G12: OFF | H12: C | I12: C | J12: C | K12: C | L12: C | M12: C | N12: OFF | O12: C | P12: C | Q12: C | R12: C | S12: C | T12: C | U12: OFF | V12: Ô | W12: C | X12: C | Y12: C | Z12: C | AA12: C | AB12: OFF | AC12: C | AD12: C | AE12: C | AF12: C | AG12: C | AH12: C | AJ12: =IF($C12="","",COUNTIF($E12:$AI12,'Cài đặt'!$B$16)) -> 0 | AK12: =IF($C12="","",COUNTIF($E12:$AI12,'Cài đặt'!$B$17)) -> 25 | AL12: =IF($C12="","",COUNTIF($E12:$AI12,'Cài đặt'!$B$18)) -> 0 | AM12: =IF($C12="","",COUNTIF($E12:$AI12,'Cài đặt'!$B$19)) -> 0 | AN12: =IF($C12="","",COUNTIF($E12:$AI12,'Cài đặt'!$B$20)) -> 0 | AO12: =IF($C12="","",COUNTIF($E12:$AI12,'Cài đặt'!$B$21)) -> 0 | AP12: =IF($C12="","",COUNTIF($E12:$AI12,'Cài đặt'!$B$22)) -> 0 | AQ12: =IF($C12="","",COUNTIF($E12:$AI12,'Cài đặt'!$B$23)) -> 1 | AR12: =IF($C12="","",COUNTIF($E12:$AI12,'Cài đặt'!$B$24)) -> 0 | AS12: {=IF($C12="","",SUMPRODUCT(COUNTIF($E12:$AI12,'Cài đặt'!$B$16:$B$25)*'Cài đặt'!$G$16:$G$25))} -> 200 | AT12: =IF($C12="","",SUMPRODUCT(--($E$7:$AI$7="CN"),SUMIF('Cài đặt'!$B$16:$B$25,$E12:$AI12,'Cài đặt'!$G$16:$G$25))) -> 40 | AU12: =IF($C12="","",SUMPRODUCT(--($E$5:$AI$5="Lễ"),SUMIF('Cài đặt'!$B$16:$B$25,$E12:$AI12,'Cài đặt'!$G$16:$G$25))) -> 0 | AV12: {=IF($C12="","",SUMPRODUCT(COUNTIF($E12:$AI12,'Cài đặt'!$B$16:$B$25)*'Cài đặt'!$H$16:$H$25)/'Cài đặt'!$D$12)} -> 25 | AW12: =IF($C12="","",MAX(0,AS12-'Cài đặt'!$D$11*'Cài đặt'!$D$12)) -> 0
A13: 6 | B13: VS006 | C13: Vũ Thị Thủy | D13: Tầng hầm – hành lang | E13: G | F13: OFF | G13: G | H13: G | I13: G | J13: G | K13: G | L13: G | M13: OFF | N13: G | O13: G | P13: G | Q13: G | R13: G | S13: G | T13: OFF | U13: G | V13: G | W13: G | X13: G | Y13: G | Z13: G | AA13: OFF | AB13: G | AC13: G | AD13: G | AE13: G | AF13: G | AG13: G | AH13: OFF | AJ13: =IF($C13="","",COUNTIF($E13:$AI13,'Cài đặt'!$B$16)) -> 0 | AK13: =IF($C13="","",COUNTIF($E13:$AI13,'Cài đặt'!$B$17)) -> 0 | AL13: =IF($C13="","",COUNTIF($E13:$AI13,'Cài đặt'!$B$18)) -> 0 | AM13: =IF($C13="","",COUNTIF($E13:$AI13,'Cài đặt'!$B$19)) -> 25 | AN13: =IF($C13="","",COUNTIF($E13:$AI13,'Cài đặt'!$B$20)) -> 0 | AO13: =IF($C13="","",COUNTIF($E13:$AI13,'Cài đặt'!$B$21)) -> 0 | AP13: =IF($C13="","",COUNTIF($E13:$AI13,'Cài đặt'!$B$22)) -> 0 | AQ13: =IF($C13="","",COUNTIF($E13:$AI13,'Cài đặt'!$B$23)) -> 0 | AR13: =IF($C13="","",COUNTIF($E13:$AI13,'Cài đặt'!$B$24)) -> 0 | AS13: {=IF($C13="","",SUMPRODUCT(COUNTIF($E13:$AI13,'Cài đặt'!$B$16:$B$25)*'Cài đặt'!$G$16:$G$25))} -> 200 | AT13: =IF($C13="","",SUMPRODUCT(--($E$7:$AI$7="CN"),SUMIF('Cài đặt'!$B$16:$B$25,$E13:$AI13,'Cài đặt'!$G$16:$G$25))) -> 40 | AU13: =IF($C13="","",SUMPRODUCT(--($E$5:$AI$5="Lễ"),SUMIF('Cài đặt'!$B$16:$B$25,$E13:$AI13,'Cài đặt'!$G$16:$G$25))) -> 0 | AV13: {=IF($C13="","",SUMPRODUCT(COUNTIF($E13:$AI13,'Cài đặt'!$B$16:$B$25)*'Cài đặt'!$H$16:$H$25)/'Cài đặt'!$D$12)} -> 25 | AW13: =IF($C13="","",MAX(0,AS13-'Cài đặt'!$D$11*'Cài đặt'!$D$12)) -> 0
A14: 7 | B14: VS007 | C14: Hoàng Thị Yến | D14: Phòng họp – căng tin | E14: OFF | F14: N | G14: N | H14: N | I14: N | J14: N | K14: N | L14: OFF | M14: N | N14: N | O14: N | P14: N | Q14: N | R14: N | S14: OFF | T14: N | U14: N | V14: N | W14: N | X14: N | Y14: N | Z14: OFF | AA14: N | AB14: N | AC14: N | AD14: N | AE14: N | AF14: N | AG14: OFF | AH14: N | AJ14: =IF($C14="","",COUNTIF($E14:$AI14,'Cài đặt'!$B$16)) -> 0 | AK14: =IF($C14="","",COUNTIF($E14:$AI14,'Cài đặt'!$B$17)) -> 0 | AL14: =IF($C14="","",COUNTIF($E14:$AI14,'Cài đặt'!$B$18)) -> 0 | AM14: =IF($C14="","",COUNTIF($E14:$AI14,'Cài đặt'!$B$19)) -> 0 | AN14: =IF($C14="","",COUNTIF($E14:$AI14,'Cài đặt'!$B$20)) -> 25 | AO14: =IF($C14="","",COUNTIF($E14:$AI14,'Cài đặt'!$B$21)) -> 0 | AP14: =IF($C14="","",COUNTIF($E14:$AI14,'Cài đặt'!$B$22)) -> 0 | AQ14: =IF($C14="","",COUNTIF($E14:$AI14,'Cài đặt'!$B$23)) -> 0 | AR14: =IF($C14="","",COUNTIF($E14:$AI14,'Cài đặt'!$B$24)) -> 0 | AS14: {=IF($C14="","",SUMPRODUCT(COUNTIF($E14:$AI14,'Cài đặt'!$B$16:$B$25)*'Cài đặt'!$G$16:$G$25))} -> 100 | AT14: =IF($C14="","",SUMPRODUCT(--($E$7:$AI$7="CN"),SUMIF('Cài đặt'!$B$16:$B$25,$E14:$AI14,'Cài đặt'!$G$16:$G$25))) -> 0 | AU14: =IF($C14="","",SUMPRODUCT(--($E$5:$AI$5="Lễ"),SUMIF('Cài đặt'!$B$16:$B$25,$E14:$AI14,'Cài đặt'!$G$16:$G$25))) -> 0 | AV14: {=IF($C14="","",SUMPRODUCT(COUNTIF($E14:$AI14,'Cài đặt'!$B$16:$B$25)*'Cài đặt'!$H$16:$H$25)/'Cài đặt'!$D$12)} -> 12.5 | AW14: =IF($C14="","",MAX(0,AS14-'Cài đặt'!$D$11*'Cài đặt'!$D$12)) -> 0
A15: 8 | B15: VS008 | C15: Bùi Thị Ngọc | D15: Tầng 6–7 | E15: S | F15: S | G15: S | H15: C | I15: C | J15: C | K15: OFF | L15: S | M15: S | N15: S | O15: C | P15: C | Q15: C | R15: OFF | S15: S | T15: S | U15: S | V15: C | W15: C | X15: C | Y15: OFF | Z15: S | AA15: S | AB15: S | AC15: C | AD15: C | AE15: C | AF15: OFF | AG15: S | AH15: S | AJ15: =IF($C15="","",COUNTIF($E15:$AI15,'Cài đặt'!$B$16)) -> 14 | AK15: =IF($C15="","",COUNTIF($E15:$AI15,'Cài đặt'!$B$17)) -> 12 | AL15: =IF($C15="","",COUNTIF($E15:$AI15,'Cài đặt'!$B$18)) -> 0 | AM15: =IF($C15="","",COUNTIF($E15:$AI15,'Cài đặt'!$B$19)) -> 0 | AN15: =IF($C15="","",COUNTIF($E15:$AI15,'Cài đặt'!$B$20)) -> 0 | AO15: =IF($C15="","",COUNTIF($E15:$AI15,'Cài đặt'!$B$21)) -> 0 | AP15: =IF($C15="","",COUNTIF($E15:$AI15,'Cài đặt'!$B$22)) -> 0 | AQ15: =IF($C15="","",COUNTIF($E15:$AI15,'Cài đặt'!$B$23)) -> 0 | AR15: =IF($C15="","",COUNTIF($E15:$AI15,'Cài đặt'!$B$24)) -> 0 | AS15: {=IF($C15="","",SUMPRODUCT(COUNTIF($E15:$AI15,'Cài đặt'!$B$16:$B$25)*'Cài đặt'!$G$16:$G$25))} -> 208 | AT15: =IF($C15="","",SUMPRODUCT(--($E$7:$AI$7="CN"),SUMIF('Cài đặt'!$B$16:$B$25,$E15:$AI15,'Cài đặt'!$G$16:$G$25))) -> 40 | AU15: =IF($C15="","",SUMPRODUCT(--($E$5:$AI$5="Lễ"),SUMIF('Cài đặt'!$B$16:$B$25,$E15:$AI15,'Cài đặt'!$G$16:$G$25))) -> 0 | AV15: {=IF($C15="","",SUMPRODUCT(COUNTIF($E15:$AI15,'Cài đặt'!$B$16:$B$25)*'Cài đặt'!$H$16:$H$25)/'Cài đặt'!$D$12)} -> 26 | AW15: =IF($C15="","",MAX(0,AS15-'Cài đặt'!$D$11*'Cài đặt'!$D$12)) -> 8
A16: 9 | B16: VS009 | C16: Ngô Văn Dũng | D16: Thang máy – kính | E16: C | F16: C | G16: S | H16: S | I16: S | J16: OFF | K16: C | L16: C | M16: C | N16: S | O16: S | P16: S | Q16: OFF | R16: C | S16: C | T16: C | U16: S | V16: S | W16: S | X16: OFF | Y16: C | Z16: C | AA16: C | AB16: S | AC16: S | AD16: S | AE16: OFF | AF16: C | AG16: C | AH16: C | AJ16: =IF($C16="","",COUNTIF($E16:$AI16,'Cài đặt'!$B$16)) -> 12 | AK16: =IF($C16="","",COUNTIF($E16:$AI16,'Cài đặt'!$B$17)) -> 14 | AL16: =IF($C16="","",COUNTIF($E16:$AI16,'Cài đặt'!$B$18)) -> 0 | AM16: =IF($C16="","",COUNTIF($E16:$AI16,'Cài đặt'!$B$19)) -> 0 | AN16: =IF($C16="","",COUNTIF($E16:$AI16,'Cài đặt'!$B$20)) -> 0 | AO16: =IF($C16="","",COUNTIF($E16:$AI16,'Cài đặt'!$B$21)) -> 0 | AP16: =IF($C16="","",COUNTIF($E16:$AI16,'Cài đặt'!$B$22)) -> 0 | AQ16: =IF($C16="","",COUNTIF($E16:$AI16,'Cài đặt'!$B$23)) -> 0 | AR16: =IF($C16="","",COUNTIF($E16:$AI16,'Cài đặt'!$B$24)) -> 0 | AS16: {=IF($C16="","",SUMPRODUCT(COUNTIF($E16:$AI16,'Cài đặt'!$B$16:$B$25)*'Cài đặt'!$G$16:$G$25))} -> 208 | AT16: =IF($C16="","",SUMPRODUCT(--($E$7:$AI$7="CN"),SUMIF('Cài đặt'!$B$16:$B$25,$E16:$AI16,'Cài đặt'!$G$16:$G$25))) -> 40 | AU16: =IF($C16="","",SUMPRODUCT(--($E$5:$AI$5="Lễ"),SUMIF('Cài đặt'!$B$16:$B$25,$E16:$AI16,'Cài đặt'!$G$16:$G$25))) -> 0 | AV16: {=IF($C16="","",SUMPRODUCT(COUNTIF($E16:$AI16,'Cài đặt'!$B$16:$B$25)*'Cài đặt'!$H$16:$H$25)/'Cài đặt'!$D$12)} -> 26 | AW16: =IF($C16="","",MAX(0,AS16-'Cài đặt'!$D$11*'Cài đặt'!$D$12)) -> 8
A17: 10 | B17: VS010 | C17: Đặng Thị Hạnh | D17: Tổ trưởng – kiểm tra | E17: H | F17: H | G17: H | H17: H | I17: OFF | J17: H | K17: H | L17: H | M17: H | N17: H | O17: H | P17: OFF | Q17: H | R17: H | S17: H | T17: H | U17: H | V17: H | W17: OFF | X17: H | Y17: H | Z17: H | AA17: H | AB17: H | AC17: H | AD17: OFF | AE17: H | AF17: H | AG17: H | AH17: H | AJ17: =IF($C17="","",COUNTIF($E17:$AI17,'Cài đặt'!$B$16)) -> 0 | AK17: =IF($C17="","",COUNTIF($E17:$AI17,'Cài đặt'!$B$17)) -> 0 | AL17: =IF($C17="","",COUNTIF($E17:$AI17,'Cài đặt'!$B$18)) -> 26 | AM17: =IF($C17="","",COUNTIF($E17:$AI17,'Cài đặt'!$B$19)) -> 0 | AN17: =IF($C17="","",COUNTIF($E17:$AI17,'Cài đặt'!$B$20)) -> 0 | AO17: =IF($C17="","",COUNTIF($E17:$AI17,'Cài đặt'!$B$21)) -> 0 | AP17: =IF($C17="","",COUNTIF($E17:$AI17,'Cài đặt'!$B$22)) -> 0 | AQ17: =IF($C17="","",COUNTIF($E17:$AI17,'Cài đặt'!$B$23)) -> 0 | AR17: =IF($C17="","",COUNTIF($E17:$AI17,'Cài đặt'!$B$24)) -> 0 | AS17: {=IF($C17="","",SUMPRODUCT(COUNTIF($E17:$AI17,'Cài đặt'!$B$16:$B$25)*'Cài đặt'!$G$16:$G$25))} -> 208 | AT17: =IF($C17="","",SUMPRODUCT(--($E$7:$AI$7="CN"),SUMIF('Cài đặt'!$B$16:$B$25,$E17:$AI17,'Cài đặt'!$G$16:$G$25))) -> 40 | AU17: =IF($C17="","",SUMPRODUCT(--($E$5:$AI$5="Lễ"),SUMIF('Cài đặt'!$B$16:$B$25,$E17:$AI17,'Cài đặt'!$G$16:$G$25))) -> 0 | AV17: {=IF($C17="","",SUMPRODUCT(COUNTIF($E17:$AI17,'Cài đặt'!$B$16:$B$25)*'Cài đặt'!$H$16:$H$25)/'Cài đặt'!$D$12)} -> 26 | AW17: =IF($C17="","",MAX(0,AS17-'Cài đặt'!$D$11*'Cài đặt'!$D$12)) -> 8
A18: 11 | AJ18: =IF($C18="","",COUNTIF($E18:$AI18,'Cài đặt'!$B$16)) | AK18: =IF($C18="","",COUNTIF($E18:$AI18,'Cài đặt'!$B$17)) | AL18: =IF($C18="","",COUNTIF($E18:$AI18,'Cài đặt'!$B$18)) | AM18: =IF($C18="","",COUNTIF($E18:$AI18,'Cài đặt'!$B$19)) | AN18: =IF($C18="","",COUNTIF($E18:$AI18,'Cài đặt'!$B$20)) | AO18: =IF($C18="","",COUNTIF($E18:$AI18,'Cài đặt'!$B$21)) | AP18: =IF($C18="","",COUNTIF($E18:$AI18,'Cài đặt'!$B$22)) | AQ18: =IF($C18="","",COUNTIF($E18:$AI18,'Cài đặt'!$B$23)) | AR18: =IF($C18="","",COUNTIF($E18:$AI18,'Cài đặt'!$B$24)) | AS18: {=IF($C18="","",SUMPRODUCT(COUNTIF($E18:$AI18,'Cài đặt'!$B$16:$B$25)*'Cài đặt'!$G$16:$G$25))} | AT18: =IF($C18="","",SUMPRODUCT(--($E$7:$AI$7="CN"),SUMIF('Cài đặt'!$B$16:$B$25,$E18:$AI18,'Cài đặt'!$G$16:$G$25))) | AU18: =IF($C18="","",SUMPRODUCT(--($E$5:$AI$5="Lễ"),SUMIF('Cài đặt'!$B$16:$B$25,$E18:$AI18,'Cài đặt'!$G$16:$G$25))) | AV18: {=IF($C18="","",SUMPRODUCT(COUNTIF($E18:$AI18,'Cài đặt'!$B$16:$B$25)*'Cài đặt'!$H$16:$H$25)/'Cài đặt'!$D$12)} | AW18: =IF($C18="","",MAX(0,AS18-'Cài đặt'!$D$11*'Cài đặt'!$D$12))
A19: 12 | AJ19: =IF($C19="","",COUNTIF($E19:$AI19,'Cài đặt'!$B$16)) | AK19: =IF($C19="","",COUNTIF($E19:$AI19,'Cài đặt'!$B$17)) | AL19: =IF($C19="","",COUNTIF($E19:$AI19,'Cài đặt'!$B$18)) | AM19: =IF($C19="","",COUNTIF($E19:$AI19,'Cài đặt'!$B$19)) | AN19: =IF($C19="","",COUNTIF($E19:$AI19,'Cài đặt'!$B$20)) | AO19: =IF($C19="","",COUNTIF($E19:$AI19,'Cài đặt'!$B$21)) | AP19: =IF($C19="","",COUNTIF($E19:$AI19,'Cài đặt'!$B$22)) | AQ19: =IF($C19="","",COUNTIF($E19:$AI19,'Cài đặt'!$B$23)) | AR19: =IF($C19="","",COUNTIF($E19:$AI19,'Cài đặt'!$B$24)) | AS19: {=IF($C19="","",SUMPRODUCT(COUNTIF($E19:$AI19,'Cài đặt'!$B$16:$B$25)*'Cài đặt'!$G$16:$G$25))} | AT19: =IF($C19="","",SUMPRODUCT(--($E$7:$AI$7="CN"),SUMIF('Cài đặt'!$B$16:$B$25,$E19:$AI19,'Cài đặt'!$G$16:$G$25))) | AU19: =IF($C19="","",SUMPRODUCT(--($E$5:$AI$5="Lễ"),SUMIF('Cài đặt'!$B$16:$B$25,$E19:$AI19,'Cài đặt'!$G$16:$G$25))) | AV19: {=IF($C19="","",SUMPRODUCT(COUNTIF($E19:$AI19,'Cài đặt'!$B$16:$B$25)*'Cài đặt'!$H$16:$H$25)/'Cài đặt'!$D$12)} | AW19: =IF($C19="","",MAX(0,AS19-'Cài đặt'!$D$11*'Cài đặt'!$D$12))
A20: 13 | AJ20: =IF($C20="","",COUNTIF($E20:$AI20,'Cài đặt'!$B$16)) | AK20: =IF($C20="","",COUNTIF($E20:$AI20,'Cài đặt'!$B$17)) | AL20: =IF($C20="","",COUNTIF($E20:$AI20,'Cài đặt'!$B$18)) | AM20: =IF($C20="","",COUNTIF($E20:$AI20,'Cài đặt'!$B$19)) | AN20: =IF($C20="","",COUNTIF($E20:$AI20,'Cài đặt'!$B$20)) | AO20: =IF($C20="","",COUNTIF($E20:$AI20,'Cài đặt'!$B$21)) | AP20: =IF($C20="","",COUNTIF($E20:$AI20,'Cài đặt'!$B$22)) | AQ20: =IF($C20="","",COUNTIF($E20:$AI20,'Cài đặt'!$B$23)) | AR20: =IF($C20="","",COUNTIF($E20:$AI20,'Cài đặt'!$B$24)) | AS20: {=IF($C20="","",SUMPRODUCT(COUNTIF($E20:$AI20,'Cài đặt'!$B$16:$B$25)*'Cài đặt'!$G$16:$G$25))} | AT20: =IF($C20="","",SUMPRODUCT(--($E$7:$AI$7="CN"),SUMIF('Cài đặt'!$B$16:$B$25,$E20:$AI20,'Cài đặt'!$G$16:$G$25))) | AU20: =IF($C20="","",SUMPRODUCT(--($E$5:$AI$5="Lễ"),SUMIF('Cài đặt'!$B$16:$B$25,$E20:$AI20,'Cài đặt'!$G$16:$G$25))) | AV20: {=IF($C20="","",SUMPRODUCT(COUNTIF($E20:$AI20,'Cài đặt'!$B$16:$B$25)*'Cài đặt'!$H$16:$H$25)/'Cài đặt'!$D$12)} | AW20: =IF($C20="","",MAX(0,AS20-'Cài đặt'!$D$11*'Cài đặt'!$D$12))
A21: 14 | AJ21: =IF($C21="","",COUNTIF($E21:$AI21,'Cài đặt'!$B$16)) | AK21: =IF($C21="","",COUNTIF($E21:$AI21,'Cài đặt'!$B$17)) | AL21: =IF($C21="","",COUNTIF($E21:$AI21,'Cài đặt'!$B$18)) | AM21: =IF($C21="","",COUNTIF($E21:$AI21,'Cài đặt'!$B$19)) | AN21: =IF($C21="","",COUNTIF($E21:$AI21,'Cài đặt'!$B$20)) | AO21: =IF($C21="","",COUNTIF($E21:$AI21,'Cài đặt'!$B$21)) | AP21: =IF($C21="","",COUNTIF($E21:$AI21,'Cài đặt'!$B$22)) | AQ21: =IF($C21="","",COUNTIF($E21:$AI21,'Cài đặt'!$B$23)) | AR21: =IF($C21="","",COUNTIF($E21:$AI21,'Cài đặt'!$B$24)) | AS21: {=IF($C21="","",SUMPRODUCT(COUNTIF($E21:$AI21,'Cài đặt'!$B$16:$B$25)*'Cài đặt'!$G$16:$G$25))} | AT21: =IF($C21="","",SUMPRODUCT(--($E$7:$AI$7="CN"),SUMIF('Cài đặt'!$B$16:$B$25,$E21:$AI21,'Cài đặt'!$G$16:$G$25))) | AU21: =IF($C21="","",SUMPRODUCT(--($E$5:$AI$5="Lễ"),SUMIF('Cài đặt'!$B$16:$B$25,$E21:$AI21,'Cài đặt'!$G$16:$G$25))) | AV21: {=IF($C21="","",SUMPRODUCT(COUNTIF($E21:$AI21,'Cài đặt'!$B$16:$B$25)*'Cài đặt'!$H$16:$H$25)/'Cài đặt'!$D$12)} | AW21: =IF($C21="","",MAX(0,AS21-'Cài đặt'!$D$11*'Cài đặt'!$D$12))
A22: 15 | AJ22: =IF($C22="","",COUNTIF($E22:$AI22,'Cài đặt'!$B$16)) | AK22: =IF($C22="","",COUNTIF($E22:$AI22,'Cài đặt'!$B$17)) | AL22: =IF($C22="","",COUNTIF($E22:$AI22,'Cài đặt'!$B$18)) | AM22: =IF($C22="","",COUNTIF($E22:$AI22,'Cài đặt'!$B$19)) | AN22: =IF($C22="","",COUNTIF($E22:$AI22,'Cài đặt'!$B$20)) | AO22: =IF($C22="","",COUNTIF($E22:$AI22,'Cài đặt'!$B$21)) | AP22: =IF($C22="","",COUNTIF($E22:$AI22,'Cài đặt'!$B$22)) | AQ22: =IF($C22="","",COUNTIF($E22:$AI22,'Cài đặt'!$B$23)) | AR22: =IF($C22="","",COUNTIF($E22:$AI22,'Cài đặt'!$B$24)) | AS22: {=IF($C22="","",SUMPRODUCT(COUNTIF($E22:$AI22,'Cài đặt'!$B$16:$B$25)*'Cài đặt'!$G$16:$G$25))} | AT22: =IF($C22="","",SUMPRODUCT(--($E$7:$AI$7="CN"),SUMIF('Cài đặt'!$B$16:$B$25,$E22:$AI22,'Cài đặt'!$G$16:$G$25))) | AU22: =IF($C22="","",SUMPRODUCT(--($E$5:$AI$5="Lễ"),SUMIF('Cài đặt'!$B$16:$B$25,$E22:$AI22,'Cài đặt'!$G$16:$G$25))) | AV22: {=IF($C22="","",SUMPRODUCT(COUNTIF($E22:$AI22,'Cài đặt'!$B$16:$B$25)*'Cài đặt'!$H$16:$H$25)/'Cài đặt'!$D$12)} | AW22: =IF($C22="","",MAX(0,AS22-'Cài đặt'!$D$11*'Cài đặt'!$D$12))
A23: 16 | AJ23: =IF($C23="","",COUNTIF($E23:$AI23,'Cài đặt'!$B$16)) | AK23: =IF($C23="","",COUNTIF($E23:$AI23,'Cài đặt'!$B$17)) | AL23: =IF($C23="","",COUNTIF($E23:$AI23,'Cài đặt'!$B$18)) | AM23: =IF($C23="","",COUNTIF($E23:$AI23,'Cài đặt'!$B$19)) | AN23: =IF($C23="","",COUNTIF($E23:$AI23,'Cài đặt'!$B$20)) | AO23: =IF($C23="","",COUNTIF($E23:$AI23,'Cài đặt'!$B$21)) | AP23: =IF($C23="","",COUNTIF($E23:$AI23,'Cài đặt'!$B$22)) | AQ23: =IF($C23="","",COUNTIF($E23:$AI23,'Cài đặt'!$B$23)) | AR23: =IF($C23="","",COUNTIF($E23:$AI23,'Cài đặt'!$B$24)) | AS23: {=IF($C23="","",SUMPRODUCT(COUNTIF($E23:$AI23,'Cài đặt'!$B$16:$B$25)*'Cài đặt'!$G$16:$G$25))} | AT23: =IF($C23="","",SUMPRODUCT(--($E$7:$AI$7="CN"),SUMIF('Cài đặt'!$B$16:$B$25,$E23:$AI23,'Cài đặt'!$G$16:$G$25))) | AU23: =IF($C23="","",SUMPRODUCT(--($E$5:$AI$5="Lễ"),SUMIF('Cài đặt'!$B$16:$B$25,$E23:$AI23,'Cài đặt'!$G$16:$G$25))) | AV23: {=IF($C23="","",SUMPRODUCT(COUNTIF($E23:$AI23,'Cài đặt'!$B$16:$B$25)*'Cài đặt'!$H$16:$H$25)/'Cài đặt'!$D$12)} | AW23: =IF($C23="","",MAX(0,AS23-'Cài đặt'!$D$11*'Cài đặt'!$D$12))
A24: 17 | AJ24: =IF($C24="","",COUNTIF($E24:$AI24,'Cài đặt'!$B$16)) | AK24: =IF($C24="","",COUNTIF($E24:$AI24,'Cài đặt'!$B$17)) | AL24: =IF($C24="","",COUNTIF($E24:$AI24,'Cài đặt'!$B$18)) | AM24: =IF($C24="","",COUNTIF($E24:$AI24,'Cài đặt'!$B$19)) | AN24: =IF($C24="","",COUNTIF($E24:$AI24,'Cài đặt'!$B$20)) | AO24: =IF($C24="","",COUNTIF($E24:$AI24,'Cài đặt'!$B$21)) | AP24: =IF($C24="","",COUNTIF($E24:$AI24,'Cài đặt'!$B$22)) | AQ24: =IF($C24="","",COUNTIF($E24:$AI24,'Cài đặt'!$B$23)) | AR24: =IF($C24="","",COUNTIF($E24:$AI24,'Cài đặt'!$B$24)) | AS24: {=IF($C24="","",SUMPRODUCT(COUNTIF($E24:$AI24,'Cài đặt'!$B$16:$B$25)*'Cài đặt'!$G$16:$G$25))} | AT24: =IF($C24="","",SUMPRODUCT(--($E$7:$AI$7="CN"),SUMIF('Cài đặt'!$B$16:$B$25,$E24:$AI24,'Cài đặt'!$G$16:$G$25))) | AU24: =IF($C24="","",SUMPRODUCT(--($E$5:$AI$5="Lễ"),SUMIF('Cài đặt'!$B$16:$B$25,$E24:$AI24,'Cài đặt'!$G$16:$G$25))) | AV24: {=IF($C24="","",SUMPRODUCT(COUNTIF($E24:$AI24,'Cài đặt'!$B$16:$B$25)*'Cài đặt'!$H$16:$H$25)/'Cài đặt'!$D$12)} | AW24: =IF($C24="","",MAX(0,AS24-'Cài đặt'!$D$11*'Cài đặt'!$D$12))
A25: 18 | AJ25: =IF($C25="","",COUNTIF($E25:$AI25,'Cài đặt'!$B$16)) | AK25: =IF($C25="","",COUNTIF($E25:$AI25,'Cài đặt'!$B$17)) | AL25: =IF($C25="","",COUNTIF($E25:$AI25,'Cài đặt'!$B$18)) | AM25: =IF($C25="","",COUNTIF($E25:$AI25,'Cài đặt'!$B$19)) | AN25: =IF($C25="","",COUNTIF($E25:$AI25,'Cài đặt'!$B$20)) | AO25: =IF($C25="","",COUNTIF($E25:$AI25,'Cài đặt'!$B$21)) | AP25: =IF($C25="","",COUNTIF($E25:$AI25,'Cài đặt'!$B$22)) | AQ25: =IF($C25="","",COUNTIF($E25:$AI25,'Cài đặt'!$B$23)) | AR25: =IF($C25="","",COUNTIF($E25:$AI25,'Cài đặt'!$B$24)) | AS25: {=IF($C25="","",SUMPRODUCT(COUNTIF($E25:$AI25,'Cài đặt'!$B$16:$B$25)*'Cài đặt'!$G$16:$G$25))} | AT25: =IF($C25="","",SUMPRODUCT(--($E$7:$AI$7="CN"),SUMIF('Cài đặt'!$B$16:$B$25,$E25:$AI25,'Cài đặt'!$G$16:$G$25))) | AU25: =IF($C25="","",SUMPRODUCT(--($E$5:$AI$5="Lễ"),SUMIF('Cài đặt'!$B$16:$B$25,$E25:$AI25,'Cài đặt'!$G$16:$G$25))) | AV25: {=IF($C25="","",SUMPRODUCT(COUNTIF($E25:$AI25,'Cài đặt'!$B$16:$B$25)*'Cài đặt'!$H$16:$H$25)/'Cài đặt'!$D$12)} | AW25: =IF($C25="","",MAX(0,AS25-'Cài đặt'!$D$11*'Cài đặt'!$D$12))
A26: 19 | AJ26: =IF($C26="","",COUNTIF($E26:$AI26,'Cài đặt'!$B$16)) | AK26: =IF($C26="","",COUNTIF($E26:$AI26,'Cài đặt'!$B$17)) | AL26: =IF($C26="","",COUNTIF($E26:$AI26,'Cài đặt'!$B$18)) | AM26: =IF($C26="","",COUNTIF($E26:$AI26,'Cài đặt'!$B$19)) | AN26: =IF($C26="","",COUNTIF($E26:$AI26,'Cài đặt'!$B$20)) | AO26: =IF($C26="","",COUNTIF($E26:$AI26,'Cài đặt'!$B$21)) | AP26: =IF($C26="","",COUNTIF($E26:$AI26,'Cài đặt'!$B$22)) | AQ26: =IF($C26="","",COUNTIF($E26:$AI26,'Cài đặt'!$B$23)) | AR26: =IF($C26="","",COUNTIF($E26:$AI26,'Cài đặt'!$B$24)) | AS26: {=IF($C26="","",SUMPRODUCT(COUNTIF($E26:$AI26,'Cài đặt'!$B$16:$B$25)*'Cài đặt'!$G$16:$G$25))} | AT26: =IF($C26="","",SUMPRODUCT(--($E$7:$AI$7="CN"),SUMIF('Cài đặt'!$B$16:$B$25,$E26:$AI26,'Cài đặt'!$G$16:$G$25))) | AU26: =IF($C26="","",SUMPRODUCT(--($E$5:$AI$5="Lễ"),SUMIF('Cài đặt'!$B$16:$B$25,$E26:$AI26,'Cài đặt'!$G$16:$G$25))) | AV26: {=IF($C26="","",SUMPRODUCT(COUNTIF($E26:$AI26,'Cài đặt'!$B$16:$B$25)*'Cài đặt'!$H$16:$H$25)/'Cài đặt'!$D$12)} | AW26: =IF($C26="","",MAX(0,AS26-'Cài đặt'!$D$11*'Cài đặt'!$D$12))
A27: 20 | AJ27: =IF($C27="","",COUNTIF($E27:$AI27,'Cài đặt'!$B$16)) | AK27: =IF($C27="","",COUNTIF($E27:$AI27,'Cài đặt'!$B$17)) | AL27: =IF($C27="","",COUNTIF($E27:$AI27,'Cài đặt'!$B$18)) | AM27: =IF($C27="","",COUNTIF($E27:$AI27,'Cài đặt'!$B$19)) | AN27: =IF($C27="","",COUNTIF($E27:$AI27,'Cài đặt'!$B$20)) | AO27: =IF($C27="","",COUNTIF($E27:$AI27,'Cài đặt'!$B$21)) | AP27: =IF($C27="","",COUNTIF($E27:$AI27,'Cài đặt'!$B$22)) | AQ27: =IF($C27="","",COUNTIF($E27:$AI27,'Cài đặt'!$B$23)) | AR27: =IF($C27="","",COUNTIF($E27:$AI27,'Cài đặt'!$B$24)) | AS27: {=IF($C27="","",SUMPRODUCT(COUNTIF($E27:$AI27,'Cài đặt'!$B$16:$B$25)*'Cài đặt'!$G$16:$G$25))} | AT27: =IF($C27="","",SUMPRODUCT(--($E$7:$AI$7="CN"),SUMIF('Cài đặt'!$B$16:$B$25,$E27:$AI27,'Cài đặt'!$G$16:$G$25))) | AU27: =IF($C27="","",SUMPRODUCT(--($E$5:$AI$5="Lễ"),SUMIF('Cài đặt'!$B$16:$B$25,$E27:$AI27,'Cài đặt'!$G$16:$G$25))) | AV27: {=IF($C27="","",SUMPRODUCT(COUNTIF($E27:$AI27,'Cài đặt'!$B$16:$B$25)*'Cài đặt'!$H$16:$H$25)/'Cài đặt'!$D$12)} | AW27: =IF($C27="","",MAX(0,AS27-'Cài đặt'!$D$11*'Cài đặt'!$D$12))
A28: 21 | AJ28: =IF($C28="","",COUNTIF($E28:$AI28,'Cài đặt'!$B$16)) | AK28: =IF($C28="","",COUNTIF($E28:$AI28,'Cài đặt'!$B$17)) | AL28: =IF($C28="","",COUNTIF($E28:$AI28,'Cài đặt'!$B$18)) | AM28: =IF($C28="","",COUNTIF($E28:$AI28,'Cài đặt'!$B$19)) | AN28: =IF($C28="","",COUNTIF($E28:$AI28,'Cài đặt'!$B$20)) | AO28: =IF($C28="","",COUNTIF($E28:$AI28,'Cài đặt'!$B$21)) | AP28: =IF($C28="","",COUNTIF($E28:$AI28,'Cài đặt'!$B$22)) | AQ28: =IF($C28="","",COUNTIF($E28:$AI28,'Cài đặt'!$B$23)) | AR28: =IF($C28="","",COUNTIF($E28:$AI28,'Cài đặt'!$B$24)) | AS28: {=IF($C28="","",SUMPRODUCT(COUNTIF($E28:$AI28,'Cài đặt'!$B$16:$B$25)*'Cài đặt'!$G$16:$G$25))} | AT28: =IF($C28="","",SUMPRODUCT(--($E$7:$AI$7="CN"),SUMIF('Cài đặt'!$B$16:$B$25,$E28:$AI28,'Cài đặt'!$G$16:$G$25))) | AU28: =IF($C28="","",SUMPRODUCT(--($E$5:$AI$5="Lễ"),SUMIF('Cài đặt'!$B$16:$B$25,$E28:$AI28,'Cài đặt'!$G$16:$G$25))) | AV28: {=IF($C28="","",SUMPRODUCT(COUNTIF($E28:$AI28,'Cài đặt'!$B$16:$B$25)*'Cài đặt'!$H$16:$H$25)/'Cài đặt'!$D$12)} | AW28: =IF($C28="","",MAX(0,AS28-'Cài đặt'!$D$11*'Cài đặt'!$D$12))
A29: 22 | AJ29: =IF($C29="","",COUNTIF($E29:$AI29,'Cài đặt'!$B$16)) | AK29: =IF($C29="","",COUNTIF($E29:$AI29,'Cài đặt'!$B$17)) | AL29: =IF($C29="","",COUNTIF($E29:$AI29,'Cài đặt'!$B$18)) | AM29: =IF($C29="","",COUNTIF($E29:$AI29,'Cài đặt'!$B$19)) | AN29: =IF($C29="","",COUNTIF($E29:$AI29,'Cài đặt'!$B$20)) | AO29: =IF($C29="","",COUNTIF($E29:$AI29,'Cài đặt'!$B$21)) | AP29: =IF($C29="","",COUNTIF($E29:$AI29,'Cài đặt'!$B$22)) | AQ29: =IF($C29="","",COUNTIF($E29:$AI29,'Cài đặt'!$B$23)) | AR29: =IF($C29="","",COUNTIF($E29:$AI29,'Cài đặt'!$B$24)) | AS29: {=IF($C29="","",SUMPRODUCT(COUNTIF($E29:$AI29,'Cài đặt'!$B$16:$B$25)*'Cài đặt'!$G$16:$G$25))} | AT29: =IF($C29="","",SUMPRODUCT(--($E$7:$AI$7="CN"),SUMIF('Cài đặt'!$B$16:$B$25,$E29:$AI29,'Cài đặt'!$G$16:$G$25))) | AU29: =IF($C29="","",SUMPRODUCT(--($E$5:$AI$5="Lễ"),SUMIF('Cài đặt'!$B$16:$B$25,$E29:$AI29,'Cài đặt'!$G$16:$G$25))) | AV29: {=IF($C29="","",SUMPRODUCT(COUNTIF($E29:$AI29,'Cài đặt'!$B$16:$B$25)*'Cài đặt'!$H$16:$H$25)/'Cài đặt'!$D$12)} | AW29: =IF($C29="","",MAX(0,AS29-'Cài đặt'!$D$11*'Cài đặt'!$D$12))
... A37: 30 | AJ37: =IF($C37="","",COUNTIF($E37:$AI37,'Cài đặt'!$B$16)) | AK37: =IF($C37="","",COUNTIF($E37:$AI37,'Cài đặt'!$B$17)) | AL37: =IF($C37="","",COUNTIF($E37:$AI37,'Cài đặt'!$B$18)) | AM37: =IF($C37="","",COUNTIF($E37:$AI37,'Cài đặt'!$B$19)) | AN37: =IF($C37="","",COUNTIF($E37:$AI37,'Cài đặt'!$B$20)) | AO37: =IF($C37="","",COUNTIF($E37:$AI37,'Cài đặt'!$B$21)) | AP37: =IF($C37="","",COUNTIF($E37:$AI37,'Cài đặt'!$B$22)) | AQ37: =IF($C37="","",COUNTIF($E37:$AI37,'Cài đặt'!$B$23)) | AR37: =IF($C37="","",COUNTIF($E37:$AI37,'Cài đặt'!$B$24)) | AS37: {=IF($C37="","",SUMPRODUCT(COUNTIF($E37:$AI37,'Cài đặt'!$B$16:$B$25)*'Cài đặt'!$G$16:$G$25))} | AT37: =IF($C37="","",SUMPRODUCT(--($E$7:$AI$7="CN"),SUMIF('Cài đặt'!$B$16:$B$25,$E37:$AI37,'Cài đặt'!$G$16:$G$25))) | AU37: =IF($C37="","",SUMPRODUCT(--($E$5:$AI$5="Lễ"),SUMIF('Cài đặt'!$B$16:$B$25,$E37:$AI37,'Cài đặt'!$G$16:$G$25))) | AV37: {=IF($C37="","",SUMPRODUCT(COUNTIF($E37:$AI37,'Cài đặt'!$B$16:$B$25)*'Cài đặt'!$H$16:$H$25)/'Cài đặt'!$D$12)} | AW37: =IF($C37="","",MAX(0,AS37-'Cài đặt'!$D$11*'Cài đặt'!$D$12))
A38: TỔNG CỘNG | AJ38: =SUM(AJ8:AJ37) -> 52 | AK38: =SUM(AK8:AK37) -> 51 | AL38: =SUM(AL8:AL37) -> 101 | AM38: =SUM(AM8:AM37) -> 25 | AN38: =SUM(AN8:AN37) -> 25 | AO38: =SUM(AO8:AO37) -> 2 | AP38: =SUM(AP8:AP37) -> 0 | AQ38: =SUM(AQ8:AQ37) -> 1 | ... AW38: =SUM(AW8:AW37) -> 40
A39: Số người làm trong ngày | E39: =IF(E$6="","",SUMPRODUCT(--(SUMIF('Cài đặt'!$B$16:$B$25,E$8:E$37,'Cài đặt'!$G$16:$G$25)>0))) -> 9 | F39: =IF(F$6="","",SUMPRODUCT(--(SUMIF('Cài đặt'!$B$16:$B$25,F$8:F$37,'Cài đặt'!$G$16:$G$25)>0))) -> 9 | G39: =IF(G$6="","",SUMPRODUCT(--(SUMIF('Cài đặt'!$B$16:$B$25,G$8:G$37,'Cài đặt'!$G$16:$G$25)>0))) -> 9 | H39: =IF(H$6="","",SUMPRODUCT(--(SUMIF('Cài đặt'!$B$16:$B$25,H$8:H$37,'Cài đặt'!$G$16:$G$25)>0))) -> 9 | I39: =IF(I$6="","",SUMPRODUCT(--(SUMIF('Cài đặt'!$B$16:$B$25,I$8:I$37,'Cài đặt'!$G$16:$G$25)>0))) -> 8 | J39: =IF(J$6="","",SUMPRODUCT(--(SUMIF('Cài đặt'!$B$16:$B$25,J$8:J$37,'Cài đặt'!$G$16:$G$25)>0))) -> 8 | K39: =IF(K$6="","",SUMPRODUCT(--(SUMIF('Cài đặt'!$B$16:$B$25,K$8:K$37,'Cài đặt'!$G$16:$G$25)>0))) -> 8 | L39: =IF(L$6="","",SUMPRODUCT(--(SUMIF('Cài đặt'!$B$16:$B$25,L$8:L$37,'Cài đặt'!$G$16:$G$25)>0))) -> 9 | ... AI39: =IF(AI$6="","",SUMPRODUCT(--(SUMIF('Cài đặt'!$B$16:$B$25,AI$8:AI$37,'Cài đặt'!$G$16:$G$25)>0)))
A40: =" • "&'Cài đặt'!C16 -> • Ca sáng | E40: =IF(E$6="","",COUNTIF(E$8:E$37,'Cài đặt'!$B$16)) -> 2 | F40: =IF(F$6="","",COUNTIF(F$8:F$37,'Cài đặt'!$B$16)) -> 2 | G40: =IF(G$6="","",COUNTIF(G$8:G$37,'Cài đặt'!$B$16)) -> 3 | H40: =IF(H$6="","",COUNTIF(H$8:H$37,'Cài đặt'!$B$16)) -> 1 | I40: =IF(I$6="","",COUNTIF(I$8:I$37,'Cài đặt'!$B$16)) -> 2 | J40: =IF(J$6="","",COUNTIF(J$8:J$37,'Cài đặt'!$B$16)) -> 1 | K40: =IF(K$6="","",COUNTIF(K$8:K$37,'Cài đặt'!$B$16)) -> 1 | L40: =IF(L$6="","",COUNTIF(L$8:L$37,'Cài đặt'!$B$16)) -> 2 | ... AI40: =IF(AI$6="","",COUNTIF(AI$8:AI$37,'Cài đặt'!$B$16))
A41: =" • "&'Cài đặt'!C17 -> • Ca chiều | E41: =IF(E$6="","",COUNTIF(E$8:E$37,'Cài đặt'!$B$17)) -> 2 | F41: =IF(F$6="","",COUNTIF(F$8:F$37,'Cài đặt'!$B$17)) -> 2 | G41: =IF(G$6="","",COUNTIF(G$8:G$37,'Cài đặt'!$B$17)) -> 0 | H41: =IF(H$6="","",COUNTIF(H$8:H$37,'Cài đặt'!$B$17)) -> 2 | I41: =IF(I$6="","",COUNTIF(I$8:I$37,'Cài đặt'!$B$17)) -> 2 | J41: =IF(J$6="","",COUNTIF(J$8:J$37,'Cài đặt'!$B$17)) -> 2 | K41: =IF(K$6="","",COUNTIF(K$8:K$37,'Cài đặt'!$B$17)) -> 2 | L41: =IF(L$6="","",COUNTIF(L$8:L$37,'Cài đặt'!$B$17)) -> 2 | ... AI41: =IF(AI$6="","",COUNTIF(AI$8:AI$37,'Cài đặt'!$B$17))
A42: =" • "&'Cài đặt'!C18 -> • Ca hành chính | E42: =IF(E$6="","",COUNTIF(E$8:E$37,'Cài đặt'!$B$18)) -> 4 | F42: =IF(F$6="","",COUNTIF(F$8:F$37,'Cài đặt'!$B$18)) -> 4 | G42: =IF(G$6="","",COUNTIF(G$8:G$37,'Cài đặt'!$B$18)) -> 4 | H42: =IF(H$6="","",COUNTIF(H$8:H$37,'Cài đặt'!$B$18)) -> 4 | I42: =IF(I$6="","",COUNTIF(I$8:I$37,'Cài đặt'!$B$18)) -> 2 | J42: =IF(J$6="","",COUNTIF(J$8:J$37,'Cài đặt'!$B$18)) -> 3 | K42: =IF(K$6="","",COUNTIF(K$8:K$37,'Cài đặt'!$B$18)) -> 3 | L42: =IF(L$6="","",COUNTIF(L$8:L$37,'Cài đặt'!$B$18)) -> 4 | ... AI42: =IF(AI$6="","",COUNTIF(AI$8:AI$37,'Cài đặt'!$B$18))
A43: =" • "&'Cài đặt'!C19 -> • Ca gãy (2 đợt) | E43: =IF(E$6="","",COUNTIF(E$8:E$37,'Cài đặt'!$B$19)) -> 1 | F43: =IF(F$6="","",COUNTIF(F$8:F$37,'Cài đặt'!$B$19)) -> 0 | G43: =IF(G$6="","",COUNTIF(G$8:G$37,'Cài đặt'!$B$19)) -> 1 | H43: =IF(H$6="","",COUNTIF(H$8:H$37,'Cài đặt'!$B$19)) -> 1 | I43: =IF(I$6="","",COUNTIF(I$8:I$37,'Cài đặt'!$B$19)) -> 1 | J43: =IF(J$6="","",COUNTIF(J$8:J$37,'Cài đặt'!$B$19)) -> 1 | K43: =IF(K$6="","",COUNTIF(K$8:K$37,'Cài đặt'!$B$19)) -> 1 | L43: =IF(L$6="","",COUNTIF(L$8:L$37,'Cài đặt'!$B$19)) -> 1 | ... AI43: =IF(AI$6="","",COUNTIF(AI$8:AI$37,'Cài đặt'!$B$19))
A44: =" • "&'Cài đặt'!C20 -> • Nửa ngày | E44: =IF(E$6="","",COUNTIF(E$8:E$37,'Cài đặt'!$B$20)) -> 0 | F44: =IF(F$6="","",COUNTIF(F$8:F$37,'Cài đặt'!$B$20)) -> 1 | G44: =IF(G$6="","",COUNTIF(G$8:G$37,'Cài đặt'!$B$20)) -> 1 | H44: =IF(H$6="","",COUNTIF(H$8:H$37,'Cài đặt'!$B$20)) -> 1 | I44: =IF(I$6="","",COUNTIF(I$8:I$37,'Cài đặt'!$B$20)) -> 1 | J44: =IF(J$6="","",COUNTIF(J$8:J$37,'Cài đặt'!$B$20)) -> 1 | K44: =IF(K$6="","",COUNTIF(K$8:K$37,'Cài đặt'!$B$20)) -> 1 | L44: =IF(L$6="","",COUNTIF(L$8:L$37,'Cài đặt'!$B$20)) -> 0 | ... AI44: =IF(AI$6="","",COUNTIF(AI$8:AI$37,'Cài đặt'!$B$20))
A45: Lưu ý: 10 dòng đầu là DỮ LIỆU MẪU – xóa họ tên, khu vực và ký hiệu rồi nhập thông tin thật. Nhập liệu ở cột A–D, lưới ngày và Ghi chú (nền trắng); các ô nền xám tự tính. Tăng ca = Tổng giờ làm − Công chuẩn × 8 giờ (nếu > 0).
B47: KÝ HIỆU CHẤM CÔNG | E47: NGƯỜI LẬP BẢNG | P47: TỔ TRƯỞNG VỆ SINH | AA47: XÁC NHẬN CỦA ĐƠN VỊ
B48: ='Cài đặt'!B16 -> S | C48: ='Cài đặt'!C16&IF('Cài đặt'!G16>0," – "&TEXT('Cài đặt'!G16,"0.0")&" giờ","") -> Ca sáng – 8,0 giờ | E48: (Ký, ghi rõ họ tên) | P48: (Ký, ghi rõ họ tên) | AA48: (Ký, ghi rõ họ tên)
B49: ='Cài đặt'!B17 -> C | C49: ='Cài đặt'!C17&IF('Cài đặt'!G17>0," – "&TEXT('Cài đặt'!G17,"0.0")&" giờ","") -> Ca chiều – 8,0 giờ
...

Sheet Tổng hợp lương
A1: ='Cài đặt'!D5 -> CÔNG TY TNHH DỊCH VỤ VỆ SINH MẪU
A2: BẢNG TỔNG HỢP CÔNG VÀ LƯƠNG NHÂN VIÊN VỆ SINH
A3: ="Tháng "&'Cài đặt'!D7&" năm "&'Cài đặt'!D8&" | Đơn giá: "&TEXT('Cài đặt'!D32,"#,##0")&" đ/công | Công chuẩn: "&'Cài đặt'!D11&" ngày | Đơn vị: VNĐ" -> Tháng 11 năm 2026 | Đơn giá: 250.000 đ/công | Công chuẩn: 25 ngày | Đơn vị: VNĐ
A5: STT | B5: Mã NV | C5: Họ và tên | D5: Khu vực phụ trách | E5: NGÀY CÔNG | H5: CÔNG & GIỜ | L5: THU NHẬP (VNĐ) | S5: KHẤU TRỪ & THỰC LĨNH | V5: Ký nhận
E6: Ngày làm thực tế | F6: Nghỉ hưởng lương (P+L) | G6: Nghỉ ốm / không lương | H6: Công hưởng lương | I6: Giờ tăng ca | J6: Giờ làm Chủ nhật | K6: Giờ làm ngày lễ | L6: Lương theo công | M6: PC tăng ca | N6: PC Chủ nhật | O6: PC ngày lễ | P6: PC ăn ca | Q6: PC chuyên cần | R6: Tổng thu nhập | S6: Khấu trừ bảo hiểm | T6: Tạm ứng / khấu trừ khác | U6: THỰC LĨNH
A7: 1 | B7: =IF('Chấm công'!$C8="","",'Chấm công'!$B8&"") -> VS001 | C7: =IF('Chấm công'!$C8="","",'Chấm công'!$C8) -> Nguyễn Thị Lan | D7: =IF('Chấm công'!$C8="","",'Chấm công'!$D8&"") -> Tầng 1 – Sảnh | E7: =IF($C7="","",SUM('Chấm công'!AJ8:AN8)) -> 26 | F7: =IF($C7="","",'Chấm công'!AO8+'Chấm công'!AP8) -> 0 | G7: =IF($C7="","",'Chấm công'!AQ8+'Chấm công'!AR8) -> 0 | H7: =IF($C7="","",'Chấm công'!AV8) -> 26 | I7: =IF($C7="","",'Chấm công'!AW8) -> 8 | J7: =IF($C7="","",'Chấm công'!AT8) -> 40 | K7: =IF($C7="","",'Chấm công'!AU8) -> 0 | L7: =IF($C7="","",ROUND(H7*'Cài đặt'!$D$32,0)) -> 6500000 | M7: =IF($C7="","",ROUND(I7*('Cài đặt'!$D$32/'Cài đặt'!$D$12)*('Cài đặt'!$D$33-1),0)) -> 125000 | N7: =IF($C7="","",ROUND(J7*('Cài đặt'!$D$32/'Cài đặt'!$D$12)*('Cài đặt'!$D$34-1),0)) -> 1250000 | O7: =IF($C7="","",ROUND(K7*('Cài đặt'!$D$32/'Cài đặt'!$D$12)*('Cài đặt'!$D$35-1),0)) -> 0 | P7: =IF($C7="","",E7*'Cài đặt'!$D$36) -> 780000 | Q7: =IF($C7="","",IF('Chấm công'!AR8=0,'Cài đặt'!$D$37,0)) -> 300000 | R7: =IF($C7="","",SUM(L7:Q7)) -> 8955000 | S7: =IF($C7="","",ROUND(L7*'Cài đặt'!$D$38,0)) -> 682500 | U7: =IF($C7="","",R7-S7-N(T7)) -> 8272500
A8: 2 | B8: =IF('Chấm công'!$C9="","",'Chấm công'!$B9&"") -> VS002 | C8: =IF('Chấm công'!$C9="","",'Chấm công'!$C9) -> Trần Thị Hoa | D8: =IF('Chấm công'!$C9="","",'Chấm công'!$D9&"") -> Tầng 2–3 | E8: =IF($C8="","",SUM('Chấm công'!AJ9:AN9)) -> 25 | F8: =IF($C8="","",'Chấm công'!AO9+'Chấm công'!AP9) -> 0 | G8: =IF($C8="","",'Chấm công'!AQ9+'Chấm công'!AR9) -> 1 | H8: =IF($C8="","",'Chấm công'!AV9) -> 25 | I8: =IF($C8="","",'Chấm công'!AW9) -> 0 | J8: =IF($C8="","",'Chấm công'!AT9) -> 40 | K8: =IF($C8="","",'Chấm công'!AU9) -> 0 | L8: =IF($C8="","",ROUND(H8*'Cài đặt'!$D$32,0)) -> 6250000 | M8: =IF($C8="","",ROUND(I8*('Cài đặt'!$D$32/'Cài đặt'!$D$12)*('Cài đặt'!$D$33-1),0)) -> 0 | N8: =IF($C8="","",ROUND(J8*('Cài đặt'!$D$32/'Cài đặt'!$D$12)*('Cài đặt'!$D$34-1),0)) -> 1250000 | O8: =IF($C8="","",ROUND(K8*('Cài đặt'!$D$32/'Cài đặt'!$D$12)*('Cài đặt'!$D$35-1),0)) -> 0 | P8: =IF($C8="","",E8*'Cài đặt'!$D$36) -> 750000 | Q8: =IF($C8="","",IF('Chấm công'!AR9=0,'Cài đặt'!$D$37,0)) -> 0 | R8: =IF($C8="","",SUM(L8:Q8)) -> 8250000 | S8: =IF($C8="","",ROUND(L8*'Cài đặt'!$D$38,0)) -> 656250 | U8: =IF($C8="","",R8-S8-N(T8)) -> 7593750
A9: 3 | B9: =IF('Chấm công'!$C10="","",'Chấm công'!$B10&"") -> VS003 | C9: =IF('Chấm công'!$C10="","",'Chấm công'!$C10) -> Lê Thị Mai | D9: =IF('Chấm công'!$C10="","",'Chấm công'!$D10&"") -> Tầng 4–5 | E9: =IF($C9="","",SUM('Chấm công'!AJ10:AN10)) -> 24 | F9: =IF($C9="","",'Chấm công'!AO10+'Chấm công'!AP10) -> 2 | G9: =IF($C9="","",'Chấm công'!AQ10+'Chấm công'!AR10) -> 0 | H9: =IF($C9="","",'Chấm công'!AV10) -> 26 | I9: =IF($C9="","",'Chấm công'!AW10) -> 0 | J9: =IF($C9="","",'Chấm công'!AT10) -> 40 | K9: =IF($C9="","",'Chấm công'!AU10) -> 0 | L9: =IF($C9="","",ROUND(H9*'Cài đặt'!$D$32,0)) -> 6500000 | M9: =IF($C9="","",ROUND(I9*('Cài đặt'!$D$32/'Cài đặt'!$D$12)*('Cài đặt'!$D$33-1),0)) -> 0 | N9: =IF($C9="","",ROUND(J9*('Cài đặt'!$D$32/'Cài đặt'!$D$12)*('Cài đặt'!$D$34-1),0)) -> 1250000 | O9: =IF($C9="","",ROUND(K9*('Cài đặt'!$D$32/'Cài đặt'!$D$12)*('Cài đặt'!$D$35-1),0)) -> 0 | P9: =IF($C9="","",E9*'Cài đặt'!$D$36) -> 720000 | Q9: =IF($C9="","",IF('Chấm công'!AR10=0,'Cài đặt'!$D$37,0)) -> 300000 | R9: =IF($C9="","",SUM(L9:Q9)) -> 8770000 | S9: =IF($C9="","",ROUND(L9*'Cài đặt'!$D$38,0)) -> 682500 | U9: =IF($C9="","",R9-S9-N(T9)) -> 8087500
A10: 4 | B10: =IF('Chấm công'!$C11="","",'Chấm công'!$B11&"") -> VS004 | C10: =IF('Chấm công'!$C11="","",'Chấm công'!$C11) -> Phạm Thị Hương | D10: =IF('Chấm công'!$C11="","",'Chấm công'!$D11&"") -> Nhà vệ sinh chung | E10: =IF($C10="","",SUM('Chấm công'!AJ11:AN11)) -> 26 | F10: =IF($C10="","",'Chấm công'!AO11+'Chấm công'!AP11) -> 0 | G10: =IF($C10="","",'Chấm công'!AQ11+'Chấm công'!AR11) -> 0 | H10: =IF($C10="","",'Chấm công'!AV11) -> 26 | I10: =IF($C10="","",'Chấm công'!AW11) -> 8 | J10: =IF($C10="","",'Chấm công'!AT11) -> 40 | K10: =IF($C10="","",'Chấm công'!AU11) -> 0 | L10: =IF($C10="","",ROUND(H10*'Cài đặt'!$D$32,0)) -> 6500000 | M10: =IF($C10="","",ROUND(I10*('Cài đặt'!$D$32/'Cài đặt'!$D$12)*('Cài đặt'!$D$33-1),0)) -> 125000 | N10: =IF($C10="","",ROUND(J10*('Cài đặt'!$D$32/'Cài đặt'!$D$12)*('Cài đặt'!$D$34-1),0)) -> 1250000 | O10: =IF($C10="","",ROUND(K10*('Cài đặt'!$D$32/'Cài đặt'!$D$12)*('Cài đặt'!$D$35-1),0)) -> 0 | P10: =IF($C10="","",E10*'Cài đặt'!$D$36) -> 780000 | Q10: =IF($C10="","",IF('Chấm công'!AR11=0,'Cài đặt'!$D$37,0)) -> 300000 | R10: =IF($C10="","",SUM(L10:Q10)) -> 8955000 | S10: =IF($C10="","",ROUND(L10*'Cài đặt'!$D$38,0)) -> 682500 | U10: =IF($C10="","",R10-S10-N(T10)) -> 8272500
A11: 5 | B11: =IF('Chấm công'!$C12="","",'Chấm công'!$B12&"") -> VS005 | C11: =IF('Chấm công'!$C12="","",'Chấm công'!$C12) -> Đỗ Văn Nam | D11: =IF('Chấm công'!$C12="","",'Chấm công'!$D12&"") -> Ngoại cảnh – sân vườn | E11: =IF($C11="","",SUM('Chấm công'!AJ12:AN12)) -> 25 | F11: =IF($C11="","",'Chấm công'!AO12+'Chấm công'!AP12) -> 0 | G11: =IF($C11="","",'Chấm công'!AQ12+'Chấm công'!AR12) -> 1 | H11: =IF($C11="","",'Chấm công'!AV12) -> 25 | I11: =IF($C11="","",'Chấm công'!AW12) -> 0 | J11: =IF($C11="","",'Chấm công'!AT12) -> 40 | K11: =IF($C11="","",'Chấm công'!AU12) -> 0 | L11: =IF($C11="","",ROUND(H11*'Cài đặt'!$D$32,0)) -> 6250000 | M11: =IF($C11="","",ROUND(I11*('Cài đặt'!$D$32/'Cài đặt'!$D$12)*('Cài đặt'!$D$33-1),0)) -> 0 | N11: =IF($C11="","",ROUND(J11*('Cài đặt'!$D$32/'Cài đặt'!$D$12)*('Cài đặt'!$D$34-1),0)) -> 1250000 | O11: =IF($C11="","",ROUND(K11*('Cài đặt'!$D$32/'Cài đặt'!$D$12)*('Cài đặt'!$D$35-1),0)) -> 0 | P11: =IF($C11="","",E11*'Cài đặt'!$D$36) -> 750000 | Q11: =IF($C11="","",IF('Chấm công'!AR12=0,'Cài đặt'!$D$37,0)) -> 300000 | R11: =IF($C11="","",SUM(L11:Q11)) -> 8550000 | S11: =IF($C11="","",ROUND(L11*'Cài đặt'!$D$38,0)) -> 656250 | U11: =IF($C11="","",R11-S11-N(T11)) -> 7893750
A12: 6 | B12: =IF('Chấm công'!$C13="","",'Chấm công'!$B13&"") -> VS006 | C12: =IF('Chấm công'!$C13="","",'Chấm công'!$C13) -> Vũ Thị Thủy | D12: =IF('Chấm công'!$C13="","",'Chấm công'!$D13&"") -> Tầng hầm – hành lang | E12: =IF($C12="","",SUM('Chấm công'!AJ13:AN13)) -> 25 | F12: =IF($C12="","",'Chấm công'!AO13+'Chấm công'!AP13) -> 0 | G12: =IF($C12="","",'Chấm công'!AQ13+'Chấm công'!AR13) -> 0 | H12: =IF($C12="","",'Chấm công'!AV13) -> 25 | I12: =IF($C12="","",'Chấm công'!AW13) -> 0 | J12: =IF($C12="","",'Chấm công'!AT13) -> 40 | K12: =IF($C12="","",'Chấm công'!AU13) -> 0 | L12: =IF($C12="","",ROUND(H12*'Cài đặt'!$D$32,0)) -> 6250000 | M12: =IF($C12="","",ROUND(I12*('Cài đặt'!$D$32/'Cài đặt'!$D$12)*('Cài đặt'!$D$33-1),0)) -> 0 | N12: =IF($C12="","",ROUND(J12*('Cài đặt'!$D$32/'Cài đặt'!$D$12)*('Cài đặt'!$D$34-1),0)) -> 1250000 | O12: =IF($C12="","",ROUND(K12*('Cài đặt'!$D$32/'Cài đặt'!$D$12)*('Cài đặt'!$D$35-1),0)) -> 0 | P12: =IF($C12="","",E12*'Cài đặt'!$D$36) -> 750000 | Q12: =IF($C12="","",IF('Chấm công'!AR13=0,'Cài đặt'!$D$37,0)) -> 300000 | R12: =IF($C12="","",SUM(L12:Q12)) -> 8550000 | S12: =IF($C12="","",ROUND(L12*'Cài đặt'!$D$38,0)) -> 656250 | U12: =IF($C12="","",R12-S12-N(T12)) -> 7893750
A13: 7 | B13: =IF('Chấm công'!$C14="","",'Chấm công'!$B14&"") -> VS007 | C13: =IF('Chấm công'!$C14="","",'Chấm công'!$C14) -> Hoàng Thị Yến | D13: =IF('Chấm công'!$C14="","",'Chấm công'!$D14&"") -> Phòng họp – căng tin | E13: =IF($C13="","",SUM('Chấm công'!AJ14:AN14)) -> 25 | F13: =IF($C13="","",'Chấm công'!AO14+'Chấm công'!AP14) -> 0 | G13: =IF($C13="","",'Chấm công'!AQ14+'Chấm công'!AR14) -> 0 | H13: =IF($C13="","",'Chấm công'!AV14) -> 12.5 | I13: =IF($C13="","",'Chấm công'!AW14) -> 0 | J13: =IF($C13="","",'Chấm công'!AT14) -> 0 | K13: =IF($C13="","",'Chấm công'!AU14) -> 0 | L13: =IF($C13="","",ROUND(H13*'Cài đặt'!$D$32,0)) -> 3125000 | M13: =IF($C13="","",ROUND(I13*('Cài đặt'!$D$32/'Cài đặt'!$D$12)*('Cài đặt'!$D$33-1),0)) -> 0 | N13: =IF($C13="","",ROUND(J13*('Cài đặt'!$D$32/'Cài đặt'!$D$12)*('Cài đặt'!$D$34-1),0)) -> 0 | O13: =IF($C13="","",ROUND(K13*('Cài đặt'!$D$32/'Cài đặt'!$D$12)*('Cài đặt'!$D$35-1),0)) -> 0 | P13: =IF($C13="","",E13*'Cài đặt'!$D$36) -> 750000 | Q13: =IF($C13="","",IF('Chấm công'!AR14=0,'Cài đặt'!$D$37,0)) -> 300000 | R13: =IF($C13="","",SUM(L13:Q13)) -> 4175000 | S13: =IF($C13="","",ROUND(L13*'Cài đặt'!$D$38,0)) -> 328125 | U13: =IF($C13="","",R13-S13-N(T13)) -> 3846875
A14: 8 | B14: =IF('Chấm công'!$C15="","",'Chấm công'!$B15&"") -> VS008 | C14: =IF('Chấm công'!$C15="","",'Chấm công'!$C15) -> Bùi Thị Ngọc | D14: =IF('Chấm công'!$C15="","",'Chấm công'!$D15&"") -> Tầng 6–7 | E14: =IF($C14="","",SUM('Chấm công'!AJ15:AN15)) -> 26 | F14: =IF($C14="","",'Chấm công'!AO15+'Chấm công'!AP15) -> 0 | G14: =IF($C14="","",'Chấm công'!AQ15+'Chấm công'!AR15) -> 0 | H14: =IF($C14="","",'Chấm công'!AV15) -> 26 | I14: =IF($C14="","",'Chấm công'!AW15) -> 8 | J14: =IF($C14="","",'Chấm công'!AT15) -> 40 | K14: =IF($C14="","",'Chấm công'!AU15) -> 0 | L14: =IF($C14="","",ROUND(H14*'Cài đặt'!$D$32,0)) -> 6500000 | M14: =IF($C14="","",ROUND(I14*('Cài đặt'!$D$32/'Cài đặt'!$D$12)*('Cài đặt'!$D$33-1),0)) -> 125000 | N14: =IF($C14="","",ROUND(J14*('Cài đặt'!$D$32/'Cài đặt'!$D$12)*('Cài đặt'!$D$34-1),0)) -> 1250000 | O14: =IF($C14="","",ROUND(K14*('Cài đặt'!$D$32/'Cài đặt'!$D$12)*('Cài đặt'!$D$35-1),0)) -> 0 | P14: =IF($C14="","",E14*'Cài đặt'!$D$36) -> 780000 | Q14: =IF($C14="","",IF('Chấm công'!AR15=0,'Cài đặt'!$D$37,0)) -> 300000 | R14: =IF($C14="","",SUM(L14:Q14)) -> 8955000 | S14: =IF($C14="","",ROUND(L14*'Cài đặt'!$D$38,0)) -> 682500 | U14: =IF($C14="","",R14-S14-N(T14)) -> 8272500
A15: 9 | B15: =IF('Chấm công'!$C16="","",'Chấm công'!$B16&"") -> VS009 | C15: =IF('Chấm công'!$C16="","",'Chấm công'!$C16) -> Ngô Văn Dũng | D15: =IF('Chấm công'!$C16="","",'Chấm công'!$D16&"") -> Thang máy – kính | E15: =IF($C15="","",SUM('Chấm công'!AJ16:AN16)) -> 26 | F15: =IF($C15="","",'Chấm công'!AO16+'Chấm công'!AP16) -> 0 | G15: =IF($C15="","",'Chấm công'!AQ16+'Chấm công'!AR16) -> 0 | H15: =IF($C15="","",'Chấm công'!AV16) -> 26 | I15: =IF($C15="","",'Chấm công'!AW16) -> 8 | J15: =IF($C15="","",'Chấm công'!AT16) -> 40 | K15: =IF($C15="","",'Chấm công'!AU16) -> 0 | L15: =IF($C15="","",ROUND(H15*'Cài đặt'!$D$32,0)) -> 6500000 | M15: =IF($C15="","",ROUND(I15*('Cài đặt'!$D$32/'Cài đặt'!$D$12)*('Cài đặt'!$D$33-1),0)) -> 125000 | N15: =IF($C15="","",ROUND(J15*('Cài đặt'!$D$32/'Cài đặt'!$D$12)*('Cài đặt'!$D$34-1),0)) -> 1250000 | O15: =IF($C15="","",ROUND(K15*('Cài đặt'!$D$32/'Cài đặt'!$D$12)*('Cài đặt'!$D$35-1),0)) -> 0 | P15: =IF($C15="","",E15*'Cài đặt'!$D$36) -> 780000 | Q15: =IF($C15="","",IF('Chấm công'!AR16=0,'Cài đặt'!$D$37,0)) -> 300000 | R15: =IF($C15="","",SUM(L15:Q15)) -> 8955000 | S15: =IF($C15="","",ROUND(L15*'Cài đặt'!$D$38,0)) -> 682500 | U15: =IF($C15="","",R15-S15-N(T15)) -> 8272500
A16: 10 | B16: =IF('Chấm công'!$C17="","",'Chấm công'!$B17&"") -> VS010 | C16: =IF('Chấm công'!$C17="","",'Chấm công'!$C17) -> Đặng Thị Hạnh | D16: =IF('Chấm công'!$C17="","",'Chấm công'!$D17&"") -> Tổ trưởng – kiểm tra | E16: =IF($C16="","",SUM('Chấm công'!AJ17:AN17)) -> 26 | F16: =IF($C16="","",'Chấm công'!AO17+'Chấm công'!AP17) -> 0 | G16: =IF($C16="","",'Chấm công'!AQ17+'Chấm công'!AR17) -> 0 | H16: =IF($C16="","",'Chấm công'!AV17) -> 26 | I16: =IF($C16="","",'Chấm công'!AW17) -> 8 | J16: =IF($C16="","",'Chấm công'!AT17) -> 40 | K16: =IF($C16="","",'Chấm công'!AU17) -> 0 | L16: =IF($C16="","",ROUND(H16*'Cài đặt'!$D$32,0)) -> 6500000 | M16: =IF($C16="","",ROUND(I16*('Cài đặt'!$D$32/'Cài đặt'!$D$12)*('Cài đặt'!$D$33-1),0)) -> 125000 | N16: =IF($C16="","",ROUND(J16*('Cài đặt'!$D$32/'Cài đặt'!$D$12)*('Cài đặt'!$D$34-1),0)) -> 1250000 | O16: =IF($C16="","",ROUND(K16*('Cài đặt'!$D$32/'Cài đặt'!$D$12)*('Cài đặt'!$D$35-1),0)) -> 0 | P16: =IF($C16="","",E16*'Cài đặt'!$D$36) -> 780000 | Q16: =IF($C16="","",IF('Chấm công'!AR17=0,'Cài đặt'!$D$37,0)) -> 300000 | R16: =IF($C16="","",SUM(L16:Q16)) -> 8955000 | S16: =IF($C16="","",ROUND(L16*'Cài đặt'!$D$38,0)) -> 682500 | U16: =IF($C16="","",R16-S16-N(T16)) -> 8272500
A17: 11 | B17: =IF('Chấm công'!$C18="","",'Chấm công'!$B18&"") | C17: =IF('Chấm công'!$C18="","",'Chấm công'!$C18) | D17: =IF('Chấm công'!$C18="","",'Chấm công'!$D18&"") | E17: =IF($C17="","",SUM('Chấm công'!AJ18:AN18)) | F17: =IF($C17="","",'Chấm công'!AO18+'Chấm công'!AP18) | G17: =IF($C17="","",'Chấm công'!AQ18+'Chấm công'!AR18) | H17: =IF($C17="","",'Chấm công'!AV18) | I17: =IF($C17="","",'Chấm công'!AW18) | J17: =IF($C17="","",'Chấm công'!AT18) | K17: =IF($C17="","",'Chấm công'!AU18) | L17: =IF($C17="","",ROUND(H17*'Cài đặt'!$D$32,0)) | M17: =IF($C17="","",ROUND(I17*('Cài đặt'!$D$32/'Cài đặt'!$D$12)*('Cài đặt'!$D$33-1),0)) | N17: =IF($C17="","",ROUND(J17*('Cài đặt'!$D$32/'Cài đặt'!$D$12)*('Cài đặt'!$D$34-1),0)) | O17: =IF($C17="","",ROUND(K17*('Cài đặt'!$D$32/'Cài đặt'!$D$12)*('Cài đặt'!$D$35-1),0)) | P17: =IF($C17="","",E17*'Cài đặt'!$D$36) | Q17: =IF($C17="","",IF('Chấm công'!AR18=0,'Cài đặt'!$D$37,0)) | R17: =IF($C17="","",SUM(L17:Q17)) | S17: =IF($C17="","",ROUND(L17*'Cài đặt'!$D$38,0)) | U17: =IF($C17="","",R17-S17-N(T17))
A18: 12 | B18: =IF('Chấm công'!$C19="","",'Chấm công'!$B19&"") | C18: =IF('Chấm công'!$C19="","",'Chấm công'!$C19) | D18: =IF('Chấm công'!$C19="","",'Chấm công'!$D19&"") | E18: =IF($C18="","",SUM('Chấm công'!AJ19:AN19)) | F18: =IF($C18="","",'Chấm công'!AO19+'Chấm công'!AP19) | G18: =IF($C18="","",'Chấm công'!AQ19+'Chấm công'!AR19) | H18: =IF($C18="","",'Chấm công'!AV19) | I18: =IF($C18="","",'Chấm công'!AW19) | J18: =IF($C18="","",'Chấm công'!AT19) | K18: =IF($C18="","",'Chấm công'!AU19) | L18: =IF($C18="","",ROUND(H18*'Cài đặt'!$D$32,0)) | M18: =IF($C18="","",ROUND(I18*('Cài đặt'!$D$32/'Cài đặt'!$D$12)*('Cài đặt'!$D$33-1),0)) | N18: =IF($C18="","",ROUND(J18*('Cài đặt'!$D$32/'Cài đặt'!$D$12)*('Cài đặt'!$D$34-1),0)) | O18: =IF($C18="","",ROUND(K18*('Cài đặt'!$D$32/'Cài đặt'!$D$12)*('Cài đặt'!$D$35-1),0)) | P18: =IF($C18="","",E18*'Cài đặt'!$D$36) | Q18: =IF($C18="","",IF('Chấm công'!AR19=0,'Cài đặt'!$D$37,0)) | R18: =IF($C18="","",SUM(L18:Q18)) | S18: =IF($C18="","",ROUND(L18*'Cài đặt'!$D$38,0)) | U18: =IF($C18="","",R18-S18-N(T18))
... A36: 30 | B36: =IF('Chấm công'!$C37="","",'Chấm công'!$B37&"") | C36: =IF('Chấm công'!$C37="","",'Chấm công'!$C37) | D36: =IF('Chấm công'!$C37="","",'Chấm công'!$D37&"") | E36: =IF($C36="","",SUM('Chấm công'!AJ37:AN37)) | F36: =IF($C36="","",'Chấm công'!AO37+'Chấm công'!AP37) | G36: =IF($C36="","",'Chấm công'!AQ37+'Chấm công'!AR37) | H36: =IF($C36="","",'Chấm công'!AV37) | I36: =IF($C36="","",'Chấm công'!AW37) | J36: =IF($C36="","",'Chấm công'!AT37) | K36: =IF($C36="","",'Chấm công'!AU37) | L36: =IF($C36="","",ROUND(H36*'Cài đặt'!$D$32,0)) | M36: =IF($C36="","",ROUND(I36*('Cài đặt'!$D$32/'Cài đặt'!$D$12)*('Cài đặt'!$D$33-1),0)) | N36: =IF($C36="","",ROUND(J36*('Cài đặt'!$D$32/'Cài đặt'!$D$12)*('Cài đặt'!$D$34-1),0)) | O36: =IF($C36="","",ROUND(K36*('Cài đặt'!$D$32/'Cài đặt'!$D$12)*('Cài đặt'!$D$35-1),0)) | P36: =IF($C36="","",E36*'Cài đặt'!$D$36) | Q36: =IF($C36="","",IF('Chấm công'!AR37=0,'Cài đặt'!$D$37,0)) | R36: =IF($C36="","",SUM(L36:Q36)) | S36: =IF($C36="","",ROUND(L36*'Cài đặt'!$D$38,0)) | U36: =IF($C36="","",R36-S36-N(T36))
A37: TỔNG CỘNG | E37: =SUM(E7:E36) -> 254 | F37: =SUM(F7:F36) -> 2 | G37: =SUM(G7:G36) -> 2 | H37: =SUM(H7:H36) -> 243.5 | I37: =SUM(I7:I36) -> 40 | J37: =SUM(J7:J36) -> 360 | K37: =SUM(K7:K36) -> 0 | L37: =SUM(L7:L36) -> 60875000 | ... U37: =SUM(U7:U36) -> 76678125
A38: Tên, công, giờ lấy tự động từ sheet 'Chấm công'; đơn giá và hệ số lấy từ mục 4 sheet 'Cài đặt'. Chỉ nhập tay cột 'Tạm ứng / khấu trừ khác' (ô nền trắng). Công thức tính lương xem ghi chú ở mục 4 sheet 'Cài đặt'.
C40: NGƯỜI LẬP BẢNG | H40: KẾ TOÁN | R40: GIÁM ĐỐC / QUẢN LÝ
C41: (Ký, ghi rõ họ tên) | H41: (Ký, ghi rõ họ tên) | R41: (Ký, ghi rõ họ tên)

Sheet Kiểm tra chất lượng
A1: ='Cài đặt'!D5 -> CÔNG TY TNHH DỊCH VỤ VỆ SINH MẪU
A2: PHIẾU KIỂM TRA CHẤT LƯỢNG VỆ SINH
A3: ="Tháng "&'Cài đặt'!D7&" năm "&'Cài đặt'!D8&" | Địa điểm: "&'Cài đặt'!D6&" | Thang điểm mỗi tiêu chí: 1–5" -> Tháng 11 năm 2026 | Địa điểm: Tòa nhà văn phòng ABC – 123 Phố Huế, Hà Nội | Thang điểm mỗi tiêu chí: 1–5
A4: Số lượt kiểm tra | D4: Điểm trung bình | G4: Lượt đạt (Tốt + Khá) | L4: Lượt cần khắc phục chưa xong
A5: =COUNT(K8:K57) -> 6 | D5: =IFERROR(AVERAGE(L8:L57),"-") -> 0.75333333 | G5: =COUNTIF(M8:M57,"Tốt")+COUNTIF(M8:M57,"Khá") -> 4 | L5: =COUNTIFS(M8:M57,"Cần khắc phục",P8:P57,"<>Đã xong") -> 1
A7: STT | B7: Ngày kiểm tra | C7: Khu vực | D7: Nhân viên phụ trách | E7: Người kiểm tra | F7: Sàn nhà | G7: Nhà vệ sinh | H7: Bề mặt (bàn, tay nắm) | I7: Kính – cửa | J7: Rác & vật tư | K7: Tổng điểm | L7: Tỷ lệ | M7: Xếp loại | N7: Nội dung cần khắc phục | O7: Hạn khắc phục | P7: Tình trạng khắc phục | Q7: Ghi chú
A8: 1 | B8: 46327 | C8: Tầng 1 – Sảnh | D8: Nguyễn Thị Lan | E8: Đặng Thị Hạnh | F8: 5 | G8: 5 | H8: 4 | I8: 5 | J8: 4 | K8: =IF(COUNT(F8:J8)=0,"",SUM(F8:J8)) -> 23 | L8: =IF(K8="","",K8/(COUNT(F8:J8)*5)) -> 0.92 | M8: =IF(L8="","",IF(L8>='Cài đặt'!$D$43,"Tốt",IF(L8>='Cài đặt'!$D$44,"Khá",IF(L8>='Cài đặt'!$D$45,"Trung bình","Cần khắc phục")))) -> Tốt
A9: 2 | B9: 46327 | C9: Nhà vệ sinh chung | D9: Phạm Thị Hương | E9: Đặng Thị Hạnh | F9: 4 | G9: 3 | H9: 4 | I9: 5 | J9: 3 | K9: =IF(COUNT(F9:J9)=0,"",SUM(F9:J9)) -> 19 | L9: =IF(K9="","",K9/(COUNT(F9:J9)*5)) -> 0.76 | M9: =IF(L9="","",IF(L9>='Cài đặt'!$D$43,"Tốt",IF(L9>='Cài đặt'!$D$44,"Khá",IF(L9>='Cài đặt'!$D$45,"Trung bình","Cần khắc phục")))) -> Khá | N9: Bổ sung giấy vệ sinh, xà phòng rửa tay | O9: 46328 | P9: Đã xong
A10: 3 | B10: 46328 | C10: Tầng 2–3 | D10: Trần Thị Hoa | E10: Đặng Thị Hạnh | F10: 4 | G10: 4 | H10: 4 | I10: 3 | J10: 4 | K10: =IF(COUNT(F10:J10)=0,"",SUM(F10:J10)) -> 19 | L10: =IF(K10="","",K10/(COUNT(F10:J10)*5)) -> 0.76 | M10: =IF(L10="","",IF(L10>='Cài đặt'!$D$43,"Tốt",IF(L10>='Cài đặt'!$D$44,"Khá",IF(L10>='Cài đặt'!$D$45,"Trung bình","Cần khắc phục")))) -> Khá
A11: 4 | B11: 46328 | C11: Tầng 4–5 | D11: Lê Thị Mai | E11: Đặng Thị Hạnh | F11: 3 | G11: 3 | H11: 3 | I11: 4 | J11: 3 | K11: =IF(COUNT(F11:J11)=0,"",SUM(F11:J11)) -> 16 | L11: =IF(K11="","",K11/(COUNT(F11:J11)*5)) -> 0.64 | M11: =IF(L11="","",IF(L11>='Cài đặt'!$D$43,"Tốt",IF(L11>='Cài đặt'!$D$44,"Khá",IF(L11>='Cài đặt'!$D$45,"Trung bình","Cần khắc phục")))) -> Trung bình | N11: Lau lại bề mặt bàn, tay nắm cửa | O11: 46329 | P11: Đang xử lý
A12: 5 | B12: 46329 | C12: Ngoại cảnh – sân vườn | D12: Đỗ Văn Nam | E12: Đặng Thị Hạnh | F12: 2 | G12: 3 | H12: 3 | I12: 2 | J12: 3 | K12: =IF(COUNT(F12:J12)=0,"",SUM(F12:J12)) -> 13 | L12: =IF(K12="","",K12/(COUNT(F12:J12)*5)) -> 0.52 | M12: =IF(L12="","",IF(L12>='Cài đặt'!$D$43,"Tốt",IF(L12>='Cài đặt'!$D$44,"Khá",IF(L12>='Cài đặt'!$D$45,"Trung bình","Cần khắc phục")))) -> Cần khắc phục | N12: Quét lá, thu gom rác khu sân vườn | O12: 46330 | P12: Chưa xử lý | Q12: Nhắc nhở lần 1
A13: 6 | B13: 46329 | C13: Tầng hầm – hành lang | D13: Vũ Thị Thủy | E13: Đặng Thị Hạnh | F13: 5 | G13: 4 | H13: 4 | I13: 5 | J13: 5 | K13: =IF(COUNT(F13:J13)=0,"",SUM(F13:J13)) -> 23 | L13: =IF(K13="","",K13/(COUNT(F13:J13)*5)) -> 0.92 | M13: =IF(L13="","",IF(L13>='Cài đặt'!$D$43,"Tốt",IF(L13>='Cài đặt'!$D$44,"Khá",IF(L13>='Cài đặt'!$D$45,"Trung bình","Cần khắc phục")))) -> Tốt
A14: 7 | K14: =IF(COUNT(F14:J14)=0,"",SUM(F14:J14)) | L14: =IF(K14="","",K14/(COUNT(F14:J14)*5)) | M14: =IF(L14="","",IF(L14>='Cài đặt'!$D$43,"Tốt",IF(L14>='Cài đặt'!$D$44,"Khá",IF(L14>='Cài đặt'!$D$45,"Trung bình","Cần khắc phục"))))
A15: 8 | K15: =IF(COUNT(F15:J15)=0,"",SUM(F15:J15)) | L15: =IF(K15="","",K15/(COUNT(F15:J15)*5)) | M15: =IF(L15="","",IF(L15>='Cài đặt'!$D$43,"Tốt",IF(L15>='Cài đặt'!$D$44,"Khá",IF(L15>='Cài đặt'!$D$45,"Trung bình","Cần khắc phục"))))
A16: 9 | K16: =IF(COUNT(F16:J16)=0,"",SUM(F16:J16)) | L16: =IF(K16="","",K16/(COUNT(F16:J16)*5)) | M16: =IF(L16="","",IF(L16>='Cài đặt'!$D$43,"Tốt",IF(L16>='Cài đặt'!$D$44,"Khá",IF(L16>='Cài đặt'!$D$45,"Trung bình","Cần khắc phục"))))
A17: 10 | K17: =IF(COUNT(F17:J17)=0,"",SUM(F17:J17)) | L17: =IF(K17="","",K17/(COUNT(F17:J17)*5)) | M17: =IF(L17="","",IF(L17>='Cài đặt'!$D$43,"Tốt",IF(L17>='Cài đặt'!$D$44,"Khá",IF(L17>='Cài đặt'!$D$45,"Trung bình","Cần khắc phục"))))
A18: 11 | K18: =IF(COUNT(F18:J18)=0,"",SUM(F18:J18)) | L18: =IF(K18="","",K18/(COUNT(F18:J18)*5)) | M18: =IF(L18="","",IF(L18>='Cài đặt'!$D$43,"Tốt",IF(L18>='Cài đặt'!$D$44,"Khá",IF(L18>='Cài đặt'!$D$45,"Trung bình","Cần khắc phục"))))
A19: 12 | K19: =IF(COUNT(F19:J19)=0,"",SUM(F19:J19)) | L19: =IF(K19="","",K19/(COUNT(F19:J19)*5)) | M19: =IF(L19="","",IF(L19>='Cài đặt'!$D$43,"Tốt",IF(L19>='Cài đặt'!$D$44,"Khá",IF(L19>='Cài đặt'!$D$45,"Trung bình","Cần khắc phục"))))
A20: 13 | K20: =IF(COUNT(F20:J20)=0,"",SUM(F20:J20)) | L20: =IF(K20="","",K20/(COUNT(F20:J20)*5)) | M20: =IF(L20="","",IF(L20>='Cài đặt'!$D$43,"Tốt",IF(L20>='Cài đặt'!$D$44,"Khá",IF(L20>='Cài đặt'!$D$45,"Trung bình","Cần khắc phục"))))
A21: 14 | K21: =IF(COUNT(F21:J21)=0,"",SUM(F21:J21)) | L21: =IF(K21="","",K21/(COUNT(F21:J21)*5)) | M21: =IF(L21="","",IF(L21>='Cài đặt'!$D$43,"Tốt",IF(L21>='Cài đặt'!$D$44,"Khá",IF(L21>='Cài đặt'!$D$45,"Trung bình","Cần khắc phục"))))
A22: 15 | K22: =IF(COUNT(F22:J22)=0,"",SUM(F22:J22)) | L22: =IF(K22="","",K22/(COUNT(F22:J22)*5)) | M22: =IF(L22="","",IF(L22>='Cài đặt'!$D$43,"Tốt",IF(L22>='Cài đặt'!$D$44,"Khá",IF(L22>='Cài đặt'!$D$45,"Trung bình","Cần khắc phục"))))
A23: 16 | K23: =IF(COUNT(F23:J23)=0,"",SUM(F23:J23)) | L23: =IF(K23="","",K23/(COUNT(F23:J23)*5)) | M23: =IF(L23="","",IF(L23>='Cài đặt'!$D$43,"Tốt",IF(L23>='Cài đặt'!$D$44,"Khá",IF(L23>='Cài đặt'!$D$45,"Trung bình","Cần khắc phục"))))
A24: 17 | K24: =IF(COUNT(F24:J24)=0,"",SUM(F24:J24)) | L24: =IF(K24="","",K24/(COUNT(F24:J24)*5)) | M24: =IF(L24="","",IF(L24>='Cài đặt'!$D$43,"Tốt",IF(L24>='Cài đặt'!$D$44,"Khá",IF(L24>='Cài đặt'!$D$45,"Trung bình","Cần khắc phục"))))
A25: 18 | K25: =IF(COUNT(F25:J25)=0,"",SUM(F25:J25)) | L25: =IF(K25="","",K25/(COUNT(F25:J25)*5)) | M25: =IF(L25="","",IF(L25>='Cài đặt'!$D$43,"Tốt",IF(L25>='Cài đặt'!$D$44,"Khá",IF(L25>='Cài đặt'!$D$45,"Trung bình","Cần khắc phục"))))
