Workbook

Sheet Chấm công
A1: ='Cài đặt'!D5 -> CÔNG TY TNHH VẬN TẢI & DỊCH VỤ MẪU
A2: BẢNG CHẤM CÔNG LÁI XE
A3: ="Tháng "&'Cài đặt'!D7&" năm "&'Cài đặt'!D8&" | Bộ phận: "&'Cài đặt'!D6&" | Công chuẩn: "&'Cài đặt'!D11&" ngày" -> Tháng 11 năm 2026 | Bộ phận: Đội xe – Phòng Hành chính, Hà Nội | Công chuẩn: 25 ngày
A4: STT | B4: Mã NV | C4: Họ và tên lái xe | D4: Biển số xe | E4: NGÀY TRONG THÁNG | AJ4: TỔNG HỢP SỐ CA / NGÀY | AS4: TỔNG HỢP GIỜ & CÔNG | AX4: Ghi chú
E5: =IF(E$6="","",IF(COUNTIF('Cài đặt'!$J$16:$J$30,DATE('Cài đặt'!$D$8,'Cài đặt'!$D$7,E$6))>0,"Lễ","")) | F5: =IF(F$6="","",IF(COUNTIF('Cài đặt'!$J$16:$J$30,DATE('Cài đặt'!$D$8,'Cài đặt'!$D$7,F$6))>0,"Lễ","")) | G5: =IF(G$6="","",IF(COUNTIF('Cài đặt'!$J$16:$J$30,DATE('Cài đặt'!$D$8,'Cài đặt'!$D$7,G$6))>0,"Lễ","")) | H5: =IF(H$6="","",IF(COUNTIF('Cài đặt'!$J$16:$J$30,DATE('Cài đặt'!$D$8,'Cài đặt'!$D$7,H$6))>0,"Lễ","")) | I5: =IF(I$6="","",IF(COUNTIF('Cài đặt'!$J$16:$J$30,DATE('Cài đặt'!$D$8,'Cài đặt'!$D$7,I$6))>0,"Lễ","")) | J5: =IF(J$6="","",IF(COUNTIF('Cài đặt'!$J$16:$J$30,DATE('Cài đặt'!$D$8,'Cài đặt'!$D$7,J$6))>0,"Lễ","")) | K5: =IF(K$6="","",IF(COUNTIF('Cài đặt'!$J$16:$J$30,DATE('Cài đặt'!$D$8,'Cài đặt'!$D$7,K$6))>0,"Lễ","")) | L5: =IF(L$6="","",IF(COUNTIF('Cài đặt'!$J$16:$J$30,DATE('Cài đặt'!$D$8,'Cài đặt'!$D$7,L$6))>0,"Lễ","")) | ... AI5: =IF(AI$6="","",IF(COUNTIF('Cài đặt'!$J$16:$J$30,DATE('Cài đặt'!$D$8,'Cài đặt'!$D$7,AI$6))>0,"Lễ","")) | AJ5: ='Cài đặt'!C16 -> Ca hành chính | AK5: ='Cài đặt'!C17 -> Ca sáng | AL5: ='Cài đặt'!C18 -> Ca chiều | AM5: ='Cài đặt'!C19 -> Ca đêm | AN5: ='Cài đặt'!C20 -> Chạy tuyến dài | AO5: ='Cài đặt'!C21 -> Nghỉ phép năm | AP5: ='Cài đặt'!C22 -> Nghỉ lễ | AQ5: ='Cài đặt'!C23 -> Nghỉ ốm (BHXH) | AR5: ='Cài đặt'!C24 -> Nghỉ không lương | AS5: Tổng giờ làm thực tế | AT5: Giờ làm Chủ nhật | AU5: Giờ làm ngày lễ | AV5: Tổng công hưởng lương | AW5: Giờ tăng ca
E6: =IF(COLUMN()-4<='Cài đặt'!$D$9,COLUMN()-4,"") -> 1 | F6: =IF(COLUMN()-4<='Cài đặt'!$D$9,COLUMN()-4,"") -> 2 | G6: =IF(COLUMN()-4<='Cài đặt'!$D$9,COLUMN()-4,"") -> 3 | H6: =IF(COLUMN()-4<='Cài đặt'!$D$9,COLUMN()-4,"") -> 4 | I6: =IF(COLUMN()-4<='Cài đặt'!$D$9,COLUMN()-4,"") -> 5 | J6: =IF(COLUMN()-4<='Cài đặt'!$D$9,COLUMN()-4,"") -> 6 | K6: =IF(COLUMN()-4<='Cài đặt'!$D$9,COLUMN()-4,"") -> 7 | L6: =IF(COLUMN()-4<='Cài đặt'!$D$9,COLUMN()-4,"") -> 8 | ... AI6: =IF(COLUMN()-4<='Cài đặt'!$D$9,COLUMN()-4,"")
E7: =IF(E$6="","",CHOOSE(WEEKDAY(DATE('Cài đặt'!$D$8,'Cài đặt'!$D$7,E$6),2),"T2","T3","T4","T5","T6","T7","CN")) -> CN | F7: =IF(F$6="","",CHOOSE(WEEKDAY(DATE('Cài đặt'!$D$8,'Cài đặt'!$D$7,F$6),2),"T2","T3","T4","T5","T6","T7","CN")) -> T2 | G7: =IF(G$6="","",CHOOSE(WEEKDAY(DATE('Cài đặt'!$D$8,'Cài đặt'!$D$7,G$6),2),"T2","T3","T4","T5","T6","T7","CN")) -> T3 | H7: =IF(H$6="","",CHOOSE(WEEKDAY(DATE('Cài đặt'!$D$8,'Cài đặt'!$D$7,H$6),2),"T2","T3","T4","T5","T6","T7","CN")) -> T4 | I7: =IF(I$6="","",CHOOSE(WEEKDAY(DATE('Cài đặt'!$D$8,'Cài đặt'!$D$7,I$6),2),"T2","T3","T4","T5","T6","T7","CN")) -> T5 | J7: =IF(J$6="","",CHOOSE(WEEKDAY(DATE('Cài đặt'!$D$8,'Cài đặt'!$D$7,J$6),2),"T2","T3","T4","T5","T6","T7","CN")) -> T6 | K7: =IF(K$6="","",CHOOSE(WEEKDAY(DATE('Cài đặt'!$D$8,'Cài đặt'!$D$7,K$6),2),"T2","T3","T4","T5","T6","T7","CN")) -> T7 | L7: =IF(L$6="","",CHOOSE(WEEKDAY(DATE('Cài đặt'!$D$8,'Cài đặt'!$D$7,L$6),2),"T2","T3","T4","T5","T6","T7","CN")) -> CN | ... AI7: =IF(AI$6="","",CHOOSE(WEEKDAY(DATE('Cài đặt'!$D$8,'Cài đặt'!$D$7,AI$6),2),"T2","T3","T4","T5","T6","T7","CN"))
A8: 1 | B8: LX001 | C8: Nguyễn Văn Thành | D8: 30K-555.12 | E8: H | F8: H | G8: H | H8: H | I8: H | J8: H | K8: OFF | L8: H | M8: H | N8: H | O8: H | P8: H | Q8: H | R8: OFF | S8: H | T8: H | U8: H | V8: H | W8: H | X8: H | Y8: OFF | Z8: H | AA8: H | AB8: H | AC8: H | AD8: H | AE8: H | AF8: OFF | AG8: H | AH8: H | AJ8: =IF($C8="","",COUNTIF($E8:$AI8,'Cài đặt'!$B$16)) -> 26 | AK8: =IF($C8="","",COUNTIF($E8:$AI8,'Cài đặt'!$B$17)) -> 0 | AL8: =IF($C8="","",COUNTIF($E8:$AI8,'Cài đặt'!$B$18)) -> 0 | AM8: =IF($C8="","",COUNTIF($E8:$AI8,'Cài đặt'!$B$19)) -> 0 | AN8: =IF($C8="","",COUNTIF($E8:$AI8,'Cài đặt'!$B$20)) -> 0 | AO8: =IF($C8="","",COUNTIF($E8:$AI8,'Cài đặt'!$B$21)) -> 0 | AP8: =IF($C8="","",COUNTIF($E8:$AI8,'Cài đặt'!$B$22)) -> 0 | AQ8: =IF($C8="","",COUNTIF($E8:$AI8,'Cài đặt'!$B$23)) -> 0 | AR8: =IF($C8="","",COUNTIF($E8:$AI8,'Cài đặt'!$B$24)) -> 0 | AS8: {=IF($C8="","",SUMPRODUCT(COUNTIF($E8:$AI8,'Cài đặt'!$B$16:$B$25)*'Cài đặt'!$G$16:$G$25))} -> 208 | AT8: =IF($C8="","",SUMPRODUCT(--($E$7:$AI$7="CN"),SUMIF('Cài đặt'!$B$16:$B$25,$E8:$AI8,'Cài đặt'!$G$16:$G$25))) -> 40 | AU8: =IF($C8="","",SUMPRODUCT(--($E$5:$AI$5="Lễ"),SUMIF('Cài đặt'!$B$16:$B$25,$E8:$AI8,'Cài đặt'!$G$16:$G$25))) -> 0 | AV8: {=IF($C8="","",SUMPRODUCT(COUNTIF($E8:$AI8,'Cài đặt'!$B$16:$B$25)*'Cài đặt'!$H$16:$H$25)/'Cài đặt'!$D$12)} -> 26 | AW8: =IF($C8="","",MAX(0,AS8-'Cài đặt'!$D$11*'Cài đặt'!$D$12)) -> 8
A9: 2 | B9: LX002 | C9: Trần Quốc Việt | D9: 30K-555.12 | E9: H | F9: H | G9: H | H9: H | I9: H | J9: OFF | K9: H | L9: H | M9: H | N9: H | O9: H | P9: H | Q9: OFF | R9: H | S9: H | T9: H | U9: H | V9: H | W9: H | X9: OFF | Y9: H | Z9: H | AA9: H | AB9: H | AC9: K | AD9: H | AE9: OFF | AF9: H | AG9: H | AH9: H | AJ9: =IF($C9="","",COUNTIF($E9:$AI9,'Cài đặt'!$B$16)) -> 25 | AK9: =IF($C9="","",COUNTIF($E9:$AI9,'Cài đặt'!$B$17)) -> 0 | AL9: =IF($C9="","",COUNTIF($E9:$AI9,'Cài đặt'!$B$18)) -> 0 | AM9: =IF($C9="","",COUNTIF($E9:$AI9,'Cài đặt'!$B$19)) -> 0 | AN9: =IF($C9="","",COUNTIF($E9:$AI9,'Cài đặt'!$B$20)) -> 0 | AO9: =IF($C9="","",COUNTIF($E9:$AI9,'Cài đặt'!$B$21)) -> 0 | AP9: =IF($C9="","",COUNTIF($E9:$AI9,'Cài đặt'!$B$22)) -> 0 | AQ9: =IF($C9="","",COUNTIF($E9:$AI9,'Cài đặt'!$B$23)) -> 0 | AR9: =IF($C9="","",COUNTIF($E9:$AI9,'Cài đặt'!$B$24)) -> 1 | AS9: {=IF($C9="","",SUMPRODUCT(COUNTIF($E9:$AI9,'Cài đặt'!$B$16:$B$25)*'Cài đặt'!$G$16:$G$25))} -> 200 | AT9: =IF($C9="","",SUMPRODUCT(--($E$7:$AI$7="CN"),SUMIF('Cài đặt'!$B$16:$B$25,$E9:$AI9,'Cài đặt'!$G$16:$G$25))) -> 40 | AU9: =IF($C9="","",SUMPRODUCT(--($E$5:$AI$5="Lễ"),SUMIF('Cài đặt'!$B$16:$B$25,$E9:$AI9,'Cài đặt'!$G$16:$G$25))) -> 0 | AV9: {=IF($C9="","",SUMPRODUCT(COUNTIF($E9:$AI9,'Cài đặt'!$B$16:$B$25)*'Cài đặt'!$H$16:$H$25)/'Cài đặt'!$D$12)} -> 25 | AW9: =IF($C9="","",MAX(0,AS9-'Cài đặt'!$D$11*'Cài đặt'!$D$12)) -> 0
A10: 3 | B10: LX003 | C10: Phạm Văn Cường | D10: 30A-123.45 | E10: S | F10: C | G10: C | H10: C | I10: OFF | J10: S | K10: S | L10: S | M10: C | N10: P | O10: P | P10: OFF | Q10: S | R10: S | S10: S | T10: C | U10: C | V10: C | W10: OFF | X10: S | Y10: S | Z10: S | AA10: C | AB10: C | AC10: C | AD10: OFF | AE10: S | AF10: S | AG10: S | AH10: C | AJ10: =IF($C10="","",COUNTIF($E10:$AI10,'Cài đặt'!$B$16)) -> 0 | AK10: =IF($C10="","",COUNTIF($E10:$AI10,'Cài đặt'!$B$17)) -> 13 | AL10: =IF($C10="","",COUNTIF($E10:$AI10,'Cài đặt'!$B$18)) -> 11 | AM10: =IF($C10="","",COUNTIF($E10:$AI10,'Cài đặt'!$B$19)) -> 0 | AN10: =IF($C10="","",COUNTIF($E10:$AI10,'Cài đặt'!$B$20)) -> 0 | AO10: =IF($C10="","",COUNTIF($E10:$AI10,'Cài đặt'!$B$21)) -> 2 | AP10: =IF($C10="","",COUNTIF($E10:$AI10,'Cài đặt'!$B$22)) -> 0 | AQ10: =IF($C10="","",COUNTIF($E10:$AI10,'Cài đặt'!$B$23)) -> 0 | AR10: =IF($C10="","",COUNTIF($E10:$AI10,'Cài đặt'!$B$24)) -> 0 | AS10: {=IF($C10="","",SUMPRODUCT(COUNTIF($E10:$AI10,'Cài đặt'!$B$16:$B$25)*'Cài đặt'!$G$16:$G$25))} -> 192 | AT10: =IF($C10="","",SUMPRODUCT(--($E$7:$AI$7="CN"),SUMIF('Cài đặt'!$B$16:$B$25,$E10:$AI10,'Cài đặt'!$G$16:$G$25))) -> 40 | AU10: =IF($C10="","",SUMPRODUCT(--($E$5:$AI$5="Lễ"),SUMIF('Cài đặt'!$B$16:$B$25,$E10:$AI10,'Cài đặt'!$G$16:$G$25))) -> 0 | AV10: {=IF($C10="","",SUMPRODUCT(COUNTIF($E10:$AI10,'Cài đặt'!$B$16:$B$25)*'Cài đặt'!$H$16:$H$25)/'Cài đặt'!$D$12)} -> 26 | AW10: =IF($C10="","",MAX(0,AS10-'Cài đặt'!$D$11*'Cài đặt'!$D$12)) -> 0
A11: 4 | B11: LX004 | C11: Hoàng Văn Tùng | D11: 30A-123.45 | E11: S | F11: S | G11: S | H11: OFF | I11: C | J11: C | K11: C | L11: S | M11: S | N11: S | O11: OFF | P11: C | Q11: C | R11: C | S11: S | T11: S | U11: S | V11: OFF | W11: C | X11: C | Y11: C | Z11: S | AA11: S | AB11: S | AC11: OFF | AD11: C | AE11: C | AF11: C | AG11: S | AH11: S | AJ11: =IF($C11="","",COUNTIF($E11:$AI11,'Cài đặt'!$B$16)) -> 0 | AK11: =IF($C11="","",COUNTIF($E11:$AI11,'Cài đặt'!$B$17)) -> 14 | AL11: =IF($C11="","",COUNTIF($E11:$AI11,'Cài đặt'!$B$18)) -> 12 | AM11: =IF($C11="","",COUNTIF($E11:$AI11,'Cài đặt'!$B$19)) -> 0 | AN11: =IF($C11="","",COUNTIF($E11:$AI11,'Cài đặt'!$B$20)) -> 0 | AO11: =IF($C11="","",COUNTIF($E11:$AI11,'Cài đặt'!$B$21)) -> 0 | AP11: =IF($C11="","",COUNTIF($E11:$AI11,'Cài đặt'!$B$22)) -> 0 | AQ11: =IF($C11="","",COUNTIF($E11:$AI11,'Cài đặt'!$B$23)) -> 0 | AR11: =IF($C11="","",COUNTIF($E11:$AI11,'Cài đặt'!$B$24)) -> 0 | AS11: {=IF($C11="","",SUMPRODUCT(COUNTIF($E11:$AI11,'Cài đặt'!$B$16:$B$25)*'Cài đặt'!$G$16:$G$25))} -> 208 | AT11: =IF($C11="","",SUMPRODUCT(--($E$7:$AI$7="CN"),SUMIF('Cài đặt'!$B$16:$B$25,$E11:$AI11,'Cài đặt'!$G$16:$G$25))) -> 40 | AU11: =IF($C11="","",SUMPRODUCT(--($E$5:$AI$5="Lễ"),SUMIF('Cài đặt'!$B$16:$B$25,$E11:$AI11,'Cài đặt'!$G$16:$G$25))) -> 0 | AV11: {=IF($C11="","",SUMPRODUCT(COUNTIF($E11:$AI11,'Cài đặt'!$B$16:$B$25)*'Cài đặt'!$H$16:$H$25)/'Cài đặt'!$D$12)} -> 26 | AW11: =IF($C11="","",MAX(0,AS11-'Cài đặt'!$D$11*'Cài đặt'!$D$12)) -> 8
A12: 5 | B12: LX005 | C12: Đỗ Minh Hải | D12: 30F-678.90 | E12: T | F12: OFF | G12: OFF | H12: T | I12: T | J12: T | K12: T | L12: T | M12: OFF | N12: OFF | O12: T | P12: T | Q12: T | R12: T | S12: T | T12: OFF | U12: OFF | V12: Ô | W12: T | X12: T | Y12: T | Z12: T | AA12: OFF | AB12: OFF | AC12: T | AD12: T | AE12: T | AF12: T | AG12: T | AH12: OFF | AJ12: =IF($C12="","",COUNTIF($E12:$AI12,'Cài đặt'!$B$16)) -> 0 | AK12: =IF($C12="","",COUNTIF($E12:$AI12,'Cài đặt'!$B$17)) -> 0 | AL12: =IF($C12="","",COUNTIF($E12:$AI12,'Cài đặt'!$B$18)) -> 0 | AM12: =IF($C12="","",COUNTIF($E12:$AI12,'Cài đặt'!$B$19)) -> 0 | AN12: =IF($C12="","",COUNTIF($E12:$AI12,'Cài đặt'!$B$20)) -> 20 | AO12: =IF($C12="","",COUNTIF($E12:$AI12,'Cài đặt'!$B$21)) -> 0 | AP12: =IF($C12="","",COUNTIF($E12:$AI12,'Cài đặt'!$B$22)) -> 0 | AQ12: =IF($C12="","",COUNTIF($E12:$AI12,'Cài đặt'!$B$23)) -> 1 | AR12: =IF($C12="","",COUNTIF($E12:$AI12,'Cài đặt'!$B$24)) -> 0 | AS12: {=IF($C12="","",SUMPRODUCT(COUNTIF($E12:$AI12,'Cài đặt'!$B$16:$B$25)*'Cài đặt'!$G$16:$G$25))} -> 220 | AT12: =IF($C12="","",SUMPRODUCT(--($E$7:$AI$7="CN"),SUMIF('Cài đặt'!$B$16:$B$25,$E12:$AI12,'Cài đặt'!$G$16:$G$25))) -> 55 | AU12: =IF($C12="","",SUMPRODUCT(--($E$5:$AI$5="Lễ"),SUMIF('Cài đặt'!$B$16:$B$25,$E12:$AI12,'Cài đặt'!$G$16:$G$25))) -> 0 | AV12: {=IF($C12="","",SUMPRODUCT(COUNTIF($E12:$AI12,'Cài đặt'!$B$16:$B$25)*'Cài đặt'!$H$16:$H$25)/'Cài đặt'!$D$12)} -> 27.5 | AW12: =IF($C12="","",MAX(0,AS12-'Cài đặt'!$D$11*'Cài đặt'!$D$12)) -> 20
A13: 6 | B13: LX006 | C13: Lê Hữu Phước | D13: 29B-234.56 | E13: OFF | F13: OFF | G13: Đ | H13: Đ | I13: Đ | J13: Đ | K13: Đ | L13: OFF | M13: OFF | N13: Đ | O13: Đ | P13: Đ | Q13: Đ | R13: Đ | S13: OFF | T13: OFF | U13: Đ | V13: Đ | W13: Đ | X13: Đ | Y13: Đ | Z13: OFF | AA13: OFF | AB13: Đ | AC13: Đ | AD13: Đ | AE13: Đ | AF13: Đ | AG13: OFF | AH13: OFF | AJ13: =IF($C13="","",COUNTIF($E13:$AI13,'Cài đặt'!$B$16)) -> 0 | AK13: =IF($C13="","",COUNTIF($E13:$AI13,'Cài đặt'!$B$17)) -> 0 | AL13: =IF($C13="","",COUNTIF($E13:$AI13,'Cài đặt'!$B$18)) -> 0 | AM13: =IF($C13="","",COUNTIF($E13:$AI13,'Cài đặt'!$B$19)) -> 20 | AN13: =IF($C13="","",COUNTIF($E13:$AI13,'Cài đặt'!$B$20)) -> 0 | AO13: =IF($C13="","",COUNTIF($E13:$AI13,'Cài đặt'!$B$21)) -> 0 | AP13: =IF($C13="","",COUNTIF($E13:$AI13,'Cài đặt'!$B$22)) -> 0 | AQ13: =IF($C13="","",COUNTIF($E13:$AI13,'Cài đặt'!$B$23)) -> 0 | AR13: =IF($C13="","",COUNTIF($E13:$AI13,'Cài đặt'!$B$24)) -> 0 | AS13: {=IF($C13="","",SUMPRODUCT(COUNTIF($E13:$AI13,'Cài đặt'!$B$16:$B$25)*'Cài đặt'!$G$16:$G$25))} -> 160 | AT13: =IF($C13="","",SUMPRODUCT(--($E$7:$AI$7="CN"),SUMIF('Cài đặt'!$B$16:$B$25,$E13:$AI13,'Cài đặt'!$G$16:$G$25))) -> 0 | AU13: =IF($C13="","",SUMPRODUCT(--($E$5:$AI$5="Lễ"),SUMIF('Cài đặt'!$B$16:$B$25,$E13:$AI13,'Cài đặt'!$G$16:$G$25))) -> 0 | AV13: {=IF($C13="","",SUMPRODUCT(COUNTIF($E13:$AI13,'Cài đặt'!$B$16:$B$25)*'Cài đặt'!$H$16:$H$25)/'Cài đặt'!$D$12)} -> 20 | AW13: =IF($C13="","",MAX(0,AS13-'Cài đặt'!$D$11*'Cài đặt'!$D$12)) -> 0
A14: 7 | B14: LX007 | C14: Vũ Đình Khoa | D14: 29C-777.88 | E14: OFF | F14: H | G14: H | H14: H | I14: H | J14: H | K14: H | L14: OFF | M14: H | N14: H | O14: H | P14: H | Q14: H | R14: H | S14: OFF | T14: H | U14: H | V14: H | W14: H | X14: H | Y14: H | Z14: OFF | AA14: H | AB14: H | AC14: H | AD14: H | AE14: H | AF14: H | AG14: OFF | AH14: H | AJ14: =IF($C14="","",COUNTIF($E14:$AI14,'Cài đặt'!$B$16)) -> 25 | AK14: =IF($C14="","",COUNTIF($E14:$AI14,'Cài đặt'!$B$17)) -> 0 | AL14: =IF($C14="","",COUNTIF($E14:$AI14,'Cài đặt'!$B$18)) -> 0 | AM14: =IF($C14="","",COUNTIF($E14:$AI14,'Cài đặt'!$B$19)) -> 0 | AN14: =IF($C14="","",COUNTIF($E14:$AI14,'Cài đặt'!$B$20)) -> 0 | AO14: =IF($C14="","",COUNTIF($E14:$AI14,'Cài đặt'!$B$21)) -> 0 | AP14: =IF($C14="","",COUNTIF($E14:$AI14,'Cài đặt'!$B$22)) -> 0 | AQ14: =IF($C14="","",COUNTIF($E14:$AI14,'Cài đặt'!$B$23)) -> 0 | AR14: =IF($C14="","",COUNTIF($E14:$AI14,'Cài đặt'!$B$24)) -> 0 | AS14: {=IF($C14="","",SUMPRODUCT(COUNTIF($E14:$AI14,'Cài đặt'!$B$16:$B$25)*'Cài đặt'!$G$16:$G$25))} -> 200 | AT14: =IF($C14="","",SUMPRODUCT(--($E$7:$AI$7="CN"),SUMIF('Cài đặt'!$B$16:$B$25,$E14:$AI14,'Cài đặt'!$G$16:$G$25))) -> 0 | AU14: =IF($C14="","",SUMPRODUCT(--($E$5:$AI$5="Lễ"),SUMIF('Cài đặt'!$B$16:$B$25,$E14:$AI14,'Cài đặt'!$G$16:$G$25))) -> 0 | AV14: {=IF($C14="","",SUMPRODUCT(COUNTIF($E14:$AI14,'Cài đặt'!$B$16:$B$25)*'Cài đặt'!$H$16:$H$25)/'Cài đặt'!$D$12)} -> 25 | AW14: =IF($C14="","",MAX(0,AS14-'Cài đặt'!$D$11*'Cài đặt'!$D$12)) -> 0
A15: 8 | B15: LX008 | C15: Bùi Xuân Trường | D15: 29C-777.88 | E15: S | F15: C | G15: S | H15: C | I15: S | J15: C | K15: OFF | L15: S | M15: C | N15: S | O15: C | P15: S | Q15: C | R15: OFF | S15: S | T15: C | U15: S | V15: C | W15: S | X15: C | Y15: OFF | Z15: S | AA15: C | AB15: S | AC15: C | AD15: S | AE15: C | AF15: OFF | AG15: S | AH15: C | AJ15: =IF($C15="","",COUNTIF($E15:$AI15,'Cài đặt'!$B$16)) -> 0 | AK15: =IF($C15="","",COUNTIF($E15:$AI15,'Cài đặt'!$B$17)) -> 13 | AL15: =IF($C15="","",COUNTIF($E15:$AI15,'Cài đặt'!$B$18)) -> 13 | AM15: =IF($C15="","",COUNTIF($E15:$AI15,'Cài đặt'!$B$19)) -> 0 | AN15: =IF($C15="","",COUNTIF($E15:$AI15,'Cài đặt'!$B$20)) -> 0 | AO15: =IF($C15="","",COUNTIF($E15:$AI15,'Cài đặt'!$B$21)) -> 0 | AP15: =IF($C15="","",COUNTIF($E15:$AI15,'Cài đặt'!$B$22)) -> 0 | AQ15: =IF($C15="","",COUNTIF($E15:$AI15,'Cài đặt'!$B$23)) -> 0 | AR15: =IF($C15="","",COUNTIF($E15:$AI15,'Cài đặt'!$B$24)) -> 0 | AS15: {=IF($C15="","",SUMPRODUCT(COUNTIF($E15:$AI15,'Cài đặt'!$B$16:$B$25)*'Cài đặt'!$G$16:$G$25))} -> 208 | AT15: =IF($C15="","",SUMPRODUCT(--($E$7:$AI$7="CN"),SUMIF('Cài đặt'!$B$16:$B$25,$E15:$AI15,'Cài đặt'!$G$16:$G$25))) -> 40 | AU15: =IF($C15="","",SUMPRODUCT(--($E$5:$AI$5="Lễ"),SUMIF('Cài đặt'!$B$16:$B$25,$E15:$AI15,'Cài đặt'!$G$16:$G$25))) -> 0 | AV15: {=IF($C15="","",SUMPRODUCT(COUNTIF($E15:$AI15,'Cài đặt'!$B$16:$B$25)*'Cài đặt'!$H$16:$H$25)/'Cài đặt'!$D$12)} -> 26 | AW15: =IF($C15="","",MAX(0,AS15-'Cài đặt'!$D$11*'Cài đặt'!$D$12)) -> 8
A16: 9 | AJ16: =IF($C16="","",COUNTIF($E16:$AI16,'Cài đặt'!$B$16)) | AK16: =IF($C16="","",COUNTIF($E16:$AI16,'Cài đặt'!$B$17)) | AL16: =IF($C16="","",COUNTIF($E16:$AI16,'Cài đặt'!$B$18)) | AM16: =IF($C16="","",COUNTIF($E16:$AI16,'Cài đặt'!$B$19)) | AN16: =IF($C16="","",COUNTIF($E16:$AI16,'Cài đặt'!$B$20)) | AO16: =IF($C16="","",COUNTIF($E16:$AI16,'Cài đặt'!$B$21)) | AP16: =IF($C16="","",COUNTIF($E16:$AI16,'Cài đặt'!$B$22)) | AQ16: =IF($C16="","",COUNTIF($E16:$AI16,'Cài đặt'!$B$23)) | AR16: =IF($C16="","",COUNTIF($E16:$AI16,'Cài đặt'!$B$24)) | AS16: {=IF($C16="","",SUMPRODUCT(COUNTIF($E16:$AI16,'Cài đặt'!$B$16:$B$25)*'Cài đặt'!$G$16:$G$25))} | AT16: =IF($C16="","",SUMPRODUCT(--($E$7:$AI$7="CN"),SUMIF('Cài đặt'!$B$16:$B$25,$E16:$AI16,'Cài đặt'!$G$16:$G$25))) | AU16: =IF($C16="","",SUMPRODUCT(--($E$5:$AI$5="Lễ"),SUMIF('Cài đặt'!$B$16:$B$25,$E16:$AI16,'Cài đặt'!$G$16:$G$25))) | AV16: {=IF($C16="","",SUMPRODUCT(COUNTIF($E16:$AI16,'Cài đặt'!$B$16:$B$25)*'Cài đặt'!$H$16:$H$25)/'Cài đặt'!$D$12)} | AW16: =IF($C16="","",MAX(0,AS16-'Cài đặt'!$D$11*'Cài đặt'!$D$12))
A17: 10 | AJ17: =IF($C17="","",COUNTIF($E17:$AI17,'Cài đặt'!$B$16)) | AK17: =IF($C17="","",COUNTIF($E17:$AI17,'Cài đặt'!$B$17)) | AL17: =IF($C17="","",COUNTIF($E17:$AI17,'Cài đặt'!$B$18)) | AM17: =IF($C17="","",COUNTIF($E17:$AI17,'Cài đặt'!$B$19)) | AN17: =IF($C17="","",COUNTIF($E17:$AI17,'Cài đặt'!$B$20)) | AO17: =IF($C17="","",COUNTIF($E17:$AI17,'Cài đặt'!$B$21)) | AP17: =IF($C17="","",COUNTIF($E17:$AI17,'Cài đặt'!$B$22)) | AQ17: =IF($C17="","",COUNTIF($E17:$AI17,'Cài đặt'!$B$23)) | AR17: =IF($C17="","",COUNTIF($E17:$AI17,'Cài đặt'!$B$24)) | AS17: {=IF($C17="","",SUMPRODUCT(COUNTIF($E17:$AI17,'Cài đặt'!$B$16:$B$25)*'Cài đặt'!$G$16:$G$25))} | AT17: =IF($C17="","",SUMPRODUCT(--($E$7:$AI$7="CN"),SUMIF('Cài đặt'!$B$16:$B$25,$E17:$AI17,'Cài đặt'!$G$16:$G$25))) | AU17: =IF($C17="","",SUMPRODUCT(--($E$5:$AI$5="Lễ"),SUMIF('Cài đặt'!$B$16:$B$25,$E17:$AI17,'Cài đặt'!$G$16:$G$25))) | AV17: {=IF($C17="","",SUMPRODUCT(COUNTIF($E17:$AI17,'Cài đặt'!$B$16:$B$25)*'Cài đặt'!$H$16:$H$25)/'Cài đặt'!$D$12)} | AW17: =IF($C17="","",MAX(0,AS17-'Cài đặt'!$D$11*'Cài đặt'!$D$12))
A18: 11 | AJ18: =IF($C18="","",COUNTIF($E18:$AI18,'Cài đặt'!$B$16)) | AK18: =IF($C18="","",COUNTIF($E18:$AI18,'Cài đặt'!$B$17)) | AL18: =IF($C18="","",COUNTIF($E18:$AI18,'Cài đặt'!$B$18)) | AM18: =IF($C18="","",COUNTIF($E18:$AI18,'Cài đặt'!$B$19)) | AN18: =IF($C18="","",COUNTIF($E18:$AI18,'Cài đặt'!$B$20)) | AO18: =IF($C18="","",COUNTIF($E18:$AI18,'Cài đặt'!$B$21)) | AP18: =IF($C18="","",COUNTIF($E18:$AI18,'Cài đặt'!$B$22)) | AQ18: =IF($C18="","",COUNTIF($E18:$AI18,'Cài đặt'!$B$23)) | AR18: =IF($C18="","",COUNTIF($E18:$AI18,'Cài đặt'!$B$24)) | AS18: {=IF($C18="","",SUMPRODUCT(COUNTIF($E18:$AI18,'Cài đặt'!$B$16:$B$25)*'Cài đặt'!$G$16:$G$25))} | AT18: =IF($C18="","",SUMPRODUCT(--($E$7:$AI$7="CN"),SUMIF('Cài đặt'!$B$16:$B$25,$E18:$AI18,'Cài đặt'!$G$16:$G$25))) | AU18: =IF($C18="","",SUMPRODUCT(--($E$5:$AI$5="Lễ"),SUMIF('Cài đặt'!$B$16:$B$25,$E18:$AI18,'Cài đặt'!$G$16:$G$25))) | AV18: {=IF($C18="","",SUMPRODUCT(COUNTIF($E18:$AI18,'Cài đặt'!$B$16:$B$25)*'Cài đặt'!$H$16:$H$25)/'Cài đặt'!$D$12)} | AW18: =IF($C18="","",MAX(0,AS18-'Cài đặt'!$D$11*'Cài đặt'!$D$12))
A19: 12 | AJ19: =IF($C19="","",COUNTIF($E19:$AI19,'Cài đặt'!$B$16)) | AK19: =IF($C19="","",COUNTIF($E19:$AI19,'Cài đặt'!$B$17)) | AL19: =IF($C19="","",COUNTIF($E19:$AI19,'Cài đặt'!$B$18)) | AM19: =IF($C19="","",COUNTIF($E19:$AI19,'Cài đặt'!$B$19)) | AN19: =IF($C19="","",COUNTIF($E19:$AI19,'Cài đặt'!$B$20)) | AO19: =IF($C19="","",COUNTIF($E19:$AI19,'Cài đặt'!$B$21)) | AP19: =IF($C19="","",COUNTIF($E19:$AI19,'Cài đặt'!$B$22)) | AQ19: =IF($C19="","",COUNTIF($E19:$AI19,'Cài đặt'!$B$23)) | AR19: =IF($C19="","",COUNTIF($E19:$AI19,'Cài đặt'!$B$24)) | AS19: {=IF($C19="","",SUMPRODUCT(COUNTIF($E19:$AI19,'Cài đặt'!$B$16:$B$25)*'Cài đặt'!$G$16:$G$25))} | AT19: =IF($C19="","",SUMPRODUCT(--($E$7:$AI$7="CN"),SUMIF('Cài đặt'!$B$16:$B$25,$E19:$AI19,'Cài đặt'!$G$16:$G$25))) | AU19: =IF($C19="","",SUMPRODUCT(--($E$5:$AI$5="Lễ"),SUMIF('Cài đặt'!$B$16:$B$25,$E19:$AI19,'Cài đặt'!$G$16:$G$25))) | AV19: {=IF($C19="","",SUMPRODUCT(COUNTIF($E19:$AI19,'Cài đặt'!$B$16:$B$25)*'Cài đặt'!$H$16:$H$25)/'Cài đặt'!$D$12)} | AW19: =IF($C19="","",MAX(0,AS19-'Cài đặt'!$D$11*'Cài đặt'!$D$12))
A20: 13 | AJ20: =IF($C20="","",COUNTIF($E20:$AI20,'Cài đặt'!$B$16)) | AK20: =IF($C20="","",COUNTIF($E20:$AI20,'Cài đặt'!$B$17)) | AL20: =IF($C20="","",COUNTIF($E20:$AI20,'Cài đặt'!$B$18)) | AM20: =IF($C20="","",COUNTIF($E20:$AI20,'Cài đặt'!$B$19)) | AN20: =IF($C20="","",COUNTIF($E20:$AI20,'Cài đặt'!$B$20)) | AO20: =IF($C20="","",COUNTIF($E20:$AI20,'Cài đặt'!$B$21)) | AP20: =IF($C20="","",COUNTIF($E20:$AI20,'Cài đặt'!$B$22)) | AQ20: =IF($C20="","",COUNTIF($E20:$AI20,'Cài đặt'!$B$23)) | AR20: =IF($C20="","",COUNTIF($E20:$AI20,'Cài đặt'!$B$24)) | AS20: {=IF($C20="","",SUMPRODUCT(COUNTIF($E20:$AI20,'Cài đặt'!$B$16:$B$25)*'Cài đặt'!$G$16:$G$25))} | AT20: =IF($C20="","",SUMPRODUCT(--($E$7:$AI$7="CN"),SUMIF('Cài đặt'!$B$16:$B$25,$E20:$AI20,'Cài đặt'!$G$16:$G$25))) | AU20: =IF($C20="","",SUMPRODUCT(--($E$5:$AI$5="Lễ"),SUMIF('Cài đặt'!$B$16:$B$25,$E20:$AI20,'Cài đặt'!$G$16:$G$25))) | AV20: {=IF($C20="","",SUMPRODUCT(COUNTIF($E20:$AI20,'Cài đặt'!$B$16:$B$25)*'Cài đặt'!$H$16:$H$25)/'Cài đặt'!$D$12)} | AW20: =IF($C20="","",MAX(0,AS20-'Cài đặt'!$D$11*'Cài đặt'!$D$12))
A21: 14 | AJ21: =IF($C21="","",COUNTIF($E21:$AI21,'Cài đặt'!$B$16)) | AK21: =IF($C21="","",COUNTIF($E21:$AI21,'Cài đặt'!$B$17)) | AL21: =IF($C21="","",COUNTIF($E21:$AI21,'Cài đặt'!$B$18)) | AM21: =IF($C21="","",COUNTIF($E21:$AI21,'Cài đặt'!$B$19)) | AN21: =IF($C21="","",COUNTIF($E21:$AI21,'Cài đặt'!$B$20)) | AO21: =IF($C21="","",COUNTIF($E21:$AI21,'Cài đặt'!$B$21)) | AP21: =IF($C21="","",COUNTIF($E21:$AI21,'Cài đặt'!$B$22)) | AQ21: =IF($C21="","",COUNTIF($E21:$AI21,'Cài đặt'!$B$23)) | AR21: =IF($C21="","",COUNTIF($E21:$AI21,'Cài đặt'!$B$24)) | AS21: {=IF($C21="","",SUMPRODUCT(COUNTIF($E21:$AI21,'Cài đặt'!$B$16:$B$25)*'Cài đặt'!$G$16:$G$25))} | AT21: =IF($C21="","",SUMPRODUCT(--($E$7:$AI$7="CN"),SUMIF('Cài đặt'!$B$16:$B$25,$E21:$AI21,'Cài đặt'!$G$16:$G$25))) | AU21: =IF($C21="","",SUMPRODUCT(--($E$5:$AI$5="Lễ"),SUMIF('Cài đặt'!$B$16:$B$25,$E21:$AI21,'Cài đặt'!$G$16:$G$25))) | AV21: {=IF($C21="","",SUMPRODUCT(COUNTIF($E21:$AI21,'Cài đặt'!$B$16:$B$25)*'Cài đặt'!$H$16:$H$25)/'Cài đặt'!$D$12)} | AW21: =IF($C21="","",MAX(0,AS21-'Cài đặt'!$D$11*'Cài đặt'!$D$12))
A22: 15 | AJ22: =IF($C22="","",COUNTIF($E22:$AI22,'Cài đặt'!$B$16)) | AK22: =IF($C22="","",COUNTIF($E22:$AI22,'Cài đặt'!$B$17)) | AL22: =IF($C22="","",COUNTIF($E22:$AI22,'Cài đặt'!$B$18)) | AM22: =IF($C22="","",COUNTIF($E22:$AI22,'Cài đặt'!$B$19)) | AN22: =IF($C22="","",COUNTIF($E22:$AI22,'Cài đặt'!$B$20)) | AO22: =IF($C22="","",COUNTIF($E22:$AI22,'Cài đặt'!$B$21)) | AP22: =IF($C22="","",COUNTIF($E22:$AI22,'Cài đặt'!$B$22)) | AQ22: =IF($C22="","",COUNTIF($E22:$AI22,'Cài đặt'!$B$23)) | AR22: =IF($C22="","",COUNTIF($E22:$AI22,'Cài đặt'!$B$24)) | AS22: {=IF($C22="","",SUMPRODUCT(COUNTIF($E22:$AI22,'Cài đặt'!$B$16:$B$25)*'Cài đặt'!$G$16:$G$25))} | AT22: =IF($C22="","",SUMPRODUCT(--($E$7:$AI$7="CN"),SUMIF('Cài đặt'!$B$16:$B$25,$E22:$AI22,'Cài đặt'!$G$16:$G$25))) | AU22: =IF($C22="","",SUMPRODUCT(--($E$5:$AI$5="Lễ"),SUMIF('Cài đặt'!$B$16:$B$25,$E22:$AI22,'Cài đặt'!$G$16:$G$25))) | AV22: {=IF($C22="","",SUMPRODUCT(COUNTIF($E22:$AI22,'Cài đặt'!$B$16:$B$25)*'Cài đặt'!$H$16:$H$25)/'Cài đặt'!$D$12)} | AW22: =IF($C22="","",MAX(0,AS22-'Cài đặt'!$D$11*'Cài đặt'!$D$12))
A23: 16 | AJ23: =IF($C23="","",COUNTIF($E23:$AI23,'Cài đặt'!$B$16)) | AK23: =IF($C23="","",COUNTIF($E23:$AI23,'Cài đặt'!$B$17)) | AL23: =IF($C23="","",COUNTIF($E23:$AI23,'Cài đặt'!$B$18)) | AM23: =IF($C23="","",COUNTIF($E23:$AI23,'Cài đặt'!$B$19)) | AN23: =IF($C23="","",COUNTIF($E23:$AI23,'Cài đặt'!$B$20)) | AO23: =IF($C23="","",COUNTIF($E23:$AI23,'Cài đặt'!$B$21)) | AP23: =IF($C23="","",COUNTIF($E23:$AI23,'Cài đặt'!$B$22)) | AQ23: =IF($C23="","",COUNTIF($E23:$AI23,'Cài đặt'!$B$23)) | AR23: =IF($C23="","",COUNTIF($E23:$AI23,'Cài đặt'!$B$24)) | AS23: {=IF($C23="","",SUMPRODUCT(COUNTIF($E23:$AI23,'Cài đặt'!$B$16:$B$25)*'Cài đặt'!$G$16:$G$25))} | AT23: =IF($C23="","",SUMPRODUCT(--($E$7:$AI$7="CN"),SUMIF('Cài đặt'!$B$16:$B$25,$E23:$AI23,'Cài đặt'!$G$16:$G$25))) | AU23: =IF($C23="","",SUMPRODUCT(--($E$5:$AI$5="Lễ"),SUMIF('Cài đặt'!$B$16:$B$25,$E23:$AI23,'Cài đặt'!$G$16:$G$25))) | AV23: {=IF($C23="","",SUMPRODUCT(COUNTIF($E23:$AI23,'Cài đặt'!$B$16:$B$25)*'Cài đặt'!$H$16:$H$25)/'Cài đặt'!$D$12)} | AW23: =IF($C23="","",MAX(0,AS23-'Cài đặt'!$D$11*'Cài đặt'!$D$12))
A24: 17 | AJ24: =IF($C24="","",COUNTIF($E24:$AI24,'Cài đặt'!$B$16)) | AK24: =IF($C24="","",COUNTIF($E24:$AI24,'Cài đặt'!$B$17)) | AL24: =IF($C24="","",COUNTIF($E24:$AI24,'Cài đặt'!$B$18)) | AM24: =IF($C24="","",COUNTIF($E24:$AI24,'Cài đặt'!$B$19)) | AN24: =IF($C24="","",COUNTIF($E24:$AI24,'Cài đặt'!$B$20)) | AO24: =IF($C24="","",COUNTIF($E24:$AI24,'Cài đặt'!$B$21)) | AP24: =IF($C24="","",COUNTIF($E24:$AI24,'Cài đặt'!$B$22)) | AQ24: =IF($C24="","",COUNTIF($E24:$AI24,'Cài đặt'!$B$23)) | AR24: =IF($C24="","",COUNTIF($E24:$AI24,'Cài đặt'!$B$24)) | AS24: {=IF($C24="","",SUMPRODUCT(COUNTIF($E24:$AI24,'Cài đặt'!$B$16:$B$25)*'Cài đặt'!$G$16:$G$25))} | AT24: =IF($C24="","",SUMPRODUCT(--($E$7:$AI$7="CN"),SUMIF('Cài đặt'!$B$16:$B$25,$E24:$AI24,'Cài đặt'!$G$16:$G$25))) | AU24: =IF($C24="","",SUMPRODUCT(--($E$5:$AI$5="Lễ"),SUMIF('Cài đặt'!$B$16:$B$25,$E24:$AI24,'Cài đặt'!$G$16:$G$25))) | AV24: {=IF($C24="","",SUMPRODUCT(COUNTIF($E24:$AI24,'Cài đặt'!$B$16:$B$25)*'Cài đặt'!$H$16:$H$25)/'Cài đặt'!$D$12)} | AW24: =IF($C24="","",MAX(0,AS24-'Cài đặt'!$D$11*'Cài đặt'!$D$12))
A25: 18 | AJ25: =IF($C25="","",COUNTIF($E25:$AI25,'Cài đặt'!$B$16)) | AK25: =IF($C25="","",COUNTIF($E25:$AI25,'Cài đặt'!$B$17)) | AL25: =IF($C25="","",COUNTIF($E25:$AI25,'Cài đặt'!$B$18)) | AM25: =IF($C25="","",COUNTIF($E25:$AI25,'Cài đặt'!$B$19)) | AN25: =IF($C25="","",COUNTIF($E25:$AI25,'Cài đặt'!$B$20)) | AO25: =IF($C25="","",COUNTIF($E25:$AI25,'Cài đặt'!$B$21)) | AP25: =IF($C25="","",COUNTIF($E25:$AI25,'Cài đặt'!$B$22)) | AQ25: =IF($C25="","",COUNTIF($E25:$AI25,'Cài đặt'!$B$23)) | AR25: =IF($C25="","",COUNTIF($E25:$AI25,'Cài đặt'!$B$24)) | AS25: {=IF($C25="","",SUMPRODUCT(COUNTIF($E25:$AI25,'Cài đặt'!$B$16:$B$25)*'Cài đặt'!$G$16:$G$25))} | AT25: =IF($C25="","",SUMPRODUCT(--($E$7:$AI$7="CN"),SUMIF('Cài đặt'!$B$16:$B$25,$E25:$AI25,'Cài đặt'!$G$16:$G$25))) | AU25: =IF($C25="","",SUMPRODUCT(--($E$5:$AI$5="Lễ"),SUMIF('Cài đặt'!$B$16:$B$25,$E25:$AI25,'Cài đặt'!$G$16:$G$25))) | AV25: {=IF($C25="","",SUMPRODUCT(COUNTIF($E25:$AI25,'Cài đặt'!$B$16:$B$25)*'Cài đặt'!$H$16:$H$25)/'Cài đặt'!$D$12)} | AW25: =IF($C25="","",MAX(0,AS25-'Cài đặt'!$D$11*'Cài đặt'!$D$12))
A26: 19 | AJ26: =IF($C26="","",COUNTIF($E26:$AI26,'Cài đặt'!$B$16)) | AK26: =IF($C26="","",COUNTIF($E26:$AI26,'Cài đặt'!$B$17)) | AL26: =IF($C26="","",COUNTIF($E26:$AI26,'Cài đặt'!$B$18)) | AM26: =IF($C26="","",COUNTIF($E26:$AI26,'Cài đặt'!$B$19)) | AN26: =IF($C26="","",COUNTIF($E26:$AI26,'Cài đặt'!$B$20)) | AO26: =IF($C26="","",COUNTIF($E26:$AI26,'Cài đặt'!$B$21)) | AP26: =IF($C26="","",COUNTIF($E26:$AI26,'Cài đặt'!$B$22)) | AQ26: =IF($C26="","",COUNTIF($E26:$AI26,'Cài đặt'!$B$23)) | AR26: =IF($C26="","",COUNTIF($E26:$AI26,'Cài đặt'!$B$24)) | AS26: {=IF($C26="","",SUMPRODUCT(COUNTIF($E26:$AI26,'Cài đặt'!$B$16:$B$25)*'Cài đặt'!$G$16:$G$25))} | AT26: =IF($C26="","",SUMPRODUCT(--($E$7:$AI$7="CN"),SUMIF('Cài đặt'!$B$16:$B$25,$E26:$AI26,'Cài đặt'!$G$16:$G$25))) | AU26: =IF($C26="","",SUMPRODUCT(--($E$5:$AI$5="Lễ"),SUMIF('Cài đặt'!$B$16:$B$25,$E26:$AI26,'Cài đặt'!$G$16:$G$25))) | AV26: {=IF($C26="","",SUMPRODUCT(COUNTIF($E26:$AI26,'Cài đặt'!$B$16:$B$25)*'Cài đặt'!$H$16:$H$25)/'Cài đặt'!$D$12)} | AW26: =IF($C26="","",MAX(0,AS26-'Cài đặt'!$D$11*'Cài đặt'!$D$12))
A27: 20 | AJ27: =IF($C27="","",COUNTIF($E27:$AI27,'Cài đặt'!$B$16)) | AK27: =IF($C27="","",COUNTIF($E27:$AI27,'Cài đặt'!$B$17)) | AL27: =IF($C27="","",COUNTIF($E27:$AI27,'Cài đặt'!$B$18)) | AM27: =IF($C27="","",COUNTIF($E27:$AI27,'Cài đặt'!$B$19)) | AN27: =IF($C27="","",COUNTIF($E27:$AI27,'Cài đặt'!$B$20)) | AO27: =IF($C27="","",COUNTIF($E27:$AI27,'Cài đặt'!$B$21)) | AP27: =IF($C27="","",COUNTIF($E27:$AI27,'Cài đặt'!$B$22)) | AQ27: =IF($C27="","",COUNTIF($E27:$AI27,'Cài đặt'!$B$23)) | AR27: =IF($C27="","",COUNTIF($E27:$AI27,'Cài đặt'!$B$24)) | AS27: {=IF($C27="","",SUMPRODUCT(COUNTIF($E27:$AI27,'Cài đặt'!$B$16:$B$25)*'Cài đặt'!$G$16:$G$25))} | AT27: =IF($C27="","",SUMPRODUCT(--($E$7:$AI$7="CN"),SUMIF('Cài đặt'!$B$16:$B$25,$E27:$AI27,'Cài đặt'!$G$16:$G$25))) | AU27: =IF($C27="","",SUMPRODUCT(--($E$5:$AI$5="Lễ"),SUMIF('Cài đặt'!$B$16:$B$25,$E27:$AI27,'Cài đặt'!$G$16:$G$25))) | AV27: {=IF($C27="","",SUMPRODUCT(COUNTIF($E27:$AI27,'Cài đặt'!$B$16:$B$25)*'Cài đặt'!$H$16:$H$25)/'Cài đặt'!$D$12)} | AW27: =IF($C27="","",MAX(0,AS27-'Cài đặt'!$D$11*'Cài đặt'!$D$12))
A28: TỔNG CỘNG | AJ28: =SUM(AJ8:AJ27) -> 76 | AK28: =SUM(AK8:AK27) -> 40 | AL28: =SUM(AL8:AL27) -> 36 | AM28: =SUM(AM8:AM27) -> 20 | AN28: =SUM(AN8:AN27) -> 20 | AO28: =SUM(AO8:AO27) -> 2 | AP28: =SUM(AP8:AP27) -> 0 | AQ28: =SUM(AQ8:AQ27) -> 1 | ... AW28: =SUM(AW8:AW27) -> 44
A29: Số lái xe làm trong ngày | E29: =IF(E$6="","",SUMPRODUCT(--(SUMIF('Cài đặt'!$B$16:$B$25,E$8:E$27,'Cài đặt'!$G$16:$G$25)>0))) -> 6 | F29: =IF(F$6="","",SUMPRODUCT(--(SUMIF('Cài đặt'!$B$16:$B$25,F$8:F$27,'Cài đặt'!$G$16:$G$25)>0))) -> 6 | G29: =IF(G$6="","",SUMPRODUCT(--(SUMIF('Cài đặt'!$B$16:$B$25,G$8:G$27,'Cài đặt'!$G$16:$G$25)>0))) -> 7 | H29: =IF(H$6="","",SUMPRODUCT(--(SUMIF('Cài đặt'!$B$16:$B$25,H$8:H$27,'Cài đặt'!$G$16:$G$25)>0))) -> 7 | I29: =IF(I$6="","",SUMPRODUCT(--(SUMIF('Cài đặt'!$B$16:$B$25,I$8:I$27,'Cài đặt'!$G$16:$G$25)>0))) -> 7 | J29: =IF(J$6="","",SUMPRODUCT(--(SUMIF('Cài đặt'!$B$16:$B$25,J$8:J$27,'Cài đặt'!$G$16:$G$25)>0))) -> 7 | K29: =IF(K$6="","",SUMPRODUCT(--(SUMIF('Cài đặt'!$B$16:$B$25,K$8:K$27,'Cài đặt'!$G$16:$G$25)>0))) -> 6 | L29: =IF(L$6="","",SUMPRODUCT(--(SUMIF('Cài đặt'!$B$16:$B$25,L$8:L$27,'Cài đặt'!$G$16:$G$25)>0))) -> 6 | ... AI29: =IF(AI$6="","",SUMPRODUCT(--(SUMIF('Cài đặt'!$B$16:$B$25,AI$8:AI$27,'Cài đặt'!$G$16:$G$25)>0)))
A30: =" • "&'Cài đặt'!C16 -> • Ca hành chính | E30: =IF(E$6="","",COUNTIF(E$8:E$27,'Cài đặt'!$B$16)) -> 2 | F30: =IF(F$6="","",COUNTIF(F$8:F$27,'Cài đặt'!$B$16)) -> 3 | G30: =IF(G$6="","",COUNTIF(G$8:G$27,'Cài đặt'!$B$16)) -> 3 | H30: =IF(H$6="","",COUNTIF(H$8:H$27,'Cài đặt'!$B$16)) -> 3 | I30: =IF(I$6="","",COUNTIF(I$8:I$27,'Cài đặt'!$B$16)) -> 3 | J30: =IF(J$6="","",COUNTIF(J$8:J$27,'Cài đặt'!$B$16)) -> 2 | K30: =IF(K$6="","",COUNTIF(K$8:K$27,'Cài đặt'!$B$16)) -> 2 | L30: =IF(L$6="","",COUNTIF(L$8:L$27,'Cài đặt'!$B$16)) -> 2 | ... AI30: =IF(AI$6="","",COUNTIF(AI$8:AI$27,'Cài đặt'!$B$16))
A31: =" • "&'Cài đặt'!C17 -> • Ca sáng | E31: =IF(E$6="","",COUNTIF(E$8:E$27,'Cài đặt'!$B$17)) -> 3 | F31: =IF(F$6="","",COUNTIF(F$8:F$27,'Cài đặt'!$B$17)) -> 1 | G31: =IF(G$6="","",COUNTIF(G$8:G$27,'Cài đặt'!$B$17)) -> 2 | H31: =IF(H$6="","",COUNTIF(H$8:H$27,'Cài đặt'!$B$17)) -> 0 | I31: =IF(I$6="","",COUNTIF(I$8:I$27,'Cài đặt'!$B$17)) -> 1 | J31: =IF(J$6="","",COUNTIF(J$8:J$27,'Cài đặt'!$B$17)) -> 1 | K31: =IF(K$6="","",COUNTIF(K$8:K$27,'Cài đặt'!$B$17)) -> 1 | L31: =IF(L$6="","",COUNTIF(L$8:L$27,'Cài đặt'!$B$17)) -> 3 | ... AI31: =IF(AI$6="","",COUNTIF(AI$8:AI$27,'Cài đặt'!$B$17))
A32: =" • "&'Cài đặt'!C18 -> • Ca chiều | E32: =IF(E$6="","",COUNTIF(E$8:E$27,'Cài đặt'!$B$18)) -> 0 | F32: =IF(F$6="","",COUNTIF(F$8:F$27,'Cài đặt'!$B$18)) -> 2 | G32: =IF(G$6="","",COUNTIF(G$8:G$27,'Cài đặt'!$B$18)) -> 1 | H32: =IF(H$6="","",COUNTIF(H$8:H$27,'Cài đặt'!$B$18)) -> 2 | I32: =IF(I$6="","",COUNTIF(I$8:I$27,'Cài đặt'!$B$18)) -> 1 | J32: =IF(J$6="","",COUNTIF(J$8:J$27,'Cài đặt'!$B$18)) -> 2 | K32: =IF(K$6="","",COUNTIF(K$8:K$27,'Cài đặt'!$B$18)) -> 1 | L32: =IF(L$6="","",COUNTIF(L$8:L$27,'Cài đặt'!$B$18)) -> 0 | ... AI32: =IF(AI$6="","",COUNTIF(AI$8:AI$27,'Cài đặt'!$B$18))
A33: =" • "&'Cài đặt'!C19 -> • Ca đêm | E33: =IF(E$6="","",COUNTIF(E$8:E$27,'Cài đặt'!$B$19)) -> 0 | F33: =IF(F$6="","",COUNTIF(F$8:F$27,'Cài đặt'!$B$19)) -> 0 | G33: =IF(G$6="","",COUNTIF(G$8:G$27,'Cài đặt'!$B$19)) -> 1 | H33: =IF(H$6="","",COUNTIF(H$8:H$27,'Cài đặt'!$B$19)) -> 1 | I33: =IF(I$6="","",COUNTIF(I$8:I$27,'Cài đặt'!$B$19)) -> 1 | J33: =IF(J$6="","",COUNTIF(J$8:J$27,'Cài đặt'!$B$19)) -> 1 | K33: =IF(K$6="","",COUNTIF(K$8:K$27,'Cài đặt'!$B$19)) -> 1 | L33: =IF(L$6="","",COUNTIF(L$8:L$27,'Cài đặt'!$B$19)) -> 0 | ... AI33: =IF(AI$6="","",COUNTIF(AI$8:AI$27,'Cài đặt'!$B$19))
A34: =" • "&'Cài đặt'!C20 -> • Chạy tuyến dài | E34: =IF(E$6="","",COUNTIF(E$8:E$27,'Cài đặt'!$B$20)) -> 1 | F34: =IF(F$6="","",COUNTIF(F$8:F$27,'Cài đặt'!$B$20)) -> 0 | G34: =IF(G$6="","",COUNTIF(G$8:G$27,'Cài đặt'!$B$20)) -> 0 | H34: =IF(H$6="","",COUNTIF(H$8:H$27,'Cài đặt'!$B$20)) -> 1 | I34: =IF(I$6="","",COUNTIF(I$8:I$27,'Cài đặt'!$B$20)) -> 1 | J34: =IF(J$6="","",COUNTIF(J$8:J$27,'Cài đặt'!$B$20)) -> 1 | K34: =IF(K$6="","",COUNTIF(K$8:K$27,'Cài đặt'!$B$20)) -> 1 | L34: =IF(L$6="","",COUNTIF(L$8:L$27,'Cài đặt'!$B$20)) -> 1 | ... AI34: =IF(AI$6="","",COUNTIF(AI$8:AI$27,'Cài đặt'!$B$20))
A35: Lưu ý: 8 dòng đầu là DỮ LIỆU MẪU – xóa họ tên, biển số và ký hiệu rồi nhập thông tin thật. Nhập liệu ở cột A–D, lưới ngày và Ghi chú (nền trắng); các ô nền xám tự tính. Tăng ca = Tổng giờ làm − Công chuẩn × 8 giờ (nếu > 0).
B37: KÝ HIỆU CHẤM CÔNG | E37: NGƯỜI LẬP BẢNG | P37: TRƯỞNG ĐỘI XE | AA37: XÁC NHẬN CỦA ĐƠN VỊ
B38: ='Cài đặt'!B16 -> H | C38: ='Cài đặt'!C16&IF('Cài đặt'!G16>0," – "&TEXT('Cài đặt'!G16,"0.0")&" giờ","") -> Ca hành chính – 8,0 giờ | E38: (Ký, ghi rõ họ tên) | P38: (Ký, ghi rõ họ tên) | AA38: (Ký, ghi rõ họ tên)
B39: ='Cài đặt'!B17 -> S | C39: ='Cài đặt'!C17&IF('Cài đặt'!G17>0," – "&TEXT('Cài đặt'!G17,"0.0")&" giờ","") -> Ca sáng – 8,0 giờ
B40: ='Cài đặt'!B18 -> C | C40: ='Cài đặt'!C18&IF('Cài đặt'!G18>0," – "&TEXT('Cài đặt'!G18,"0.0")&" giờ","") -> Ca chiều – 8,0 giờ
B41: ='Cài đặt'!B19 -> Đ | C41: ='Cài đặt'!C19&IF('Cài đặt'!G19>0," – "&TEXT('Cài đặt'!G19,"0.0")&" giờ","") -> Ca đêm – 8,0 giờ
...

Sheet Tổng hợp lương
A1: ='Cài đặt'!D5 -> CÔNG TY TNHH VẬN TẢI & DỊCH VỤ MẪU
A2: BẢNG TỔNG HỢP CÔNG VÀ LƯƠNG LÁI XE
A3: ="Tháng "&'Cài đặt'!D7&" năm "&'Cài đặt'!D8&" | Đơn giá: "&TEXT('Cài đặt'!D32,"#,##0")&" đ/công | Công chuẩn: "&'Cài đặt'!D11&" ngày | Đơn vị: VNĐ" -> Tháng 11 năm 2026 | Đơn giá: 300.000 đ/công | Công chuẩn: 25 ngày | Đơn vị: VNĐ
A5: STT | B5: Mã NV | C5: Họ và tên lái xe | D5: Biển số xe | E5: NGÀY CÔNG | H5: CÔNG & GIỜ | L5: HÀNH TRÌNH (từ nhật ký) | P5: THU NHẬP (VNĐ) | Z5: KHẤU TRỪ & THỰC LĨNH | AC5: Ký nhận
E6: Ngày làm thực tế | F6: Nghỉ hưởng lương (P+L) | G6: Nghỉ ốm / không lương | H6: Công hưởng lương | I6: Giờ tăng ca | J6: Giờ làm Chủ nhật | K6: Giờ làm ngày lễ | L6: Km chạy | M6: Số chuyến | N6: Đêm ngủ lại | O6: Tiết kiệm (+) / vượt (−) lít NL | P6: Lương theo công | Q6: PC tăng ca | R6: PC Chủ nhật | S6: PC ngày lễ | T6: PC ăn ca | U6: PC chuyên cần | V6: PC theo km | W6: PC ngủ lại | X6: Thưởng / phạt nhiên liệu | Y6: Tổng thu nhập | Z6: Khấu trừ bảo hiểm | AA6: Tạm ứng / khấu trừ khác | AB6: THỰC LĨNH
A7: 1 | B7: =IF('Chấm công'!$C8="","",'Chấm công'!$B8&"") -> LX001 | C7: =IF('Chấm công'!$C8="","",'Chấm công'!$C8) -> Nguyễn Văn Thành | D7: =IF('Chấm công'!$C8="","",'Chấm công'!$D8&"") -> 30K-555.12 | E7: =IF($C7="","",SUM('Chấm công'!AJ8:AN8)) -> 26 | F7: =IF($C7="","",'Chấm công'!AO8+'Chấm công'!AP8) -> 0 | G7: =IF($C7="","",'Chấm công'!AQ8+'Chấm công'!AR8) -> 0 | H7: =IF($C7="","",'Chấm công'!AV8) -> 26 | I7: =IF($C7="","",'Chấm công'!AW8) -> 8 | J7: =IF($C7="","",'Chấm công'!AT8) -> 40 | K7: =IF($C7="","",'Chấm công'!AU8) -> 0 | L7: =IF($C7="","",SUMIFS('Nhật ký hành trình'!$I$8:$I$107,'Nhật ký hành trình'!$D$8:$D$107,$C7,'Nhật ký hành trình'!$B$8:$B$107,">="&DATE('Cài đặt'!$D$8,'Cài đặt'!$D$7,1),'Nhật ký hành trình'!$B$8:$B$107,"<"&DATE('Cài đặt'!$D$8,'Cài đặt'!$D$7+1,1))) -> 96 | M7: =IF($C7="","",SUMIFS('Nhật ký hành trình'!$J$8:$J$107,'Nhật ký hành trình'!$D$8:$D$107,$C7,'Nhật ký hành trình'!$B$8:$B$107,">="&DATE('Cài đặt'!$D$8,'Cài đặt'!$D$7,1),'Nhật ký hành trình'!$B$8:$B$107,"<"&DATE('Cài đặt'!$D$8,'Cài đặt'!$D$7+1,1))) -> 2 | N7: =IF($C7="","",SUMIFS('Nhật ký hành trình'!$N$8:$N$107,'Nhật ký hành trình'!$D$8:$D$107,$C7,'Nhật ký hành trình'!$B$8:$B$107,">="&DATE('Cài đặt'!$D$8,'Cài đặt'!$D$7,1),'Nhật ký hành trình'!$B$8:$B$107,"<"&DATE('Cài đặt'!$D$8,'Cài đặt'!$D$7+1,1))) -> 0 | O7: =IF($C7="","",SUMIFS('Nhật ký hành trình'!$M$8:$M$107,'Nhật ký hành trình'!$D$8:$D$107,$C7,'Nhật ký hành trình'!$B$8:$B$107,">="&DATE('Cài đặt'!$D$8,'Cài đặt'!$D$7,1),'Nhật ký hành trình'!$B$8:$B$107,"<"&DATE('Cài đặt'!$D$8,'Cài đặt'!$D$7+1,1))) -> -1.86 | P7: =IF($C7="","",ROUND(H7*'Cài đặt'!$D$32,0)) -> 7800000 | Q7: =IF($C7="","",ROUND(I7*('Cài đặt'!$D$32/'Cài đặt'!$D$12)*('Cài đặt'!$D$33-1),0)) -> 150000 | R7: =IF($C7="","",ROUND(J7*('Cài đặt'!$D$32/'Cài đặt'!$D$12)*('Cài đặt'!$D$34-1),0)) -> 1500000 | S7: =IF($C7="","",ROUND(K7*('Cài đặt'!$D$32/'Cài đặt'!$D$12)*('Cài đặt'!$D$35-1),0)) -> 0 | T7: =IF($C7="","",E7*'Cài đặt'!$D$36) -> 1040000 | U7: =IF($C7="","",IF('Chấm công'!AR8=0,'Cài đặt'!$D$37,0)) -> 300000 | V7: =IF($C7="","",ROUND(L7*'Cài đặt'!$D$39,0)) -> 67200 | W7: =IF($C7="","",N7*'Cài đặt'!$D$40) -> 0 | X7: =IF($C7="","",ROUND(O7*'Cài đặt'!$D$41*'Cài đặt'!$D$42,0)) -> -20460 | Y7: =IF($C7="","",SUM(P7:X7)) -> 10836740 | Z7: =IF($C7="","",ROUND(P7*'Cài đặt'!$D$38,0)) -> 819000 | AB7: =IF($C7="","",Y7-Z7-N(AA7)) -> 10017740
A8: 2 | B8: =IF('Chấm công'!$C9="","",'Chấm công'!$B9&"") -> LX002 | C8: =IF('Chấm công'!$C9="","",'Chấm công'!$C9) -> Trần Quốc Việt | D8: =IF('Chấm công'!$C9="","",'Chấm công'!$D9&"") -> 30K-555.12 | E8: =IF($C8="","",SUM('Chấm công'!AJ9:AN9)) -> 25 | F8: =IF($C8="","",'Chấm công'!AO9+'Chấm công'!AP9) -> 0 | G8: =IF($C8="","",'Chấm công'!AQ9+'Chấm công'!AR9) -> 1 | H8: =IF($C8="","",'Chấm công'!AV9) -> 25 | I8: =IF($C8="","",'Chấm công'!AW9) -> 0 | J8: =IF($C8="","",'Chấm công'!AT9) -> 40 | K8: =IF($C8="","",'Chấm công'!AU9) -> 0 | L8: =IF($C8="","",SUMIFS('Nhật ký hành trình'!$I$8:$I$107,'Nhật ký hành trình'!$D$8:$D$107,$C8,'Nhật ký hành trình'!$B$8:$B$107,">="&DATE('Cài đặt'!$D$8,'Cài đặt'!$D$7,1),'Nhật ký hành trình'!$B$8:$B$107,"<"&DATE('Cài đặt'!$D$8,'Cài đặt'!$D$7+1,1))) -> 204 | M8: =IF($C8="","",SUMIFS('Nhật ký hành trình'!$J$8:$J$107,'Nhật ký hành trình'!$D$8:$D$107,$C8,'Nhật ký hành trình'!$B$8:$B$107,">="&DATE('Cài đặt'!$D$8,'Cài đặt'!$D$7,1),'Nhật ký hành trình'!$B$8:$B$107,"<"&DATE('Cài đặt'!$D$8,'Cài đặt'!$D$7+1,1))) -> 1 | N8: =IF($C8="","",SUMIFS('Nhật ký hành trình'!$N$8:$N$107,'Nhật ký hành trình'!$D$8:$D$107,$C8,'Nhật ký hành trình'!$B$8:$B$107,">="&DATE('Cài đặt'!$D$8,'Cài đặt'!$D$7,1),'Nhật ký hành trình'!$B$8:$B$107,"<"&DATE('Cài đặt'!$D$8,'Cài đặt'!$D$7+1,1))) -> 1 | O8: =IF($C8="","",SUMIFS('Nhật ký hành trình'!$M$8:$M$107,'Nhật ký hành trình'!$D$8:$D$107,$C8,'Nhật ký hành trình'!$B$8:$B$107,">="&DATE('Cài đặt'!$D$8,'Cài đặt'!$D$7,1),'Nhật ký hành trình'!$B$8:$B$107,"<"&DATE('Cài đặt'!$D$8,'Cài đặt'!$D$7+1,1))) -> -1.64 | P8: =IF($C8="","",ROUND(H8*'Cài đặt'!$D$32,0)) -> 7500000 | Q8: =IF($C8="","",ROUND(I8*('Cài đặt'!$D$32/'Cài đặt'!$D$12)*('Cài đặt'!$D$33-1),0)) -> 0 | R8: =IF($C8="","",ROUND(J8*('Cài đặt'!$D$32/'Cài đặt'!$D$12)*('Cài đặt'!$D$34-1),0)) -> 1500000 | S8: =IF($C8="","",ROUND(K8*('Cài đặt'!$D$32/'Cài đặt'!$D$12)*('Cài đặt'!$D$35-1),0)) -> 0 | T8: =IF($C8="","",E8*'Cài đặt'!$D$36) -> 1000000 | U8: =IF($C8="","",IF('Chấm công'!AR9=0,'Cài đặt'!$D$37,0)) -> 0 | V8: =IF($C8="","",ROUND(L8*'Cài đặt'!$D$39,0)) -> 142800 | W8: =IF($C8="","",N8*'Cài đặt'!$D$40) -> 150000 | X8: =IF($C8="","",ROUND(O8*'Cài đặt'!$D$41*'Cài đặt'!$D$42,0)) -> -18040 | Y8: =IF($C8="","",SUM(P8:X8)) -> 10274760 | Z8: =IF($C8="","",ROUND(P8*'Cài đặt'!$D$38,0)) -> 787500 | AB8: =IF($C8="","",Y8-Z8-N(AA8)) -> 9487260
A9: 3 | B9: =IF('Chấm công'!$C10="","",'Chấm công'!$B10&"") -> LX003 | C9: =IF('Chấm công'!$C10="","",'Chấm công'!$C10) -> Phạm Văn Cường | D9: =IF('Chấm công'!$C10="","",'Chấm công'!$D10&"") -> 30A-123.45 | E9: =IF($C9="","",SUM('Chấm công'!AJ10:AN10)) -> 24 | F9: =IF($C9="","",'Chấm công'!AO10+'Chấm công'!AP10) -> 2 | G9: =IF($C9="","",'Chấm công'!AQ10+'Chấm công'!AR10) -> 0 | H9: =IF($C9="","",'Chấm công'!AV10) -> 26 | I9: =IF($C9="","",'Chấm công'!AW10) -> 0 | J9: =IF($C9="","",'Chấm công'!AT10) -> 40 | K9: =IF($C9="","",'Chấm công'!AU10) -> 0 | L9: =IF($C9="","",SUMIFS('Nhật ký hành trình'!$I$8:$I$107,'Nhật ký hành trình'!$D$8:$D$107,$C9,'Nhật ký hành trình'!$B$8:$B$107,">="&DATE('Cài đặt'!$D$8,'Cài đặt'!$D$7,1),'Nhật ký hành trình'!$B$8:$B$107,"<"&DATE('Cài đặt'!$D$8,'Cài đặt'!$D$7+1,1))) -> 230 | M9: =IF($C9="","",SUMIFS('Nhật ký hành trình'!$J$8:$J$107,'Nhật ký hành trình'!$D$8:$D$107,$C9,'Nhật ký hành trình'!$B$8:$B$107,">="&DATE('Cài đặt'!$D$8,'Cài đặt'!$D$7,1),'Nhật ký hành trình'!$B$8:$B$107,"<"&DATE('Cài đặt'!$D$8,'Cài đặt'!$D$7+1,1))) -> 1 | N9: =IF($C9="","",SUMIFS('Nhật ký hành trình'!$N$8:$N$107,'Nhật ký hành trình'!$D$8:$D$107,$C9,'Nhật ký hành trình'!$B$8:$B$107,">="&DATE('Cài đặt'!$D$8,'Cài đặt'!$D$7,1),'Nhật ký hành trình'!$B$8:$B$107,"<"&DATE('Cài đặt'!$D$8,'Cài đặt'!$D$7+1,1))) -> 0 | O9: =IF($C9="","",SUMIFS('Nhật ký hành trình'!$M$8:$M$107,'Nhật ký hành trình'!$D$8:$D$107,$C9,'Nhật ký hành trình'!$B$8:$B$107,">="&DATE('Cài đặt'!$D$8,'Cài đặt'!$D$7,1),'Nhật ký hành trình'!$B$8:$B$107,"<"&DATE('Cài đặt'!$D$8,'Cài đặt'!$D$7+1,1))) -> 1.3 | P9: =IF($C9="","",ROUND(H9*'Cài đặt'!$D$32,0)) -> 7800000 | Q9: =IF($C9="","",ROUND(I9*('Cài đặt'!$D$32/'Cài đặt'!$D$12)*('Cài đặt'!$D$33-1),0)) -> 0 | R9: =IF($C9="","",ROUND(J9*('Cài đặt'!$D$32/'Cài đặt'!$D$12)*('Cài đặt'!$D$34-1),0)) -> 1500000 | S9: =IF($C9="","",ROUND(K9*('Cài đặt'!$D$32/'Cài đặt'!$D$12)*('Cài đặt'!$D$35-1),0)) -> 0 | T9: =IF($C9="","",E9*'Cài đặt'!$D$36) -> 960000 | U9: =IF($C9="","",IF('Chấm công'!AR10=0,'Cài đặt'!$D$37,0)) -> 300000 | V9: =IF($C9="","",ROUND(L9*'Cài đặt'!$D$39,0)) -> 161000 | W9: =IF($C9="","",N9*'Cài đặt'!$D$40) -> 0 | X9: =IF($C9="","",ROUND(O9*'Cài đặt'!$D$41*'Cài đặt'!$D$42,0)) -> 14300 | Y9: =IF($C9="","",SUM(P9:X9)) -> 10735300 | Z9: =IF($C9="","",ROUND(P9*'Cài đặt'!$D$38,0)) -> 819000 | AB9: =IF($C9="","",Y9-Z9-N(AA9)) -> 9916300
A10: 4 | B10: =IF('Chấm công'!$C11="","",'Chấm công'!$B11&"") -> LX004 | C10: =IF('Chấm công'!$C11="","",'Chấm công'!$C11) -> Hoàng Văn Tùng | D10: =IF('Chấm công'!$C11="","",'Chấm công'!$D11&"") -> 30A-123.45 | E10: =IF($C10="","",SUM('Chấm công'!AJ11:AN11)) -> 26 | F10: =IF($C10="","",'Chấm công'!AO11+'Chấm công'!AP11) -> 0 | G10: =IF($C10="","",'Chấm công'!AQ11+'Chấm công'!AR11) -> 0 | H10: =IF($C10="","",'Chấm công'!AV11) -> 26 | I10: =IF($C10="","",'Chấm công'!AW11) -> 8 | J10: =IF($C10="","",'Chấm công'!AT11) -> 40 | K10: =IF($C10="","",'Chấm công'!AU11) -> 0 | L10: =IF($C10="","",SUMIFS('Nhật ký hành trình'!$I$8:$I$107,'Nhật ký hành trình'!$D$8:$D$107,$C10,'Nhật ký hành trình'!$B$8:$B$107,">="&DATE('Cài đặt'!$D$8,'Cài đặt'!$D$7,1),'Nhật ký hành trình'!$B$8:$B$107,"<"&DATE('Cài đặt'!$D$8,'Cài đặt'!$D$7+1,1))) -> 260 | M10: =IF($C10="","",SUMIFS('Nhật ký hành trình'!$J$8:$J$107,'Nhật ký hành trình'!$D$8:$D$107,$C10,'Nhật ký hành trình'!$B$8:$B$107,">="&DATE('Cài đặt'!$D$8,'Cài đặt'!$D$7,1),'Nhật ký hành trình'!$B$8:$B$107,"<"&DATE('Cài đặt'!$D$8,'Cài đặt'!$D$7+1,1))) -> 1 | N10: =IF($C10="","",SUMIFS('Nhật ký hành trình'!$N$8:$N$107,'Nhật ký hành trình'!$D$8:$D$107,$C10,'Nhật ký hành trình'!$B$8:$B$107,">="&DATE('Cài đặt'!$D$8,'Cài đặt'!$D$7,1),'Nhật ký hành trình'!$B$8:$B$107,"<"&DATE('Cài đặt'!$D$8,'Cài đặt'!$D$7+1,1))) -> 0 | O10: =IF($C10="","",SUMIFS('Nhật ký hành trình'!$M$8:$M$107,'Nhật ký hành trình'!$D$8:$D$107,$C10,'Nhật ký hành trình'!$B$8:$B$107,">="&DATE('Cài đặt'!$D$8,'Cài đặt'!$D$7,1),'Nhật ký hành trình'!$B$8:$B$107,"<"&DATE('Cài đặt'!$D$8,'Cài đặt'!$D$7+1,1))) -> -0.4 | P10: =IF($C10="","",ROUND(H10*'Cài đặt'!$D$32,0)) -> 7800000 | Q10: =IF($C10="","",ROUND(I10*('Cài đặt'!$D$32/'Cài đặt'!$D$12)*('Cài đặt'!$D$33-1),0)) -> 150000 | R10: =IF($C10="","",ROUND(J10*('Cài đặt'!$D$32/'Cài đặt'!$D$12)*('Cài đặt'!$D$34-1),0)) -> 1500000 | S10: =IF($C10="","",ROUND(K10*('Cài đặt'!$D$32/'Cài đặt'!$D$12)*('Cài đặt'!$D$35-1),0)) -> 0 | T10: =IF($C10="","",E10*'Cài đặt'!$D$36) -> 1040000 | U10: =IF($C10="","",IF('Chấm công'!AR11=0,'Cài đặt'!$D$37,0)) -> 300000 | V10: =IF($C10="","",ROUND(L10*'Cài đặt'!$D$39,0)) -> 182000 | W10: =IF($C10="","",N10*'Cài đặt'!$D$40) -> 0 | X10: =IF($C10="","",ROUND(O10*'Cài đặt'!$D$41*'Cài đặt'!$D$42,0)) -> -4400 | Y10: =IF($C10="","",SUM(P10:X10)) -> 10967600 | Z10: =IF($C10="","",ROUND(P10*'Cài đặt'!$D$38,0)) -> 819000 | AB10: =IF($C10="","",Y10-Z10-N(AA10)) -> 10148600
A11: 5 | B11: =IF('Chấm công'!$C12="","",'Chấm công'!$B12&"") -> LX005 | C11: =IF('Chấm công'!$C12="","",'Chấm công'!$C12) -> Đỗ Minh Hải | D11: =IF('Chấm công'!$C12="","",'Chấm công'!$D12&"") -> 30F-678.90 | E11: =IF($C11="","",SUM('Chấm công'!AJ12:AN12)) -> 20 | F11: =IF($C11="","",'Chấm công'!AO12+'Chấm công'!AP12) -> 0 | G11: =IF($C11="","",'Chấm công'!AQ12+'Chấm công'!AR12) -> 1 | H11: =IF($C11="","",'Chấm công'!AV12) -> 27.5 | I11: =IF($C11="","",'Chấm công'!AW12) -> 20 | J11: =IF($C11="","",'Chấm công'!AT12) -> 55 | K11: =IF($C11="","",'Chấm công'!AU12) -> 0 | L11: =IF($C11="","",SUMIFS('Nhật ký hành trình'!$I$8:$I$107,'Nhật ký hành trình'!$D$8:$D$107,$C11,'Nhật ký hành trình'!$B$8:$B$107,">="&DATE('Cài đặt'!$D$8,'Cài đặt'!$D$7,1),'Nhật ký hành trình'!$B$8:$B$107,"<"&DATE('Cài đặt'!$D$8,'Cài đặt'!$D$7+1,1))) -> 310 | M11: =IF($C11="","",SUMIFS('Nhật ký hành trình'!$J$8:$J$107,'Nhật ký hành trình'!$D$8:$D$107,$C11,'Nhật ký hành trình'!$B$8:$B$107,">="&DATE('Cài đặt'!$D$8,'Cài đặt'!$D$7,1),'Nhật ký hành trình'!$B$8:$B$107,"<"&DATE('Cài đặt'!$D$8,'Cài đặt'!$D$7+1,1))) -> 1 | N11: =IF($C11="","",SUMIFS('Nhật ký hành trình'!$N$8:$N$107,'Nhật ký hành trình'!$D$8:$D$107,$C11,'Nhật ký hành trình'!$B$8:$B$107,">="&DATE('Cài đặt'!$D$8,'Cài đặt'!$D$7,1),'Nhật ký hành trình'!$B$8:$B$107,"<"&DATE('Cài đặt'!$D$8,'Cài đặt'!$D$7+1,1))) -> 1 | O11: =IF($C11="","",SUMIFS('Nhật ký hành trình'!$M$8:$M$107,'Nhật ký hành trình'!$D$8:$D$107,$C11,'Nhật ký hành trình'!$B$8:$B$107,">="&DATE('Cài đặt'!$D$8,'Cài đặt'!$D$7,1),'Nhật ký hành trình'!$B$8:$B$107,"<"&DATE('Cài đặt'!$D$8,'Cài đặt'!$D$7+1,1))) -> -2.8 | P11: =IF($C11="","",ROUND(H11*'Cài đặt'!$D$32,0)) -> 8250000 | Q11: =IF($C11="","",ROUND(I11*('Cài đặt'!$D$32/'Cài đặt'!$D$12)*('Cài đặt'!$D$33-1),0)) -> 375000 | R11: =IF($C11="","",ROUND(J11*('Cài đặt'!$D$32/'Cài đặt'!$D$12)*('Cài đặt'!$D$34-1),0)) -> 2062500 | S11: =IF($C11="","",ROUND(K11*('Cài đặt'!$D$32/'Cài đặt'!$D$12)*('Cài đặt'!$D$35-1),0)) -> 0 | T11: =IF($C11="","",E11*'Cài đặt'!$D$36) -> 800000 | U11: =IF($C11="","",IF('Chấm công'!AR12=0,'Cài đặt'!$D$37,0)) -> 300000 | V11: =IF($C11="","",ROUND(L11*'Cài đặt'!$D$39,0)) -> 217000 | W11: =IF($C11="","",N11*'Cài đặt'!$D$40) -> 150000 | X11: =IF($C11="","",ROUND(O11*'Cài đặt'!$D$41*'Cài đặt'!$D$42,0)) -> -30800 | Y11: =IF($C11="","",SUM(P11:X11)) -> 12123700 | Z11: =IF($C11="","",ROUND(P11*'Cài đặt'!$D$38,0)) -> 866250 | AB11: =IF($C11="","",Y11-Z11-N(AA11)) -> 11257450
A12: 6 | B12: =IF('Chấm công'!$C13="","",'Chấm công'!$B13&"") -> LX006 | C12: =IF('Chấm công'!$C13="","",'Chấm công'!$C13) -> Lê Hữu Phước | D12: =IF('Chấm công'!$C13="","",'Chấm công'!$D13&"") -> 29B-234.56 | E12: =IF($C12="","",SUM('Chấm công'!AJ13:AN13)) -> 20 | F12: =IF($C12="","",'Chấm công'!AO13+'Chấm công'!AP13) -> 0 | G12: =IF($C12="","",'Chấm công'!AQ13+'Chấm công'!AR13) -> 0 | H12: =IF($C12="","",'Chấm công'!AV13) -> 20 | I12: =IF($C12="","",'Chấm công'!AW13) -> 0 | J12: =IF($C12="","",'Chấm công'!AT13) -> 0 | K12: =IF($C12="","",'Chấm công'!AU13) -> 0 | L12: =IF($C12="","",SUMIFS('Nhật ký hành trình'!$I$8:$I$107,'Nhật ký hành trình'!$D$8:$D$107,$C12,'Nhật ký hành trình'!$B$8:$B$107,">="&DATE('Cài đặt'!$D$8,'Cài đặt'!$D$7,1),'Nhật ký hành trình'!$B$8:$B$107,"<"&DATE('Cài đặt'!$D$8,'Cài đặt'!$D$7+1,1))) -> 85 | M12: =IF($C12="","",SUMIFS('Nhật ký hành trình'!$J$8:$J$107,'Nhật ký hành trình'!$D$8:$D$107,$C12,'Nhật ký hành trình'!$B$8:$B$107,">="&DATE('Cài đặt'!$D$8,'Cài đặt'!$D$7,1),'Nhật ký hành trình'!$B$8:$B$107,"<"&DATE('Cài đặt'!$D$8,'Cài đặt'!$D$7+1,1))) -> 3 | N12: =IF($C12="","",SUMIFS('Nhật ký hành trình'!$N$8:$N$107,'Nhật ký hành trình'!$D$8:$D$107,$C12,'Nhật ký hành trình'!$B$8:$B$107,">="&DATE('Cài đặt'!$D$8,'Cài đặt'!$D$7,1),'Nhật ký hành trình'!$B$8:$B$107,"<"&DATE('Cài đặt'!$D$8,'Cài đặt'!$D$7+1,1))) -> 0 | O12: =IF($C12="","",SUMIFS('Nhật ký hành trình'!$M$8:$M$107,'Nhật ký hành trình'!$D$8:$D$107,$C12,'Nhật ký hành trình'!$B$8:$B$107,">="&DATE('Cài đặt'!$D$8,'Cài đặt'!$D$7,1),'Nhật ký hành trình'!$B$8:$B$107,"<"&DATE('Cài đặt'!$D$8,'Cài đặt'!$D$7+1,1))) -> 0.05 | P12: =IF($C12="","",ROUND(H12*'Cài đặt'!$D$32,0)) -> 6000000 | Q12: =IF($C12="","",ROUND(I12*('Cài đặt'!$D$32/'Cài đặt'!$D$12)*('Cài đặt'!$D$33-1),0)) -> 0 | R12: =IF($C12="","",ROUND(J12*('Cài đặt'!$D$32/'Cài đặt'!$D$12)*('Cài đặt'!$D$34-1),0)) -> 0 | S12: =IF($C12="","",ROUND(K12*('Cài đặt'!$D$32/'Cài đặt'!$D$12)*('Cài đặt'!$D$35-1),0)) -> 0 | T12: =IF($C12="","",E12*'Cài đặt'!$D$36) -> 800000 | U12: =IF($C12="","",IF('Chấm công'!AR13=0,'Cài đặt'!$D$37,0)) -> 300000 | V12: =IF($C12="","",ROUND(L12*'Cài đặt'!$D$39,0)) -> 59500 | W12: =IF($C12="","",N12*'Cài đặt'!$D$40) -> 0 | X12: =IF($C12="","",ROUND(O12*'Cài đặt'!$D$41*'Cài đặt'!$D$42,0)) -> 550 | Y12: =IF($C12="","",SUM(P12:X12)) -> 7160050 | Z12: =IF($C12="","",ROUND(P12*'Cài đặt'!$D$38,0)) -> 630000 | AB12: =IF($C12="","",Y12-Z12-N(AA12)) -> 6530050
A13: 7 | B13: =IF('Chấm công'!$C14="","",'Chấm công'!$B14&"") -> LX007 | C13: =IF('Chấm công'!$C14="","",'Chấm công'!$C14) -> Vũ Đình Khoa | D13: =IF('Chấm công'!$C14="","",'Chấm công'!$D14&"") -> 29C-777.88 | E13: =IF($C13="","",SUM('Chấm công'!AJ14:AN14)) -> 25 | F13: =IF($C13="","",'Chấm công'!AO14+'Chấm công'!AP14) -> 0 | G13: =IF($C13="","",'Chấm công'!AQ14+'Chấm công'!AR14) -> 0 | H13: =IF($C13="","",'Chấm công'!AV14) -> 25 | I13: =IF($C13="","",'Chấm công'!AW14) -> 0 | J13: =IF($C13="","",'Chấm công'!AT14) -> 0 | K13: =IF($C13="","",'Chấm công'!AU14) -> 0 | L13: =IF($C13="","",SUMIFS('Nhật ký hành trình'!$I$8:$I$107,'Nhật ký hành trình'!$D$8:$D$107,$C13,'Nhật ký hành trình'!$B$8:$B$107,">="&DATE('Cài đặt'!$D$8,'Cài đặt'!$D$7,1),'Nhật ký hành trình'!$B$8:$B$107,"<"&DATE('Cài đặt'!$D$8,'Cài đặt'!$D$7+1,1))) -> 150 | M13: =IF($C13="","",SUMIFS('Nhật ký hành trình'!$J$8:$J$107,'Nhật ký hành trình'!$D$8:$D$107,$C13,'Nhật ký hành trình'!$B$8:$B$107,">="&DATE('Cài đặt'!$D$8,'Cài đặt'!$D$7,1),'Nhật ký hành trình'!$B$8:$B$107,"<"&DATE('Cài đặt'!$D$8,'Cài đặt'!$D$7+1,1))) -> 2 | N13: =IF($C13="","",SUMIFS('Nhật ký hành trình'!$N$8:$N$107,'Nhật ký hành trình'!$D$8:$D$107,$C13,'Nhật ký hành trình'!$B$8:$B$107,">="&DATE('Cài đặt'!$D$8,'Cài đặt'!$D$7,1),'Nhật ký hành trình'!$B$8:$B$107,"<"&DATE('Cài đặt'!$D$8,'Cài đặt'!$D$7+1,1))) -> 0 | O13: =IF($C13="","",SUMIFS('Nhật ký hành trình'!$M$8:$M$107,'Nhật ký hành trình'!$D$8:$D$107,$C13,'Nhật ký hành trình'!$B$8:$B$107,">="&DATE('Cài đặt'!$D$8,'Cài đặt'!$D$7,1),'Nhật ký hành trình'!$B$8:$B$107,"<"&DATE('Cài đặt'!$D$8,'Cài đặt'!$D$7+1,1))) -> 0 | P13: =IF($C13="","",ROUND(H13*'Cài đặt'!$D$32,0)) -> 7500000 | Q13: =IF($C13="","",ROUND(I13*('Cài đặt'!$D$32/'Cài đặt'!$D$12)*('Cài đặt'!$D$33-1),0)) -> 0 | R13: =IF($C13="","",ROUND(J13*('Cài đặt'!$D$32/'Cài đặt'!$D$12)*('Cài đặt'!$D$34-1),0)) -> 0 | S13: =IF($C13="","",ROUND(K13*('Cài đặt'!$D$32/'Cài đặt'!$D$12)*('Cài đặt'!$D$35-1),0)) -> 0 | T13: =IF($C13="","",E13*'Cài đặt'!$D$36) -> 1000000 | U13: =IF($C13="","",IF('Chấm công'!AR14=0,'Cài đặt'!$D$37,0)) -> 300000 | V13: =IF($C13="","",ROUND(L13*'Cài đặt'!$D$39,0)) -> 105000 | W13: =IF($C13="","",N13*'Cài đặt'!$D$40) -> 0 | X13: =IF($C13="","",ROUND(O13*'Cài đặt'!$D$41*'Cài đặt'!$D$42,0)) -> 0 | Y13: =IF($C13="","",SUM(P13:X13)) -> 8905000 | Z13: =IF($C13="","",ROUND(P13*'Cài đặt'!$D$38,0)) -> 787500 | AB13: =IF($C13="","",Y13-Z13-N(AA13)) -> 8117500
A14: 8 | B14: =IF('Chấm công'!$C15="","",'Chấm công'!$B15&"") -> LX008 | C14: =IF('Chấm công'!$C15="","",'Chấm công'!$C15) -> Bùi Xuân Trường | D14: =IF('Chấm công'!$C15="","",'Chấm công'!$D15&"") -> 29C-777.88 | E14: =IF($C14="","",SUM('Chấm công'!AJ15:AN15)) -> 26 | F14: =IF($C14="","",'Chấm công'!AO15+'Chấm công'!AP15) -> 0 | G14: =IF($C14="","",'Chấm công'!AQ15+'Chấm công'!AR15) -> 0 | H14: =IF($C14="","",'Chấm công'!AV15) -> 26 | I14: =IF($C14="","",'Chấm công'!AW15) -> 8 | J14: =IF($C14="","",'Chấm công'!AT15) -> 40 | K14: =IF($C14="","",'Chấm công'!AU15) -> 0 | L14: =IF($C14="","",SUMIFS('Nhật ký hành trình'!$I$8:$I$107,'Nhật ký hành trình'!$D$8:$D$107,$C14,'Nhật ký hành trình'!$B$8:$B$107,">="&DATE('Cài đặt'!$D$8,'Cài đặt'!$D$7,1),'Nhật ký hành trình'!$B$8:$B$107,"<"&DATE('Cài đặt'!$D$8,'Cài đặt'!$D$7+1,1))) -> 180 | M14: =IF($C14="","",SUMIFS('Nhật ký hành trình'!$J$8:$J$107,'Nhật ký hành trình'!$D$8:$D$107,$C14,'Nhật ký hành trình'!$B$8:$B$107,">="&DATE('Cài đặt'!$D$8,'Cài đặt'!$D$7,1),'Nhật ký hành trình'!$B$8:$B$107,"<"&DATE('Cài đặt'!$D$8,'Cài đặt'!$D$7+1,1))) -> 2 | N14: =IF($C14="","",SUMIFS('Nhật ký hành trình'!$N$8:$N$107,'Nhật ký hành trình'!$D$8:$D$107,$C14,'Nhật ký hành trình'!$B$8:$B$107,">="&DATE('Cài đặt'!$D$8,'Cài đặt'!$D$7,1),'Nhật ký hành trình'!$B$8:$B$107,"<"&DATE('Cài đặt'!$D$8,'Cài đặt'!$D$7+1,1))) -> 0 | O14: =IF($C14="","",SUMIFS('Nhật ký hành trình'!$M$8:$M$107,'Nhật ký hành trình'!$D$8:$D$107,$C14,'Nhật ký hành trình'!$B$8:$B$107,">="&DATE('Cài đặt'!$D$8,'Cài đặt'!$D$7,1),'Nhật ký hành trình'!$B$8:$B$107,"<"&DATE('Cài đặt'!$D$8,'Cài đặt'!$D$7+1,1))) -> -1.3 | P14: =IF($C14="","",ROUND(H14*'Cài đặt'!$D$32,0)) -> 7800000 | Q14: =IF($C14="","",ROUND(I14*('Cài đặt'!$D$32/'Cài đặt'!$D$12)*('Cài đặt'!$D$33-1),0)) -> 150000 | R14: =IF($C14="","",ROUND(J14*('Cài đặt'!$D$32/'Cài đặt'!$D$12)*('Cài đặt'!$D$34-1),0)) -> 1500000 | S14: =IF($C14="","",ROUND(K14*('Cài đặt'!$D$32/'Cài đặt'!$D$12)*('Cài đặt'!$D$35-1),0)) -> 0 | T14: =IF($C14="","",E14*'Cài đặt'!$D$36) -> 1040000 | U14: =IF($C14="","",IF('Chấm công'!AR15=0,'Cài đặt'!$D$37,0)) -> 300000 | V14: =IF($C14="","",ROUND(L14*'Cài đặt'!$D$39,0)) -> 126000 | W14: =IF($C14="","",N14*'Cài đặt'!$D$40) -> 0 | X14: =IF($C14="","",ROUND(O14*'Cài đặt'!$D$41*'Cài đặt'!$D$42,0)) -> -14300 | Y14: =IF($C14="","",SUM(P14:X14)) -> 10901700 | Z14: =IF($C14="","",ROUND(P14*'Cài đặt'!$D$38,0)) -> 819000 | AB14: =IF($C14="","",Y14-Z14-N(AA14)) -> 10082700
A15: 9 | B15: =IF('Chấm công'!$C16="","",'Chấm công'!$B16&"") | C15: =IF('Chấm công'!$C16="","",'Chấm công'!$C16) | D15: =IF('Chấm công'!$C16="","",'Chấm công'!$D16&"") | E15: =IF($C15="","",SUM('Chấm công'!AJ16:AN16)) | F15: =IF($C15="","",'Chấm công'!AO16+'Chấm công'!AP16) | G15: =IF($C15="","",'Chấm công'!AQ16+'Chấm công'!AR16) | H15: =IF($C15="","",'Chấm công'!AV16) | I15: =IF($C15="","",'Chấm công'!AW16) | J15: =IF($C15="","",'Chấm công'!AT16) | K15: =IF($C15="","",'Chấm công'!AU16) | L15: =IF($C15="","",SUMIFS('Nhật ký hành trình'!$I$8:$I$107,'Nhật ký hành trình'!$D$8:$D$107,$C15,'Nhật ký hành trình'!$B$8:$B$107,">="&DATE('Cài đặt'!$D$8,'Cài đặt'!$D$7,1),'Nhật ký hành trình'!$B$8:$B$107,"<"&DATE('Cài đặt'!$D$8,'Cài đặt'!$D$7+1,1))) | M15: =IF($C15="","",SUMIFS('Nhật ký hành trình'!$J$8:$J$107,'Nhật ký hành trình'!$D$8:$D$107,$C15,'Nhật ký hành trình'!$B$8:$B$107,">="&DATE('Cài đặt'!$D$8,'Cài đặt'!$D$7,1),'Nhật ký hành trình'!$B$8:$B$107,"<"&DATE('Cài đặt'!$D$8,'Cài đặt'!$D$7+1,1))) | N15: =IF($C15="","",SUMIFS('Nhật ký hành trình'!$N$8:$N$107,'Nhật ký hành trình'!$D$8:$D$107,$C15,'Nhật ký hành trình'!$B$8:$B$107,">="&DATE('Cài đặt'!$D$8,'Cài đặt'!$D$7,1),'Nhật ký hành trình'!$B$8:$B$107,"<"&DATE('Cài đặt'!$D$8,'Cài đặt'!$D$7+1,1))) | O15: =IF($C15="","",SUMIFS('Nhật ký hành trình'!$M$8:$M$107,'Nhật ký hành trình'!$D$8:$D$107,$C15,'Nhật ký hành trình'!$B$8:$B$107,">="&DATE('Cài đặt'!$D$8,'Cài đặt'!$D$7,1),'Nhật ký hành trình'!$B$8:$B$107,"<"&DATE('Cài đặt'!$D$8,'Cài đặt'!$D$7+1,1))) | P15: =IF($C15="","",ROUND(H15*'Cài đặt'!$D$32,0)) | Q15: =IF($C15="","",ROUND(I15*('Cài đặt'!$D$32/'Cài đặt'!$D$12)*('Cài đặt'!$D$33-1),0)) | R15: =IF($C15="","",ROUND(J15*('Cài đặt'!$D$32/'Cài đặt'!$D$12)*('Cài đặt'!$D$34-1),0)) | S15: =IF($C15="","",ROUND(K15*('Cài đặt'!$D$32/'Cài đặt'!$D$12)*('Cài đặt'!$D$35-1),0)) | T15: =IF($C15="","",E15*'Cài đặt'!$D$36) | U15: =IF($C15="","",IF('Chấm công'!AR16=0,'Cài đặt'!$D$37,0)) | V15: =IF($C15="","",ROUND(L15*'Cài đặt'!$D$39,0)) | W15: =IF($C15="","",N15*'Cài đặt'!$D$40) | X15: =IF($C15="","",ROUND(O15*'Cài đặt'!$D$41*'Cài đặt'!$D$42,0)) | Y15: =IF($C15="","",SUM(P15:X15)) | Z15: =IF($C15="","",ROUND(P15*'Cài đặt'!$D$38,0)) | AB15: =IF($C15="","",Y15-Z15-N(AA15))
A16: 10 | B16: =IF('Chấm công'!$C17="","",'Chấm công'!$B17&"") | C16: =IF('Chấm công'!$C17="","",'Chấm công'!$C17) | D16: =IF('Chấm công'!$C17="","",'Chấm công'!$D17&"") | E16: =IF($C16="","",SUM('Chấm công'!AJ17:AN17)) | F16: =IF($C16="","",'Chấm công'!AO17+'Chấm công'!AP17) | G16: =IF($C16="","",'Chấm công'!AQ17+'Chấm công'!AR17) | H16: =IF($C16="","",'Chấm công'!AV17) | I16: =IF($C16="","",'Chấm công'!AW17) | J16: =IF($C16="","",'Chấm công'!AT17) | K16: =IF($C16="","",'Chấm công'!AU17) | L16: =IF($C16="","",SUMIFS('Nhật ký hành trình'!$I$8:$I$107,'Nhật ký hành trình'!$D$8:$D$107,$C16,'Nhật ký hành trình'!$B$8:$B$107,">="&DATE('Cài đặt'!$D$8,'Cài đặt'!$D$7,1),'Nhật ký hành trình'!$B$8:$B$107,"<"&DATE('Cài đặt'!$D$8,'Cài đặt'!$D$7+1,1))) | M16: =IF($C16="","",SUMIFS('Nhật ký hành trình'!$J$8:$J$107,'Nhật ký hành trình'!$D$8:$D$107,$C16,'Nhật ký hành trình'!$B$8:$B$107,">="&DATE('Cài đặt'!$D$8,'Cài đặt'!$D$7,1),'Nhật ký hành trình'!$B$8:$B$107,"<"&DATE('Cài đặt'!$D$8,'Cài đặt'!$D$7+1,1))) | N16: =IF($C16="","",SUMIFS('Nhật ký hành trình'!$N$8:$N$107,'Nhật ký hành trình'!$D$8:$D$107,$C16,'Nhật ký hành trình'!$B$8:$B$107,">="&DATE('Cài đặt'!$D$8,'Cài đặt'!$D$7,1),'Nhật ký hành trình'!$B$8:$B$107,"<"&DATE('Cài đặt'!$D$8,'Cài đặt'!$D$7+1,1))) | O16: =IF($C16="","",SUMIFS('Nhật ký hành trình'!$M$8:$M$107,'Nhật ký hành trình'!$D$8:$D$107,$C16,'Nhật ký hành trình'!$B$8:$B$107,">="&DATE('Cài đặt'!$D$8,'Cài đặt'!$D$7,1),'Nhật ký hành trình'!$B$8:$B$107,"<"&DATE('Cài đặt'!$D$8,'Cài đặt'!$D$7+1,1))) | P16: =IF($C16="","",ROUND(H16*'Cài đặt'!$D$32,0)) | Q16: =IF($C16="","",ROUND(I16*('Cài đặt'!$D$32/'Cài đặt'!$D$12)*('Cài đặt'!$D$33-1),0)) | R16: =IF($C16="","",ROUND(J16*('Cài đặt'!$D$32/'Cài đặt'!$D$12)*('Cài đặt'!$D$34-1),0)) | S16: =IF($C16="","",ROUND(K16*('Cài đặt'!$D$32/'Cài đặt'!$D$12)*('Cài đặt'!$D$35-1),0)) | T16: =IF($C16="","",E16*'Cài đặt'!$D$36) | U16: =IF($C16="","",IF('Chấm công'!AR17=0,'Cài đặt'!$D$37,0)) | V16: =IF($C16="","",ROUND(L16*'Cài đặt'!$D$39,0)) | W16: =IF($C16="","",N16*'Cài đặt'!$D$40) | X16: =IF($C16="","",ROUND(O16*'Cài đặt'!$D$41*'Cài đặt'!$D$42,0)) | Y16: =IF($C16="","",SUM(P16:X16)) | Z16: =IF($C16="","",ROUND(P16*'Cài đặt'!$D$38,0)) | AB16: =IF($C16="","",Y16-Z16-N(AA16))
