Workbook

Sheet Báo cáo sản phẩm
D1: BÁO CÁO SẢN PHẨM
A2: ="Kỳ báo cáo: từ "&TEXT($C$5,"dd/mm/yyyy")&" đến "&TEXT($C$6,"dd/mm/yyyy")&" | Ngày lập: "&TEXT(TODAY(),"dd/mm/yyyy") -> Kỳ báo cáo: từ 01/10/2026 đến 31/10/2026 | Ngày lập: 29/10/2026
A4: Tên công ty: | C4: Công ty TNHH ABC | F4: Tổng doanh thu (VNĐ) | I4: Tổng lợi nhuận gộp (VNĐ) | L4: Giá trị tồn kho (VNĐ) | N4: Tỷ suất LN bình quân
A5: Từ ngày: | C5: 46296 | F5: =L40 -> 60995000 | I5: =N40 -> 23075000 | L5: =M40 -> 54930000 | N5: =IF(L40=0,0,N40/L40) -> 0.3783097
A6: Đến ngày: | C6: 46326
A7: Người lập: | C7: Nguyễn Văn A
A9: STT | B9: Mã SP | C9: Tên sản phẩm | D9: Danh mục | E9: ĐVT | F9: Tồn đầu kỳ | G9: Nhập trong kỳ | H9: Xuất trong kỳ | I9: Tồn cuối kỳ | J9: Giá vốn (VNĐ) | K9: Giá bán (VNĐ) | L9: Doanh thu (VNĐ) | M9: Giá trị tồn kho (VNĐ) | N9: Lợi nhuận gộp (VNĐ) | O9: Tỷ suất LN (%) | P9: Ghi chú
A10: =IF($B10="","",ROW()-9) -> 1 | B10: =IF('Danh mục SP'!A5="","",'Danh mục SP'!A5) -> SP001 | C10: =IF($B10="","",'Danh mục SP'!B5) -> Áo thun cotton cổ tròn | D10: =IF($B10="","",'Danh mục SP'!C5) -> Thời trang | E10: =IF($B10="","",'Danh mục SP'!D5) -> Cái | F10: =IF($B10="","",'Danh mục SP'!G5+SUMIFS('Nhật ký nhập xuất'!$E$5:$E$504,'Nhật ký nhập xuất'!$B$5:$B$504,$B10,'Nhật ký nhập xuất'!$D$5:$D$504,"Nhập",'Nhật ký nhập xuất'!$A$5:$A$504,"<"&$C$5)-SUMIFS('Nhật ký nhập xuất'!$E$5:$E$504,'Nhật ký nhập xuất'!$B$5:$B$504,$B10,'Nhật ký nhập xuất'!$D$5:$D$504,"Xuất",'Nhật ký nhập xuất'!$A$5:$A$504,"<"&$C$5)) -> 100 | G10: =IF($B10="","",SUMIFS('Nhật ký nhập xuất'!$E$5:$E$504,'Nhật ký nhập xuất'!$B$5:$B$504,$B10,'Nhật ký nhập xuất'!$D$5:$D$504,"Nhập",'Nhật ký nhập xuất'!$A$5:$A$504,">="&$C$5,'Nhật ký nhập xuất'!$A$5:$A$504,"<="&$C$6)) -> 80 | H10: =IF($B10="","",SUMIFS('Nhật ký nhập xuất'!$E$5:$E$504,'Nhật ký nhập xuất'!$B$5:$B$504,$B10,'Nhật ký nhập xuất'!$D$5:$D$504,"Xuất",'Nhật ký nhập xuất'!$A$5:$A$504,">="&$C$5,'Nhật ký nhập xuất'!$A$5:$A$504,"<="&$C$6)) -> 130 | I10: =IF($B10="","",F10+G10-H10) -> 50 | J10: =IF($B10="","",'Danh mục SP'!E5) -> 85000 | K10: =IF($B10="","",'Danh mục SP'!F5) -> 159000 | L10: =IF($B10="","",H10*K10) -> 20670000 | M10: =IF($B10="","",I10*J10) -> 4250000 | N10: =IF($B10="","",H10*(K10-J10)) -> 9620000 | O10: =IF(OR($B10="",N(L10)=0),"",N10/L10) -> 0.4654088
A11: =IF($B11="","",ROW()-9) -> 2 | B11: =IF('Danh mục SP'!A6="","",'Danh mục SP'!A6) -> SP002 | C11: =IF($B11="","",'Danh mục SP'!B6) -> Tai nghe Bluetooth | D11: =IF($B11="","",'Danh mục SP'!C6) -> Điện tử | E11: =IF($B11="","",'Danh mục SP'!D6) -> Cái | F11: =IF($B11="","",'Danh mục SP'!G6+SUMIFS('Nhật ký nhập xuất'!$E$5:$E$504,'Nhật ký nhập xuất'!$B$5:$B$504,$B11,'Nhật ký nhập xuất'!$D$5:$D$504,"Nhập",'Nhật ký nhập xuất'!$A$5:$A$504,"<"&$C$5)-SUMIFS('Nhật ký nhập xuất'!$E$5:$E$504,'Nhật ký nhập xuất'!$B$5:$B$504,$B11,'Nhật ký nhập xuất'!$D$5:$D$504,"Xuất",'Nhật ký nhập xuất'!$A$5:$A$504,"<"&$C$5)) -> 30 | G11: =IF($B11="","",SUMIFS('Nhật ký nhập xuất'!$E$5:$E$504,'Nhật ký nhập xuất'!$B$5:$B$504,$B11,'Nhật ký nhập xuất'!$D$5:$D$504,"Nhập",'Nhật ký nhập xuất'!$A$5:$A$504,">="&$C$5,'Nhật ký nhập xuất'!$A$5:$A$504,"<="&$C$6)) -> 60 | H11: =IF($B11="","",SUMIFS('Nhật ký nhập xuất'!$E$5:$E$504,'Nhật ký nhập xuất'!$B$5:$B$504,$B11,'Nhật ký nhập xuất'!$D$5:$D$504,"Xuất",'Nhật ký nhập xuất'!$A$5:$A$504,">="&$C$5,'Nhật ký nhập xuất'!$A$5:$A$504,"<="&$C$6)) -> 45 | I11: =IF($B11="","",F11+G11-H11) -> 45 | J11: =IF($B11="","",'Danh mục SP'!E6) -> 320000 | K11: =IF($B11="","",'Danh mục SP'!F6) -> 490000 | L11: =IF($B11="","",H11*K11) -> 22050000 | M11: =IF($B11="","",I11*J11) -> 14400000 | N11: =IF($B11="","",H11*(K11-J11)) -> 7650000 | O11: =IF(OR($B11="",N(L11)=0),"",N11/L11) -> 0.34693878
A12: =IF($B12="","",ROW()-9) -> 3 | B12: =IF('Danh mục SP'!A7="","",'Danh mục SP'!A7) -> SP003 | C12: =IF($B12="","",'Danh mục SP'!B7) -> Nồi chiên không dầu 5L | D12: =IF($B12="","",'Danh mục SP'!C7) -> Gia dụng | E12: =IF($B12="","",'Danh mục SP'!D7) -> Cái | F12: =IF($B12="","",'Danh mục SP'!G7+SUMIFS('Nhật ký nhập xuất'!$E$5:$E$504,'Nhật ký nhập xuất'!$B$5:$B$504,$B12,'Nhật ký nhập xuất'!$D$5:$D$504,"Nhập",'Nhật ký nhập xuất'!$A$5:$A$504,"<"&$C$5)-SUMIFS('Nhật ký nhập xuất'!$E$5:$E$504,'Nhật ký nhập xuất'!$B$5:$B$504,$B12,'Nhật ký nhập xuất'!$D$5:$D$504,"Xuất",'Nhật ký nhập xuất'!$A$5:$A$504,"<"&$C$5)) -> 15 | G12: =IF($B12="","",SUMIFS('Nhật ký nhập xuất'!$E$5:$E$504,'Nhật ký nhập xuất'!$B$5:$B$504,$B12,'Nhật ký nhập xuất'!$D$5:$D$504,"Nhập",'Nhật ký nhập xuất'!$A$5:$A$504,">="&$C$5,'Nhật ký nhập xuất'!$A$5:$A$504,"<="&$C$6)) -> 10 | H12: =IF($B12="","",SUMIFS('Nhật ký nhập xuất'!$E$5:$E$504,'Nhật ký nhập xuất'!$B$5:$B$504,$B12,'Nhật ký nhập xuất'!$D$5:$D$504,"Xuất",'Nhật ký nhập xuất'!$A$5:$A$504,">="&$C$5,'Nhật ký nhập xuất'!$A$5:$A$504,"<="&$C$6)) -> 6 | I12: =IF($B12="","",F12+G12-H12) -> 19 | J12: =IF($B12="","",'Danh mục SP'!E7) -> 1250000 | K12: =IF($B12="","",'Danh mục SP'!F7) -> 1790000 | L12: =IF($B12="","",H12*K12) -> 10740000 | M12: =IF($B12="","",I12*J12) -> 23750000 | N12: =IF($B12="","",H12*(K12-J12)) -> 3240000 | O12: =IF(OR($B12="",N(L12)=0),"",N12/L12) -> 0.30167598
A13: =IF($B13="","",ROW()-9) -> 4 | B13: =IF('Danh mục SP'!A8="","",'Danh mục SP'!A8) -> SP004 | C13: =IF($B13="","",'Danh mục SP'!B8) -> Mì gói (thùng 30 gói) | D13: =IF($B13="","",'Danh mục SP'!C8) -> Thực phẩm | E13: =IF($B13="","",'Danh mục SP'!D8) -> Thùng | F13: =IF($B13="","",'Danh mục SP'!G8+SUMIFS('Nhật ký nhập xuất'!$E$5:$E$504,'Nhật ký nhập xuất'!$B$5:$B$504,$B13,'Nhật ký nhập xuất'!$D$5:$D$504,"Nhập",'Nhật ký nhập xuất'!$A$5:$A$504,"<"&$C$5)-SUMIFS('Nhật ký nhập xuất'!$E$5:$E$504,'Nhật ký nhập xuất'!$B$5:$B$504,$B13,'Nhật ký nhập xuất'!$D$5:$D$504,"Xuất",'Nhật ký nhập xuất'!$A$5:$A$504,"<"&$C$5)) -> 60 | G13: =IF($B13="","",SUMIFS('Nhật ký nhập xuất'!$E$5:$E$504,'Nhật ký nhập xuất'!$B$5:$B$504,$B13,'Nhật ký nhập xuất'!$D$5:$D$504,"Nhập",'Nhật ký nhập xuất'!$A$5:$A$504,">="&$C$5,'Nhật ký nhập xuất'!$A$5:$A$504,"<="&$C$6)) -> 40 | H13: =IF($B13="","",SUMIFS('Nhật ký nhập xuất'!$E$5:$E$504,'Nhật ký nhập xuất'!$B$5:$B$504,$B13,'Nhật ký nhập xuất'!$D$5:$D$504,"Xuất",'Nhật ký nhập xuất'!$A$5:$A$504,">="&$C$5,'Nhật ký nhập xuất'!$A$5:$A$504,"<="&$C$6)) -> 25 | I13: =IF($B13="","",F13+G13-H13) -> 75 | J13: =IF($B13="","",'Danh mục SP'!E8) -> 98000 | K13: =IF($B13="","",'Danh mục SP'!F8) -> 125000 | L13: =IF($B13="","",H13*K13) -> 3125000 | M13: =IF($B13="","",I13*J13) -> 7350000 | N13: =IF($B13="","",H13*(K13-J13)) -> 675000 | O13: =IF(OR($B13="",N(L13)=0),"",N13/L13) -> 0.216
A14: =IF($B14="","",ROW()-9) -> 5 | B14: =IF('Danh mục SP'!A9="","",'Danh mục SP'!A9) -> SP005 | C14: =IF($B14="","",'Danh mục SP'!B9) -> Kem dưỡng da 50ml | D14: =IF($B14="","",'Danh mục SP'!C9) -> Mỹ phẩm | E14: =IF($B14="","",'Danh mục SP'!D9) -> Hộp | F14: =IF($B14="","",'Danh mục SP'!G9+SUMIFS('Nhật ký nhập xuất'!$E$5:$E$504,'Nhật ký nhập xuất'!$B$5:$B$504,$B14,'Nhật ký nhập xuất'!$D$5:$D$504,"Nhập",'Nhật ký nhập xuất'!$A$5:$A$504,"<"&$C$5)-SUMIFS('Nhật ký nhập xuất'!$E$5:$E$504,'Nhật ký nhập xuất'!$B$5:$B$504,$B14,'Nhật ký nhập xuất'!$D$5:$D$504,"Xuất",'Nhật ký nhập xuất'!$A$5:$A$504,"<"&$C$5)) -> 35 | G14: =IF($B14="","",SUMIFS('Nhật ký nhập xuất'!$E$5:$E$504,'Nhật ký nhập xuất'!$B$5:$B$504,$B14,'Nhật ký nhập xuất'!$D$5:$D$504,"Nhập",'Nhật ký nhập xuất'!$A$5:$A$504,">="&$C$5,'Nhật ký nhập xuất'!$A$5:$A$504,"<="&$C$6)) -> 20 | H14: =IF($B14="","",SUMIFS('Nhật ký nhập xuất'!$E$5:$E$504,'Nhật ký nhập xuất'!$B$5:$B$504,$B14,'Nhật ký nhập xuất'!$D$5:$D$504,"Xuất",'Nhật ký nhập xuất'!$A$5:$A$504,">="&$C$5,'Nhật ký nhập xuất'!$A$5:$A$504,"<="&$C$6)) -> 18 | I14: =IF($B14="","",F14+G14-H14) -> 37 | J14: =IF($B14="","",'Danh mục SP'!E9) -> 140000 | K14: =IF($B14="","",'Danh mục SP'!F9) -> 245000 | L14: =IF($B14="","",H14*K14) -> 4410000 | M14: =IF($B14="","",I14*J14) -> 5180000 | N14: =IF($B14="","",H14*(K14-J14)) -> 1890000 | O14: =IF(OR($B14="",N(L14)=0),"",N14/L14) -> 0.42857143
A15: =IF($B15="","",ROW()-9) | B15: =IF('Danh mục SP'!A10="","",'Danh mục SP'!A10) | C15: =IF($B15="","",'Danh mục SP'!B10) | D15: =IF($B15="","",'Danh mục SP'!C10) | E15: =IF($B15="","",'Danh mục SP'!D10) | F15: =IF($B15="","",'Danh mục SP'!G10+SUMIFS('Nhật ký nhập xuất'!$E$5:$E$504,'Nhật ký nhập xuất'!$B$5:$B$504,$B15,'Nhật ký nhập xuất'!$D$5:$D$504,"Nhập",'Nhật ký nhập xuất'!$A$5:$A$504,"<"&$C$5)-SUMIFS('Nhật ký nhập xuất'!$E$5:$E$504,'Nhật ký nhập xuất'!$B$5:$B$504,$B15,'Nhật ký nhập xuất'!$D$5:$D$504,"Xuất",'Nhật ký nhập xuất'!$A$5:$A$504,"<"&$C$5)) | G15: =IF($B15="","",SUMIFS('Nhật ký nhập xuất'!$E$5:$E$504,'Nhật ký nhập xuất'!$B$5:$B$504,$B15,'Nhật ký nhập xuất'!$D$5:$D$504,"Nhập",'Nhật ký nhập xuất'!$A$5:$A$504,">="&$C$5,'Nhật ký nhập xuất'!$A$5:$A$504,"<="&$C$6)) | H15: =IF($B15="","",SUMIFS('Nhật ký nhập xuất'!$E$5:$E$504,'Nhật ký nhập xuất'!$B$5:$B$504,$B15,'Nhật ký nhập xuất'!$D$5:$D$504,"Xuất",'Nhật ký nhập xuất'!$A$5:$A$504,">="&$C$5,'Nhật ký nhập xuất'!$A$5:$A$504,"<="&$C$6)) | I15: =IF($B15="","",F15+G15-H15) | J15: =IF($B15="","",'Danh mục SP'!E10) | K15: =IF($B15="","",'Danh mục SP'!F10) | L15: =IF($B15="","",H15*K15) | M15: =IF($B15="","",I15*J15) | N15: =IF($B15="","",H15*(K15-J15)) | O15: =IF(OR($B15="",N(L15)=0),"",N15/L15)
A16: =IF($B16="","",ROW()-9) | B16: =IF('Danh mục SP'!A11="","",'Danh mục SP'!A11) | C16: =IF($B16="","",'Danh mục SP'!B11) | D16: =IF($B16="","",'Danh mục SP'!C11) | E16: =IF($B16="","",'Danh mục SP'!D11) | F16: =IF($B16="","",'Danh mục SP'!G11+SUMIFS('Nhật ký nhập xuất'!$E$5:$E$504,'Nhật ký nhập xuất'!$B$5:$B$504,$B16,'Nhật ký nhập xuất'!$D$5:$D$504,"Nhập",'Nhật ký nhập xuất'!$A$5:$A$504,"<"&$C$5)-SUMIFS('Nhật ký nhập xuất'!$E$5:$E$504,'Nhật ký nhập xuất'!$B$5:$B$504,$B16,'Nhật ký nhập xuất'!$D$5:$D$504,"Xuất",'Nhật ký nhập xuất'!$A$5:$A$504,"<"&$C$5)) | G16: =IF($B16="","",SUMIFS('Nhật ký nhập xuất'!$E$5:$E$504,'Nhật ký nhập xuất'!$B$5:$B$504,$B16,'Nhật ký nhập xuất'!$D$5:$D$504,"Nhập",'Nhật ký nhập xuất'!$A$5:$A$504,">="&$C$5,'Nhật ký nhập xuất'!$A$5:$A$504,"<="&$C$6)) | H16: =IF($B16="","",SUMIFS('Nhật ký nhập xuất'!$E$5:$E$504,'Nhật ký nhập xuất'!$B$5:$B$504,$B16,'Nhật ký nhập xuất'!$D$5:$D$504,"Xuất",'Nhật ký nhập xuất'!$A$5:$A$504,">="&$C$5,'Nhật ký nhập xuất'!$A$5:$A$504,"<="&$C$6)) | I16: =IF($B16="","",F16+G16-H16) | J16: =IF($B16="","",'Danh mục SP'!E11) | K16: =IF($B16="","",'Danh mục SP'!F11) | L16: =IF($B16="","",H16*K16) | M16: =IF($B16="","",I16*J16) | N16: =IF($B16="","",H16*(K16-J16)) | O16: =IF(OR($B16="",N(L16)=0),"",N16/L16)
A17: =IF($B17="","",ROW()-9) | B17: =IF('Danh mục SP'!A12="","",'Danh mục SP'!A12) | C17: =IF($B17="","",'Danh mục SP'!B12) | D17: =IF($B17="","",'Danh mục SP'!C12) | E17: =IF($B17="","",'Danh mục SP'!D12) | F17: =IF($B17="","",'Danh mục SP'!G12+SUMIFS('Nhật ký nhập xuất'!$E$5:$E$504,'Nhật ký nhập xuất'!$B$5:$B$504,$B17,'Nhật ký nhập xuất'!$D$5:$D$504,"Nhập",'Nhật ký nhập xuất'!$A$5:$A$504,"<"&$C$5)-SUMIFS('Nhật ký nhập xuất'!$E$5:$E$504,'Nhật ký nhập xuất'!$B$5:$B$504,$B17,'Nhật ký nhập xuất'!$D$5:$D$504,"Xuất",'Nhật ký nhập xuất'!$A$5:$A$504,"<"&$C$5)) | G17: =IF($B17="","",SUMIFS('Nhật ký nhập xuất'!$E$5:$E$504,'Nhật ký nhập xuất'!$B$5:$B$504,$B17,'Nhật ký nhập xuất'!$D$5:$D$504,"Nhập",'Nhật ký nhập xuất'!$A$5:$A$504,">="&$C$5,'Nhật ký nhập xuất'!$A$5:$A$504,"<="&$C$6)) | H17: =IF($B17="","",SUMIFS('Nhật ký nhập xuất'!$E$5:$E$504,'Nhật ký nhập xuất'!$B$5:$B$504,$B17,'Nhật ký nhập xuất'!$D$5:$D$504,"Xuất",'Nhật ký nhập xuất'!$A$5:$A$504,">="&$C$5,'Nhật ký nhập xuất'!$A$5:$A$504,"<="&$C$6)) | I17: =IF($B17="","",F17+G17-H17) | J17: =IF($B17="","",'Danh mục SP'!E12) | K17: =IF($B17="","",'Danh mục SP'!F12) | L17: =IF($B17="","",H17*K17) | M17: =IF($B17="","",I17*J17) | N17: =IF($B17="","",H17*(K17-J17)) | O17: =IF(OR($B17="",N(L17)=0),"",N17/L17)
A18: =IF($B18="","",ROW()-9) | B18: =IF('Danh mục SP'!A13="","",'Danh mục SP'!A13) | C18: =IF($B18="","",'Danh mục SP'!B13) | D18: =IF($B18="","",'Danh mục SP'!C13) | E18: =IF($B18="","",'Danh mục SP'!D13) | F18: =IF($B18="","",'Danh mục SP'!G13+SUMIFS('Nhật ký nhập xuất'!$E$5:$E$504,'Nhật ký nhập xuất'!$B$5:$B$504,$B18,'Nhật ký nhập xuất'!$D$5:$D$504,"Nhập",'Nhật ký nhập xuất'!$A$5:$A$504,"<"&$C$5)-SUMIFS('Nhật ký nhập xuất'!$E$5:$E$504,'Nhật ký nhập xuất'!$B$5:$B$504,$B18,'Nhật ký nhập xuất'!$D$5:$D$504,"Xuất",'Nhật ký nhập xuất'!$A$5:$A$504,"<"&$C$5)) | G18: =IF($B18="","",SUMIFS('Nhật ký nhập xuất'!$E$5:$E$504,'Nhật ký nhập xuất'!$B$5:$B$504,$B18,'Nhật ký nhập xuất'!$D$5:$D$504,"Nhập",'Nhật ký nhập xuất'!$A$5:$A$504,">="&$C$5,'Nhật ký nhập xuất'!$A$5:$A$504,"<="&$C$6)) | H18: =IF($B18="","",SUMIFS('Nhật ký nhập xuất'!$E$5:$E$504,'Nhật ký nhập xuất'!$B$5:$B$504,$B18,'Nhật ký nhập xuất'!$D$5:$D$504,"Xuất",'Nhật ký nhập xuất'!$A$5:$A$504,">="&$C$5,'Nhật ký nhập xuất'!$A$5:$A$504,"<="&$C$6)) | I18: =IF($B18="","",F18+G18-H18) | J18: =IF($B18="","",'Danh mục SP'!E13) | K18: =IF($B18="","",'Danh mục SP'!F13) | L18: =IF($B18="","",H18*K18) | M18: =IF($B18="","",I18*J18) | N18: =IF($B18="","",H18*(K18-J18)) | O18: =IF(OR($B18="",N(L18)=0),"",N18/L18)
A19: =IF($B19="","",ROW()-9) | B19: =IF('Danh mục SP'!A14="","",'Danh mục SP'!A14) | C19: =IF($B19="","",'Danh mục SP'!B14) | D19: =IF($B19="","",'Danh mục SP'!C14) | E19: =IF($B19="","",'Danh mục SP'!D14) | F19: =IF($B19="","",'Danh mục SP'!G14+SUMIFS('Nhật ký nhập xuất'!$E$5:$E$504,'Nhật ký nhập xuất'!$B$5:$B$504,$B19,'Nhật ký nhập xuất'!$D$5:$D$504,"Nhập",'Nhật ký nhập xuất'!$A$5:$A$504,"<"&$C$5)-SUMIFS('Nhật ký nhập xuất'!$E$5:$E$504,'Nhật ký nhập xuất'!$B$5:$B$504,$B19,'Nhật ký nhập xuất'!$D$5:$D$504,"Xuất",'Nhật ký nhập xuất'!$A$5:$A$504,"<"&$C$5)) | G19: =IF($B19="","",SUMIFS('Nhật ký nhập xuất'!$E$5:$E$504,'Nhật ký nhập xuất'!$B$5:$B$504,$B19,'Nhật ký nhập xuất'!$D$5:$D$504,"Nhập",'Nhật ký nhập xuất'!$A$5:$A$504,">="&$C$5,'Nhật ký nhập xuất'!$A$5:$A$504,"<="&$C$6)) | H19: =IF($B19="","",SUMIFS('Nhật ký nhập xuất'!$E$5:$E$504,'Nhật ký nhập xuất'!$B$5:$B$504,$B19,'Nhật ký nhập xuất'!$D$5:$D$504,"Xuất",'Nhật ký nhập xuất'!$A$5:$A$504,">="&$C$5,'Nhật ký nhập xuất'!$A$5:$A$504,"<="&$C$6)) | I19: =IF($B19="","",F19+G19-H19) | J19: =IF($B19="","",'Danh mục SP'!E14) | K19: =IF($B19="","",'Danh mục SP'!F14) | L19: =IF($B19="","",H19*K19) | M19: =IF($B19="","",I19*J19) | N19: =IF($B19="","",H19*(K19-J19)) | O19: =IF(OR($B19="",N(L19)=0),"",N19/L19)
A20: =IF($B20="","",ROW()-9) | B20: =IF('Danh mục SP'!A15="","",'Danh mục SP'!A15) | C20: =IF($B20="","",'Danh mục SP'!B15) | D20: =IF($B20="","",'Danh mục SP'!C15) | E20: =IF($B20="","",'Danh mục SP'!D15) | F20: =IF($B20="","",'Danh mục SP'!G15+SUMIFS('Nhật ký nhập xuất'!$E$5:$E$504,'Nhật ký nhập xuất'!$B$5:$B$504,$B20,'Nhật ký nhập xuất'!$D$5:$D$504,"Nhập",'Nhật ký nhập xuất'!$A$5:$A$504,"<"&$C$5)-SUMIFS('Nhật ký nhập xuất'!$E$5:$E$504,'Nhật ký nhập xuất'!$B$5:$B$504,$B20,'Nhật ký nhập xuất'!$D$5:$D$504,"Xuất",'Nhật ký nhập xuất'!$A$5:$A$504,"<"&$C$5)) | G20: =IF($B20="","",SUMIFS('Nhật ký nhập xuất'!$E$5:$E$504,'Nhật ký nhập xuất'!$B$5:$B$504,$B20,'Nhật ký nhập xuất'!$D$5:$D$504,"Nhập",'Nhật ký nhập xuất'!$A$5:$A$504,">="&$C$5,'Nhật ký nhập xuất'!$A$5:$A$504,"<="&$C$6)) | H20: =IF($B20="","",SUMIFS('Nhật ký nhập xuất'!$E$5:$E$504,'Nhật ký nhập xuất'!$B$5:$B$504,$B20,'Nhật ký nhập xuất'!$D$5:$D$504,"Xuất",'Nhật ký nhập xuất'!$A$5:$A$504,">="&$C$5,'Nhật ký nhập xuất'!$A$5:$A$504,"<="&$C$6)) | I20: =IF($B20="","",F20+G20-H20) | J20: =IF($B20="","",'Danh mục SP'!E15) | K20: =IF($B20="","",'Danh mục SP'!F15) | L20: =IF($B20="","",H20*K20) | M20: =IF($B20="","",I20*J20) | N20: =IF($B20="","",H20*(K20-J20)) | O20: =IF(OR($B20="",N(L20)=0),"",N20/L20)
A21: =IF($B21="","",ROW()-9) | B21: =IF('Danh mục SP'!A16="","",'Danh mục SP'!A16) | C21: =IF($B21="","",'Danh mục SP'!B16) | D21: =IF($B21="","",'Danh mục SP'!C16) | E21: =IF($B21="","",'Danh mục SP'!D16) | F21: =IF($B21="","",'Danh mục SP'!G16+SUMIFS('Nhật ký nhập xuất'!$E$5:$E$504,'Nhật ký nhập xuất'!$B$5:$B$504,$B21,'Nhật ký nhập xuất'!$D$5:$D$504,"Nhập",'Nhật ký nhập xuất'!$A$5:$A$504,"<"&$C$5)-SUMIFS('Nhật ký nhập xuất'!$E$5:$E$504,'Nhật ký nhập xuất'!$B$5:$B$504,$B21,'Nhật ký nhập xuất'!$D$5:$D$504,"Xuất",'Nhật ký nhập xuất'!$A$5:$A$504,"<"&$C$5)) | G21: =IF($B21="","",SUMIFS('Nhật ký nhập xuất'!$E$5:$E$504,'Nhật ký nhập xuất'!$B$5:$B$504,$B21,'Nhật ký nhập xuất'!$D$5:$D$504,"Nhập",'Nhật ký nhập xuất'!$A$5:$A$504,">="&$C$5,'Nhật ký nhập xuất'!$A$5:$A$504,"<="&$C$6)) | H21: =IF($B21="","",SUMIFS('Nhật ký nhập xuất'!$E$5:$E$504,'Nhật ký nhập xuất'!$B$5:$B$504,$B21,'Nhật ký nhập xuất'!$D$5:$D$504,"Xuất",'Nhật ký nhập xuất'!$A$5:$A$504,">="&$C$5,'Nhật ký nhập xuất'!$A$5:$A$504,"<="&$C$6)) | I21: =IF($B21="","",F21+G21-H21) | J21: =IF($B21="","",'Danh mục SP'!E16) | K21: =IF($B21="","",'Danh mục SP'!F16) | L21: =IF($B21="","",H21*K21) | M21: =IF($B21="","",I21*J21) | N21: =IF($B21="","",H21*(K21-J21)) | O21: =IF(OR($B21="",N(L21)=0),"",N21/L21)
... A39: =IF($B39="","",ROW()-9) | B39: =IF('Danh mục SP'!A34="","",'Danh mục SP'!A34) | C39: =IF($B39="","",'Danh mục SP'!B34) | D39: =IF($B39="","",'Danh mục SP'!C34) | E39: =IF($B39="","",'Danh mục SP'!D34) | F39: =IF($B39="","",'Danh mục SP'!G34+SUMIFS('Nhật ký nhập xuất'!$E$5:$E$504,'Nhật ký nhập xuất'!$B$5:$B$504,$B39,'Nhật ký nhập xuất'!$D$5:$D$504,"Nhập",'Nhật ký nhập xuất'!$A$5:$A$504,"<"&$C$5)-SUMIFS('Nhật ký nhập xuất'!$E$5:$E$504,'Nhật ký nhập xuất'!$B$5:$B$504,$B39,'Nhật ký nhập xuất'!$D$5:$D$504,"Xuất",'Nhật ký nhập xuất'!$A$5:$A$504,"<"&$C$5)) | G39: =IF($B39="","",SUMIFS('Nhật ký nhập xuất'!$E$5:$E$504,'Nhật ký nhập xuất'!$B$5:$B$504,$B39,'Nhật ký nhập xuất'!$D$5:$D$504,"Nhập",'Nhật ký nhập xuất'!$A$5:$A$504,">="&$C$5,'Nhật ký nhập xuất'!$A$5:$A$504,"<="&$C$6)) | H39: =IF($B39="","",SUMIFS('Nhật ký nhập xuất'!$E$5:$E$504,'Nhật ký nhập xuất'!$B$5:$B$504,$B39,'Nhật ký nhập xuất'!$D$5:$D$504,"Xuất",'Nhật ký nhập xuất'!$A$5:$A$504,">="&$C$5,'Nhật ký nhập xuất'!$A$5:$A$504,"<="&$C$6)) | I39: =IF($B39="","",F39+G39-H39) | J39: =IF($B39="","",'Danh mục SP'!E34) | K39: =IF($B39="","",'Danh mục SP'!F34) | L39: =IF($B39="","",H39*K39) | M39: =IF($B39="","",I39*J39) | N39: =IF($B39="","",H39*(K39-J39)) | O39: =IF(OR($B39="",N(L39)=0),"",N39/L39)
A40: TỔNG CỘNG | F40: =SUM(F10:F39) -> 240 | G40: =SUM(G10:G39) -> 210 | H40: =SUM(H10:H39) -> 224 | I40: =SUM(I10:I39) -> 226 | L40: =SUM(L10:L39) -> 60995000 | M40: =SUM(M10:M39) -> 54930000 | N40: =SUM(N10:N39) -> 23075000 | O40: =IF(L40=0,0,N40/L40) -> 0.3783097
A42: Hướng dẫn sử dụng
A43: • Chỉ cần nhập 3 nơi: (1) sheet 'Danh mục SP' – thông tin sản phẩm; (2) sheet 'Nhật ký nhập xuất' – mỗi lần nhập/xuất ghi một dòng; (3) ô Từ ngày – Đến ngày ở đầu sheet này.
A44: • Toàn bộ bảng báo cáo (tên, giá, tồn đầu kỳ, nhập, xuất, tồn cuối kỳ, doanh thu, lợi nhuận) và sheet 'Tổng hợp' tự cập nhật. Chữ xanh dương = ô nhập, chữ đen = ô tự động.
A45: • Tồn đầu kỳ = Tồn ban đầu + nhập − xuất của các ngày trước 'Từ ngày'. Muốn xem tháng khác, chỉ cần đổi Từ ngày – Đến ngày.
A46: • Dữ liệu mẫu (SP001–SP005 và nhật ký tháng 9–10/2026) chỉ để minh họa, hãy xóa và thay bằng dữ liệu thật.

Sheet Tổng hợp
A1: TỔNG HỢP THEO DANH MỤC
A2: Tự động cộng dồn từ sheet 'Báo cáo sản phẩm'.
A3: ="Kỳ báo cáo: từ "&TEXT('Báo cáo sản phẩm'!$C$5,"dd/mm/yyyy")&" đến "&TEXT('Báo cáo sản phẩm'!$C$6,"dd/mm/yyyy") -> Kỳ báo cáo: từ 01/10/2026 đến 31/10/2026
A5: Danh mục | B5: Số sản phẩm | C5: Tồn cuối kỳ | D5: Doanh thu (VNĐ) | E5: Giá trị tồn kho (VNĐ) | F5: Lợi nhuận gộp (VNĐ) | G5: Tỷ trọng doanh thu
A6: Thời trang | B6: =COUNTIF('Báo cáo sản phẩm'!$D$10:$D$39,A6) -> 1 | C6: =SUMIF('Báo cáo sản phẩm'!$D$10:$D$39,A6,'Báo cáo sản phẩm'!$I$10:$I$39) -> 50 | D6: =SUMIF('Báo cáo sản phẩm'!$D$10:$D$39,A6,'Báo cáo sản phẩm'!$L$10:$L$39) -> 20670000 | E6: =SUMIF('Báo cáo sản phẩm'!$D$10:$D$39,A6,'Báo cáo sản phẩm'!$M$10:$M$39) -> 4250000 | F6: =SUMIF('Báo cáo sản phẩm'!$D$10:$D$39,A6,'Báo cáo sản phẩm'!$N$10:$N$39) -> 9620000 | G6: =IF($D$12=0,0,D6/$D$12) -> 0.33888024
A7: Điện tử | B7: =COUNTIF('Báo cáo sản phẩm'!$D$10:$D$39,A7) -> 1 | C7: =SUMIF('Báo cáo sản phẩm'!$D$10:$D$39,A7,'Báo cáo sản phẩm'!$I$10:$I$39) -> 45 | D7: =SUMIF('Báo cáo sản phẩm'!$D$10:$D$39,A7,'Báo cáo sản phẩm'!$L$10:$L$39) -> 22050000 | E7: =SUMIF('Báo cáo sản phẩm'!$D$10:$D$39,A7,'Báo cáo sản phẩm'!$M$10:$M$39) -> 14400000 | F7: =SUMIF('Báo cáo sản phẩm'!$D$10:$D$39,A7,'Báo cáo sản phẩm'!$N$10:$N$39) -> 7650000 | G7: =IF($D$12=0,0,D7/$D$12) -> 0.36150504
A8: Gia dụng | B8: =COUNTIF('Báo cáo sản phẩm'!$D$10:$D$39,A8) -> 1 | C8: =SUMIF('Báo cáo sản phẩm'!$D$10:$D$39,A8,'Báo cáo sản phẩm'!$I$10:$I$39) -> 19 | D8: =SUMIF('Báo cáo sản phẩm'!$D$10:$D$39,A8,'Báo cáo sản phẩm'!$L$10:$L$39) -> 10740000 | E8: =SUMIF('Báo cáo sản phẩm'!$D$10:$D$39,A8,'Báo cáo sản phẩm'!$M$10:$M$39) -> 23750000 | F8: =SUMIF('Báo cáo sản phẩm'!$D$10:$D$39,A8,'Báo cáo sản phẩm'!$N$10:$N$39) -> 3240000 | G8: =IF($D$12=0,0,D8/$D$12) -> 0.17608001
A9: Thực phẩm | B9: =COUNTIF('Báo cáo sản phẩm'!$D$10:$D$39,A9) -> 1 | C9: =SUMIF('Báo cáo sản phẩm'!$D$10:$D$39,A9,'Báo cáo sản phẩm'!$I$10:$I$39) -> 75 | D9: =SUMIF('Báo cáo sản phẩm'!$D$10:$D$39,A9,'Báo cáo sản phẩm'!$L$10:$L$39) -> 3125000 | E9: =SUMIF('Báo cáo sản phẩm'!$D$10:$D$39,A9,'Báo cáo sản phẩm'!$M$10:$M$39) -> 7350000 | F9: =SUMIF('Báo cáo sản phẩm'!$D$10:$D$39,A9,'Báo cáo sản phẩm'!$N$10:$N$39) -> 675000 | G9: =IF($D$12=0,0,D9/$D$12) -> 0.051233708
A10: Mỹ phẩm | B10: =COUNTIF('Báo cáo sản phẩm'!$D$10:$D$39,A10) -> 1 | C10: =SUMIF('Báo cáo sản phẩm'!$D$10:$D$39,A10,'Báo cáo sản phẩm'!$I$10:$I$39) -> 37 | D10: =SUMIF('Báo cáo sản phẩm'!$D$10:$D$39,A10,'Báo cáo sản phẩm'!$L$10:$L$39) -> 4410000 | E10: =SUMIF('Báo cáo sản phẩm'!$D$10:$D$39,A10,'Báo cáo sản phẩm'!$M$10:$M$39) -> 5180000 | F10: =SUMIF('Báo cáo sản phẩm'!$D$10:$D$39,A10,'Báo cáo sản phẩm'!$N$10:$N$39) -> 1890000 | G10: =IF($D$12=0,0,D10/$D$12) -> 0.072301008
A11: Khác | B11: =COUNTIF('Báo cáo sản phẩm'!$D$10:$D$39,A11) -> 0 | C11: =SUMIF('Báo cáo sản phẩm'!$D$10:$D$39,A11,'Báo cáo sản phẩm'!$I$10:$I$39) -> 0 | D11: =SUMIF('Báo cáo sản phẩm'!$D$10:$D$39,A11,'Báo cáo sản phẩm'!$L$10:$L$39) -> 0 | E11: =SUMIF('Báo cáo sản phẩm'!$D$10:$D$39,A11,'Báo cáo sản phẩm'!$M$10:$M$39) -> 0 | F11: =SUMIF('Báo cáo sản phẩm'!$D$10:$D$39,A11,'Báo cáo sản phẩm'!$N$10:$N$39) -> 0 | G11: =IF($D$12=0,0,D11/$D$12) -> 0
A12: TỔNG CỘNG | B12: =SUM(B6:B11) -> 5 | C12: =SUM(C6:C11) -> 226 | D12: =SUM(D6:D11) -> 60995000 | E12: =SUM(E6:E11) -> 54930000 | F12: =SUM(F6:F11) -> 23075000 | G12: =SUM(G6:G11) -> 1
A13: Muốn thêm danh mục: chèn dòng vào giữa bảng (không chèn dưới dòng cuối của danh sách) rồi sao chép công thức từ dòng bên trên.

Sheet Danh mục SP
A1: DANH MỤC SẢN PHẨM
A2: Nhập thông tin sản phẩm một lần duy nhất. Báo cáo sẽ tự lấy tên, giá, danh mục theo Mã SP.
A4: Mã SP | B4: Tên sản phẩm | C4: Danh mục | D4: ĐVT | E4: Giá vốn (VNĐ) | F4: Giá bán (VNĐ) | G4: Tồn ban đầu
A5: SP001 | B5: Áo thun cotton cổ tròn | C5: Thời trang | D5: Cái | E5: 85000 | F5: 159000 | G5: 120
A6: SP002 | B6: Tai nghe Bluetooth | C6: Điện tử | D6: Cái | E6: 320000 | F6: 490000 | G6: 40
A7: SP003 | B7: Nồi chiên không dầu 5L | C7: Gia dụng | D7: Cái | E7: 1250000 | F7: 1790000 | G7: 15
A8: SP004 | B8: Mì gói (thùng 30 gói) | C8: Thực phẩm | D8: Thùng | E8: 98000 | F8: 125000 | G8: 60
A9: SP005 | B9: Kem dưỡng da 50ml | C9: Mỹ phẩm | D9: Hộp | E9: 140000 | F9: 245000 | G9: 35
A36: Chữ xanh dương = ô cần nhập. Cột Danh mục chọn từ danh sách ở sheet 'Tổng hợp'. Tồn ban đầu = số lượng tồn trước khi bắt đầu ghi nhật ký.

Sheet Nhật ký nhập xuất
A1: NHẬT KÝ NHẬP – XUẤT KHO
A2: Mỗi lần nhập hoặc xuất hàng, ghi một dòng. Báo cáo sẽ tự cộng dồn theo kỳ báo cáo.
A4: Ngày | B4: Mã SP | C4: Tên sản phẩm (tự động) | D4: Loại | E4: Số lượng | F4: Ghi chú
A5: 46280 | B5: SP001 | C5: {=IF(B5="","",IFERROR(INDEX('Danh mục SP'!$B$5:$B$34,MATCH(B5,'Danh mục SP'!$A$5:$A$34,0)),"Mã không tồn tại"))} -> Áo thun cotton cổ tròn | D5: Nhập | E5: 30 | F5: Nhập bổ sung tháng 9
A6: 46285 | B6: SP001 | C6: {=IF(B6="","",IFERROR(INDEX('Danh mục SP'!$B$5:$B$34,MATCH(B6,'Danh mục SP'!$A$5:$A$34,0)),"Mã không tồn tại"))} -> Áo thun cotton cổ tròn | D6: Xuất | E6: 50
A7: 46290 | B7: SP002 | C7: {=IF(B7="","",IFERROR(INDEX('Danh mục SP'!$B$5:$B$34,MATCH(B7,'Danh mục SP'!$A$5:$A$34,0)),"Mã không tồn tại"))} -> Tai nghe Bluetooth | D7: Xuất | E7: 10
A8: 46297 | B8: SP001 | C8: {=IF(B8="","",IFERROR(INDEX('Danh mục SP'!$B$5:$B$34,MATCH(B8,'Danh mục SP'!$A$5:$A$34,0)),"Mã không tồn tại"))} -> Áo thun cotton cổ tròn | D8: Nhập | E8: 80 | F8: Nhập lô mới
A9: 46298 | B9: SP002 | C9: {=IF(B9="","",IFERROR(INDEX('Danh mục SP'!$B$5:$B$34,MATCH(B9,'Danh mục SP'!$A$5:$A$34,0)),"Mã không tồn tại"))} -> Tai nghe Bluetooth | D9: Nhập | E9: 60
A10: 46300 | B10: SP003 | C10: {=IF(B10="","",IFERROR(INDEX('Danh mục SP'!$B$5:$B$34,MATCH(B10,'Danh mục SP'!$A$5:$A$34,0)),"Mã không tồn tại"))} -> Nồi chiên không dầu 5L | D10: Xuất | E10: 6
A11: 46303 | B11: SP004 | C11: {=IF(B11="","",IFERROR(INDEX('Danh mục SP'!$B$5:$B$34,MATCH(B11,'Danh mục SP'!$A$5:$A$34,0)),"Mã không tồn tại"))} -> Mì gói (thùng 30 gói) | D11: Xuất | E11: 25 | F11: Bán sỉ
A12: 46305 | B12: SP001 | C12: {=IF(B12="","",IFERROR(INDEX('Danh mục SP'!$B$5:$B$34,MATCH(B12,'Danh mục SP'!$A$5:$A$34,0)),"Mã không tồn tại"))} -> Áo thun cotton cổ tròn | D12: Xuất | E12: 70
A13: 46307 | B13: SP005 | C13: {=IF(B13="","",IFERROR(INDEX('Danh mục SP'!$B$5:$B$34,MATCH(B13,'Danh mục SP'!$A$5:$A$34,0)),"Mã không tồn tại"))} -> Kem dưỡng da 50ml | D13: Xuất | E13: 18
A14: 46310 | B14: SP004 | C14: {=IF(B14="","",IFERROR(INDEX('Danh mục SP'!$B$5:$B$34,MATCH(B14,'Danh mục SP'!$A$5:$A$34,0)),"Mã không tồn tại"))} -> Mì gói (thùng 30 gói) | D14: Nhập | E14: 40
A15: 46313 | B15: SP002 | C15: {=IF(B15="","",IFERROR(INDEX('Danh mục SP'!$B$5:$B$34,MATCH(B15,'Danh mục SP'!$A$5:$A$34,0)),"Mã không tồn tại"))} -> Tai nghe Bluetooth | D15: Xuất | E15: 45
A16: 46317 | B16: SP003 | C16: {=IF(B16="","",IFERROR(INDEX('Danh mục SP'!$B$5:$B$34,MATCH(B16,'Danh mục SP'!$A$5:$A$34,0)),"Mã không tồn tại"))} -> Nồi chiên không dầu 5L | D16: Nhập | E16: 10
A17: 46320 | B17: SP001 | C17: {=IF(B17="","",IFERROR(INDEX('Danh mục SP'!$B$5:$B$34,MATCH(B17,'Danh mục SP'!$A$5:$A$34,0)),"Mã không tồn tại"))} -> Áo thun cotton cổ tròn | D17: Xuất | E17: 60
A18: 46323 | B18: SP005 | C18: {=IF(B18="","",IFERROR(INDEX('Danh mục SP'!$B$5:$B$34,MATCH(B18,'Danh mục SP'!$A$5:$A$34,0)),"Mã không tồn tại"))} -> Kem dưỡng da 50ml | D18: Nhập | E18: 20
C19: {=IF(B19="","",IFERROR(INDEX('Danh mục SP'!$B$5:$B$34,MATCH(B19,'Danh mục SP'!$A$5:$A$34,0)),"Mã không tồn tại"))}
C20: {=IF(B20="","",IFERROR(INDEX('Danh mục SP'!$B$5:$B$34,MATCH(B20,'Danh mục SP'!$A$5:$A$34,0)),"Mã không tồn tại"))}
C21: {=IF(B21="","",IFERROR(INDEX('Danh mục SP'!$B$5:$B$34,MATCH(B21,'Danh mục SP'!$A$5:$A$34,0)),"Mã không tồn tại"))}
C22: {=IF(B22="","",IFERROR(INDEX('Danh mục SP'!$B$5:$B$34,MATCH(B22,'Danh mục SP'!$A$5:$A$34,0)),"Mã không tồn tại"))}
C23: {=IF(B23="","",IFERROR(INDEX('Danh mục SP'!$B$5:$B$34,MATCH(B23,'Danh mục SP'!$A$5:$A$34,0)),"Mã không tồn tại"))}
C24: {=IF(B24="","",IFERROR(INDEX('Danh mục SP'!$B$5:$B$34,MATCH(B24,'Danh mục SP'!$A$5:$A$34,0)),"Mã không tồn tại"))}
C25: {=IF(B25="","",IFERROR(INDEX('Danh mục SP'!$B$5:$B$34,MATCH(B25,'Danh mục SP'!$A$5:$A$34,0)),"Mã không tồn tại"))}
C26: {=IF(B26="","",IFERROR(INDEX('Danh mục SP'!$B$5:$B$34,MATCH(B26,'Danh mục SP'!$A$5:$A$34,0)),"Mã không tồn tại"))}
C27: {=IF(B27="","",IFERROR(INDEX('Danh mục SP'!$B$5:$B$34,MATCH(B27,'Danh mục SP'!$A$5:$A$34,0)),"Mã không tồn tại"))}
C28: {=IF(B28="","",IFERROR(INDEX('Danh mục SP'!$B$5:$B$34,MATCH(B28,'Danh mục SP'!$A$5:$A$34,0)),"Mã không tồn tại"))}
C29: {=IF(B29="","",IFERROR(INDEX('Danh mục SP'!$B$5:$B$34,MATCH(B29,'Danh mục SP'!$A$5:$A$34,0)),"Mã không tồn tại"))}
C30: {=IF(B30="","",IFERROR(INDEX('Danh mục SP'!$B$5:$B$34,MATCH(B30,'Danh mục SP'!$A$5:$A$34,0)),"Mã không tồn tại"))}
... C504: {=IF(B504="","",IFERROR(INDEX('Danh mục SP'!$B$5:$B$34,MATCH(B504,'Danh mục SP'!$A$5:$A$34,0)),"Mã không tồn tại"))}
