Workbook

Sheet Tổng hợp
B2: KẾ HOẠCH THI CÔNG XÂY DỰNG
B3: ="Công trình: "&IF('Cấu hình'!C6="","(chưa nhập)",'Cấu hình'!C6) -> Công trình: Tòa nhà văn phòng ABC – 8 tầng (dữ liệu mẫu)
B4: ="Nhà thầu: "&IF('Cấu hình'!C9="","—",'Cấu hình'!C9) -> Nhà thầu: Công ty TNHH Xây dựng XYZ | H4: ="Người lập: "&IF('Cấu hình'!C11="","—",'Cấu hình'!C11)&" | Ngày lập: "&TEXT('Cấu hình'!$C$14,"dd/mm/yyyy") -> Người lập: Trần Thị Bình | Ngày lập: 28/10/2026
B6: NGÀY KHỞI CÔNG | E6: HOÀN THÀNH DỰ KIẾN | H6: THỜI GIAN THI CÔNG | K6: TỔNG GIÁ TRỊ (VNĐ)
B7: ='Cấu hình'!$C$15 -> 46328 | E7: ='Danh mục công việc'!$S$4 -> 46728 | H7: ='Danh mục công việc'!$S$4-'Cấu hình'!$C$15+1 -> 401 | K7: ='Danh mục công việc'!H67 -> 37126000000
B8: ="Còn "&MAX(0,'Cấu hình'!$C$15-'Cấu hình'!$C$14)&" ngày nữa khởi công" -> Còn 5 ngày nữa khởi công | E8: =IF('Cấu hình'!$C$16="","",IF('Danh mục công việc'!$S$4<='Cấu hình'!$C$16,"Đạt thời hạn hợp đồng","Chậm "&('Danh mục công việc'!$S$4-'Cấu hình'!$C$16)&" ngày so với hợp đồng")) -> Đạt thời hạn hợp đồng | H8: =_xlfn.NETWORKDAYS.INTL('Cấu hình'!$C$15,'Danh mục công việc'!$S$4,'Cấu hình'!$C$17,'Cấu hình'!$E$6:$E$35)&" ngày làm việc" -> 280 ngày làm việc | K8: ="Nhân lực cao điểm: "&'Nhân lực - Vốn'!E68&" người" -> Nhân lực cao điểm: 104 người
B10: SO SÁNH VỚI HỢP ĐỒNG | H10: KIỂM TRA DỮ LIỆU
B11: Hoàn thành theo hợp đồng | E11: ='Cấu hình'!$C$16 -> 46752 | H11: Số công việc | L11: =COUNTA('Danh mục công việc'!$D$7:$D$66) -> 26
B12: Hoàn thành dự kiến | E12: ='Danh mục công việc'!$S$4 -> 46728 | H12: Số công việc trên đường găng | L12: =COUNTIF('Danh mục công việc'!$W$7:$W$66,"Găng") -> 18
B13: Chênh lệch (ngày lịch) | E13: =IF('Cấu hình'!$C$16="","",'Cấu hình'!$C$16-'Danh mục công việc'!$S$4) -> 24 | H13: Công việc lỗi liên kết | L13: =COUNTIF('Danh mục công việc'!$Z$7:$Z$66,"Kiểm tra*") -> 0
B14: Kết luận | E14: =IF('Cấu hình'!$C$16="","",IF('Danh mục công việc'!$S$4<='Cấu hình'!$C$16,"Đạt tiến độ hợp đồng","Vượt thời hạn hợp đồng")) -> Đạt tiến độ hợp đồng | H14: Vật tư quá hạn đặt hàng | L14: =COUNTIF('Vật tư'!L8:L32,"Quá hạn*") -> 0
H15: % giá trị đã phân bổ vào lịch tuần | L15: ='Nhân lực - Vốn'!H67 -> 1
B16: Nếu '% giá trị đã phân bổ' nhỏ hơn 100%, dự án dài hơn 60 tuần – hãy kéo dài bảng ở sheet 'Nhân lực - Vốn'.
B18: TỔNG HỢP THEO GIAI ĐOẠN
B19: Giai đoạn | E19: Số CV | F19: Giá trị (VNĐ) | H19: Tỷ trọng | I19: Bắt đầu | K19: Kết thúc | M19: Số ngày LV
B20: =IF('Cấu hình'!$I$6="","",'Cấu hình'!$I$6) -> Chuẩn bị mặt bằng | E20: =IF('Cấu hình'!$I$6="","",COUNTIF('Danh mục công việc'!$C$7:$C$66,'Cấu hình'!$I$6)) -> 2 | F20: =IF('Cấu hình'!$I$6="","",SUMIFS('Danh mục công việc'!$H$7:$H$66,'Danh mục công việc'!$C$7:$C$66,'Cấu hình'!$I$6)) -> 310000000 | H20: =IF('Cấu hình'!$I$6="","",IF('Danh mục công việc'!$H$67=0,0,F20/'Danh mục công việc'!$H$67)) -> 0.0083499434 | I20: =IF(OR('Cấu hình'!$I$6="",N(E20)=0),"",MINIFS('Danh mục công việc'!$R$7:$R$66,'Danh mục công việc'!$C$7:$C$66,'Cấu hình'!$I$6)) -> 46328 | K20: =IF(OR('Cấu hình'!$I$6="",N(E20)=0),"",MAXIFS('Danh mục công việc'!$S$7:$S$66,'Danh mục công việc'!$C$7:$C$66,'Cấu hình'!$I$6)) -> 46339 | M20: =IF(I20="","",_xlfn.NETWORKDAYS.INTL(I20,K20,'Cấu hình'!$C$17,'Cấu hình'!$E$6:$E$35)) -> 10
B21: =IF('Cấu hình'!$I$7="","",'Cấu hình'!$I$7) -> Phần ngầm – móng | E21: =IF('Cấu hình'!$I$7="","",COUNTIF('Danh mục công việc'!$C$7:$C$66,'Cấu hình'!$I$7)) -> 6 | F21: =IF('Cấu hình'!$I$7="","",SUMIFS('Danh mục công việc'!$H$7:$H$66,'Danh mục công việc'!$C$7:$C$66,'Cấu hình'!$I$7)) -> 4887000000 | H21: =IF('Cấu hình'!$I$7="","",IF('Danh mục công việc'!$H$67=0,0,F21/'Danh mục công việc'!$H$67)) -> 0.13163282 | I21: =IF(OR('Cấu hình'!$I$7="",N(E21)=0),"",MINIFS('Danh mục công việc'!$R$7:$R$66,'Danh mục công việc'!$C$7:$C$66,'Cấu hình'!$I$7)) -> 46342 | K21: =IF(OR('Cấu hình'!$I$7="",N(E21)=0),"",MAXIFS('Danh mục công việc'!$S$7:$S$66,'Danh mục công việc'!$C$7:$C$66,'Cấu hình'!$I$7)) -> 46392 | M21: =IF(I21="","",_xlfn.NETWORKDAYS.INTL(I21,K21,'Cấu hình'!$C$17,'Cấu hình'!$E$6:$E$35)) -> 36
B22: =IF('Cấu hình'!$I$8="","",'Cấu hình'!$I$8) -> Phần thân – kết cấu | E22: =IF('Cấu hình'!$I$8="","",COUNTIF('Danh mục công việc'!$C$7:$C$66,'Cấu hình'!$I$8)) -> 5 | F22: =IF('Cấu hình'!$I$8="","",SUMIFS('Danh mục công việc'!$H$7:$H$66,'Danh mục công việc'!$C$7:$C$66,'Cấu hình'!$I$8)) -> 11790000000 | H22: =IF('Cấu hình'!$I$8="","",IF('Danh mục công việc'!$H$67=0,0,F22/'Danh mục công việc'!$H$67)) -> 0.3175672 | I22: =IF(OR('Cấu hình'!$I$8="",N(E22)=0),"",MINIFS('Danh mục công việc'!$R$7:$R$66,'Danh mục công việc'!$C$7:$C$66,'Cấu hình'!$I$8)) -> 46393 | K22: =IF(OR('Cấu hình'!$I$8="",N(E22)=0),"",MAXIFS('Danh mục công việc'!$S$7:$S$66,'Danh mục công việc'!$C$7:$C$66,'Cấu hình'!$I$8)) -> 46498 | M22: =IF(I22="","",_xlfn.NETWORKDAYS.INTL(I22,K22,'Cấu hình'!$C$17,'Cấu hình'!$E$6:$E$35)) -> 71
B23: =IF('Cấu hình'!$I$9="","",'Cấu hình'!$I$9) -> Hoàn thiện thô (xây, MEP) | E23: =IF('Cấu hình'!$I$9="","",COUNTIF('Danh mục công việc'!$C$7:$C$66,'Cấu hình'!$I$9)) -> 5 | F23: =IF('Cấu hình'!$I$9="","",SUMIFS('Danh mục công việc'!$H$7:$H$66,'Danh mục công việc'!$C$7:$C$66,'Cấu hình'!$I$9)) -> 8825000000 | H23: =IF('Cấu hình'!$I$9="","",IF('Danh mục công việc'!$H$67=0,0,F23/'Danh mục công việc'!$H$67)) -> 0.23770403 | I23: =IF(OR('Cấu hình'!$I$9="",N(E23)=0),"",MINIFS('Danh mục công việc'!$R$7:$R$66,'Danh mục công việc'!$C$7:$C$66,'Cấu hình'!$I$9)) -> 46449 | K23: =IF(OR('Cấu hình'!$I$9="",N(E23)=0),"",MAXIFS('Danh mục công việc'!$S$7:$S$66,'Danh mục công việc'!$C$7:$C$66,'Cấu hình'!$I$9)) -> 46622 | M23: =IF(I23="","",_xlfn.NETWORKDAYS.INTL(I23,K23,'Cấu hình'!$C$17,'Cấu hình'!$E$6:$E$35)) -> 123
B24: =IF('Cấu hình'!$I$10="","",'Cấu hình'!$I$10) -> Hoàn thiện | E24: =IF('Cấu hình'!$I$10="","",COUNTIF('Danh mục công việc'!$C$7:$C$66,'Cấu hình'!$I$10)) -> 5 | F24: =IF('Cấu hình'!$I$10="","",SUMIFS('Danh mục công việc'!$H$7:$H$66,'Danh mục công việc'!$C$7:$C$66,'Cấu hình'!$I$10)) -> 9034000000 | H24: =IF('Cấu hình'!$I$10="","",IF('Danh mục công việc'!$H$67=0,0,F24/'Danh mục công việc'!$H$67)) -> 0.24333351 | I24: =IF(OR('Cấu hình'!$I$10="",N(E24)=0),"",MINIFS('Danh mục công việc'!$R$7:$R$66,'Danh mục công việc'!$C$7:$C$66,'Cấu hình'!$I$10)) -> 46528 | K24: =IF(OR('Cấu hình'!$I$10="",N(E24)=0),"",MAXIFS('Danh mục công việc'!$S$7:$S$66,'Danh mục công việc'!$C$7:$C$66,'Cấu hình'!$I$10)) -> 46703 | M24: =IF(I24="","",_xlfn.NETWORKDAYS.INTL(I24,K24,'Cấu hình'!$C$17,'Cấu hình'!$E$6:$E$35)) -> 126
B25: =IF('Cấu hình'!$I$11="","",'Cấu hình'!$I$11) -> Hạ tầng và bàn giao | E25: =IF('Cấu hình'!$I$11="","",COUNTIF('Danh mục công việc'!$C$7:$C$66,'Cấu hình'!$I$11)) -> 3 | F25: =IF('Cấu hình'!$I$11="","",SUMIFS('Danh mục công việc'!$H$7:$H$66,'Danh mục công việc'!$C$7:$C$66,'Cấu hình'!$I$11)) -> 2280000000 | H25: =IF('Cấu hình'!$I$11="","",IF('Danh mục công việc'!$H$67=0,0,F25/'Danh mục công việc'!$H$67)) -> 0.061412487 | I25: =IF(OR('Cấu hình'!$I$11="",N(E25)=0),"",MINIFS('Danh mục công việc'!$R$7:$R$66,'Danh mục công việc'!$C$7:$C$66,'Cấu hình'!$I$11)) -> 46680 | K25: =IF(OR('Cấu hình'!$I$11="",N(E25)=0),"",MAXIFS('Danh mục công việc'!$S$7:$S$66,'Danh mục công việc'!$C$7:$C$66,'Cấu hình'!$I$11)) -> 46728 | M25: =IF(I25="","",_xlfn.NETWORKDAYS.INTL(I25,K25,'Cấu hình'!$C$17,'Cấu hình'!$E$6:$E$35)) -> 35
B26: =IF('Cấu hình'!$I$12="","",'Cấu hình'!$I$12) | E26: =IF('Cấu hình'!$I$12="","",COUNTIF('Danh mục công việc'!$C$7:$C$66,'Cấu hình'!$I$12)) | F26: =IF('Cấu hình'!$I$12="","",SUMIFS('Danh mục công việc'!$H$7:$H$66,'Danh mục công việc'!$C$7:$C$66,'Cấu hình'!$I$12)) | H26: =IF('Cấu hình'!$I$12="","",IF('Danh mục công việc'!$H$67=0,0,F26/'Danh mục công việc'!$H$67)) | I26: =IF(OR('Cấu hình'!$I$12="",N(E26)=0),"",MINIFS('Danh mục công việc'!$R$7:$R$66,'Danh mục công việc'!$C$7:$C$66,'Cấu hình'!$I$12)) | K26: =IF(OR('Cấu hình'!$I$12="",N(E26)=0),"",MAXIFS('Danh mục công việc'!$S$7:$S$66,'Danh mục công việc'!$C$7:$C$66,'Cấu hình'!$I$12)) | M26: =IF(I26="","",_xlfn.NETWORKDAYS.INTL(I26,K26,'Cấu hình'!$C$17,'Cấu hình'!$E$6:$E$35))
B27: =IF('Cấu hình'!$I$13="","",'Cấu hình'!$I$13) | E27: =IF('Cấu hình'!$I$13="","",COUNTIF('Danh mục công việc'!$C$7:$C$66,'Cấu hình'!$I$13)) | F27: =IF('Cấu hình'!$I$13="","",SUMIFS('Danh mục công việc'!$H$7:$H$66,'Danh mục công việc'!$C$7:$C$66,'Cấu hình'!$I$13)) | H27: =IF('Cấu hình'!$I$13="","",IF('Danh mục công việc'!$H$67=0,0,F27/'Danh mục công việc'!$H$67)) | I27: =IF(OR('Cấu hình'!$I$13="",N(E27)=0),"",MINIFS('Danh mục công việc'!$R$7:$R$66,'Danh mục công việc'!$C$7:$C$66,'Cấu hình'!$I$13)) | K27: =IF(OR('Cấu hình'!$I$13="",N(E27)=0),"",MAXIFS('Danh mục công việc'!$S$7:$S$66,'Danh mục công việc'!$C$7:$C$66,'Cấu hình'!$I$13)) | M27: =IF(I27="","",_xlfn.NETWORKDAYS.INTL(I27,K27,'Cấu hình'!$C$17,'Cấu hình'!$E$6:$E$35))
B28: =IF('Cấu hình'!$I$14="","",'Cấu hình'!$I$14) | E28: =IF('Cấu hình'!$I$14="","",COUNTIF('Danh mục công việc'!$C$7:$C$66,'Cấu hình'!$I$14)) | F28: =IF('Cấu hình'!$I$14="","",SUMIFS('Danh mục công việc'!$H$7:$H$66,'Danh mục công việc'!$C$7:$C$66,'Cấu hình'!$I$14)) | H28: =IF('Cấu hình'!$I$14="","",IF('Danh mục công việc'!$H$67=0,0,F28/'Danh mục công việc'!$H$67)) | I28: =IF(OR('Cấu hình'!$I$14="",N(E28)=0),"",MINIFS('Danh mục công việc'!$R$7:$R$66,'Danh mục công việc'!$C$7:$C$66,'Cấu hình'!$I$14)) | K28: =IF(OR('Cấu hình'!$I$14="",N(E28)=0),"",MAXIFS('Danh mục công việc'!$S$7:$S$66,'Danh mục công việc'!$C$7:$C$66,'Cấu hình'!$I$14)) | M28: =IF(I28="","",_xlfn.NETWORKDAYS.INTL(I28,K28,'Cấu hình'!$C$17,'Cấu hình'!$E$6:$E$35))
B29: =IF('Cấu hình'!$I$15="","",'Cấu hình'!$I$15) | E29: =IF('Cấu hình'!$I$15="","",COUNTIF('Danh mục công việc'!$C$7:$C$66,'Cấu hình'!$I$15)) | F29: =IF('Cấu hình'!$I$15="","",SUMIFS('Danh mục công việc'!$H$7:$H$66,'Danh mục công việc'!$C$7:$C$66,'Cấu hình'!$I$15)) | H29: =IF('Cấu hình'!$I$15="","",IF('Danh mục công việc'!$H$67=0,0,F29/'Danh mục công việc'!$H$67)) | I29: =IF(OR('Cấu hình'!$I$15="",N(E29)=0),"",MINIFS('Danh mục công việc'!$R$7:$R$66,'Danh mục công việc'!$C$7:$C$66,'Cấu hình'!$I$15)) | K29: =IF(OR('Cấu hình'!$I$15="",N(E29)=0),"",MAXIFS('Danh mục công việc'!$S$7:$S$66,'Danh mục công việc'!$C$7:$C$66,'Cấu hình'!$I$15)) | M29: =IF(I29="","",_xlfn.NETWORKDAYS.INTL(I29,K29,'Cấu hình'!$C$17,'Cấu hình'!$E$6:$E$35))
B30: TỔNG CỘNG | E30: =SUM(E20:E29) -> 26 | F30: =SUM(F20:F29) -> 37126000000 | H30: =SUM(H20:H29) -> 1
B32: CÔNG VIỆC TRÊN ĐƯỜNG GĂNG (theo thứ tự thi công)
B33: Mã CV | C33: Công việc | H33: Bắt đầu | J33: Kết thúc | L33: Số ngày | M33: Nhân lực
B34: {=IFERROR(INDEX('Danh mục công việc'!$B$7:$B$66,MATCH(1,'Danh mục công việc'!$AH$7:$AH$66,0)),"")} -> A01 | C34: {=IFERROR(INDEX('Danh mục công việc'!$D$7:$D$66,MATCH(1,'Danh mục công việc'!$AH$7:$AH$66,0)),"")} -> Giải phóng mặt bằng, dựng lán trại, hàng rào | H34: {=IFERROR(INDEX('Danh mục công việc'!$R$7:$R$66,MATCH(1,'Danh mục công việc'!$AH$7:$AH$66,0)),"")} -> 46328 | J34: {=IFERROR(INDEX('Danh mục công việc'!$S$7:$S$66,MATCH(1,'Danh mục công việc'!$AH$7:$AH$66,0)),"")} -> 46332 | L34: {=IFERROR(INDEX('Danh mục công việc'!$M$7:$M$66,MATCH(1,'Danh mục công việc'!$AH$7:$AH$66,0)),"")} -> 5 | M34: {=IFERROR(INDEX('Danh mục công việc'!$X$7:$X$66,MATCH(1,'Danh mục công việc'!$AH$7:$AH$66,0)),"")} -> 15
B35: {=IFERROR(INDEX('Danh mục công việc'!$B$7:$B$66,MATCH(2,'Danh mục công việc'!$AH$7:$AH$66,0)),"")} -> A02 | C35: {=IFERROR(INDEX('Danh mục công việc'!$D$7:$D$66,MATCH(2,'Danh mục công việc'!$AH$7:$AH$66,0)),"")} -> Cấp điện nước tạm, đường công vụ | H35: {=IFERROR(INDEX('Danh mục công việc'!$R$7:$R$66,MATCH(2,'Danh mục công việc'!$AH$7:$AH$66,0)),"")} -> 46335 | J35: {=IFERROR(INDEX('Danh mục công việc'!$S$7:$S$66,MATCH(2,'Danh mục công việc'!$AH$7:$AH$66,0)),"")} -> 46339 | L35: {=IFERROR(INDEX('Danh mục công việc'!$M$7:$M$66,MATCH(2,'Danh mục công việc'!$AH$7:$AH$66,0)),"")} -> 5 | M35: {=IFERROR(INDEX('Danh mục công việc'!$X$7:$X$66,MATCH(2,'Danh mục công việc'!$AH$7:$AH$66,0)),"")} -> 6
B36: {=IFERROR(INDEX('Danh mục công việc'!$B$7:$B$66,MATCH(3,'Danh mục công việc'!$AH$7:$AH$66,0)),"")} -> B01 | C36: {=IFERROR(INDEX('Danh mục công việc'!$D$7:$D$66,MATCH(3,'Danh mục công việc'!$AH$7:$AH$66,0)),"")} -> Đào đất hố móng, vận chuyển đất thải | H36: {=IFERROR(INDEX('Danh mục công việc'!$R$7:$R$66,MATCH(3,'Danh mục công việc'!$AH$7:$AH$66,0)),"")} -> 46342 | J36: {=IFERROR(INDEX('Danh mục công việc'!$S$7:$S$66,MATCH(3,'Danh mục công việc'!$AH$7:$AH$66,0)),"")} -> 46345 | L36: {=IFERROR(INDEX('Danh mục công việc'!$M$7:$M$66,MATCH(3,'Danh mục công việc'!$AH$7:$AH$66,0)),"")} -> 4 | M36: {=IFERROR(INDEX('Danh mục công việc'!$X$7:$X$66,MATCH(3,'Danh mục công việc'!$AH$7:$AH$66,0)),"")} -> 6
B37: {=IFERROR(INDEX('Danh mục công việc'!$B$7:$B$66,MATCH(4,'Danh mục công việc'!$AH$7:$AH$66,0)),"")} -> B02 | C37: {=IFERROR(INDEX('Danh mục công việc'!$D$7:$D$66,MATCH(4,'Danh mục công việc'!$AH$7:$AH$66,0)),"")} -> Bê tông lót móng | H37: {=IFERROR(INDEX('Danh mục công việc'!$R$7:$R$66,MATCH(4,'Danh mục công việc'!$AH$7:$AH$66,0)),"")} -> 46346 | J37: {=IFERROR(INDEX('Danh mục công việc'!$S$7:$S$66,MATCH(4,'Danh mục công việc'!$AH$7:$AH$66,0)),"")} -> 46352 | L37: {=IFERROR(INDEX('Danh mục công việc'!$M$7:$M$66,MATCH(4,'Danh mục công việc'!$AH$7:$AH$66,0)),"")} -> 5 | M37: {=IFERROR(INDEX('Danh mục công việc'!$X$7:$X$66,MATCH(4,'Danh mục công việc'!$AH$7:$AH$66,0)),"")} -> 10
B38: {=IFERROR(INDEX('Danh mục công việc'!$B$7:$B$66,MATCH(5,'Danh mục công việc'!$AH$7:$AH$66,0)),"")} -> B03 | C38: {=IFERROR(INDEX('Danh mục công việc'!$D$7:$D$66,MATCH(5,'Danh mục công việc'!$AH$7:$AH$66,0)),"")} -> Gia công, lắp dựng cốt thép móng | H38: {=IFERROR(INDEX('Danh mục công việc'!$R$7:$R$66,MATCH(5,'Danh mục công việc'!$AH$7:$AH$66,0)),"")} -> 46353 | J38: {=IFERROR(INDEX('Danh mục công việc'!$S$7:$S$66,MATCH(5,'Danh mục công việc'!$AH$7:$AH$66,0)),"")} -> 46366 | L38: {=IFERROR(INDEX('Danh mục công việc'!$M$7:$M$66,MATCH(5,'Danh mục công việc'!$AH$7:$AH$66,0)),"")} -> 10 | M38: {=IFERROR(INDEX('Danh mục công việc'!$X$7:$X$66,MATCH(5,'Danh mục công việc'!$AH$7:$AH$66,0)),"")} -> 24
B39: {=IFERROR(INDEX('Danh mục công việc'!$B$7:$B$66,MATCH(6,'Danh mục công việc'!$AH$7:$AH$66,0)),"")} -> B05 | C39: {=IFERROR(INDEX('Danh mục công việc'!$D$7:$D$66,MATCH(6,'Danh mục công việc'!$AH$7:$AH$66,0)),"")} -> Đổ bê tông móng | H39: {=IFERROR(INDEX('Danh mục công việc'!$R$7:$R$66,MATCH(6,'Danh mục công việc'!$AH$7:$AH$66,0)),"")} -> 46367 | J39: {=IFERROR(INDEX('Danh mục công việc'!$S$7:$S$66,MATCH(6,'Danh mục công việc'!$AH$7:$AH$66,0)),"")} -> 46378 | L39: {=IFERROR(INDEX('Danh mục công việc'!$M$7:$M$66,MATCH(6,'Danh mục công việc'!$AH$7:$AH$66,0)),"")} -> 8 | M39: {=IFERROR(INDEX('Danh mục công việc'!$X$7:$X$66,MATCH(6,'Danh mục công việc'!$AH$7:$AH$66,0)),"")} -> 15
B40: {=IFERROR(INDEX('Danh mục công việc'!$B$7:$B$66,MATCH(7,'Danh mục công việc'!$AH$7:$AH$66,0)),"")} -> B06 | C40: {=IFERROR(INDEX('Danh mục công việc'!$D$7:$D$66,MATCH(7,'Danh mục công việc'!$AH$7:$AH$66,0)),"")} -> Lấp đất, hoàn trả mặt bằng sau móng | H40: {=IFERROR(INDEX('Danh mục công việc'!$R$7:$R$66,MATCH(7,'Danh mục công việc'!$AH$7:$AH$66,0)),"")} -> 46384 | J40: {=IFERROR(INDEX('Danh mục công việc'!$S$7:$S$66,MATCH(7,'Danh mục công việc'!$AH$7:$AH$66,0)),"")} -> 46392 | L40: {=IFERROR(INDEX('Danh mục công việc'!$M$7:$M$66,MATCH(7,'Danh mục công việc'!$AH$7:$AH$66,0)),"")} -> 6 | M40: {=IFERROR(INDEX('Danh mục công việc'!$X$7:$X$66,MATCH(7,'Danh mục công việc'!$AH$7:$AH$66,0)),"")} -> 6
B41: {=IFERROR(INDEX('Danh mục công việc'!$B$7:$B$66,MATCH(8,'Danh mục công việc'!$AH$7:$AH$66,0)),"")} -> C01 | C41: {=IFERROR(INDEX('Danh mục công việc'!$D$7:$D$66,MATCH(8,'Danh mục công việc'!$AH$7:$AH$66,0)),"")} -> Kết cấu thân tầng 1–2 (cốp pha, cốt thép, bê tông) | H41: {=IFERROR(INDEX('Danh mục công việc'!$R$7:$R$66,MATCH(8,'Danh mục công việc'!$AH$7:$AH$66,0)),"")} -> 46393 | J41: {=IFERROR(INDEX('Danh mục công việc'!$S$7:$S$66,MATCH(8,'Danh mục công việc'!$AH$7:$AH$66,0)),"")} -> 46413 | L41: {=IFERROR(INDEX('Danh mục công việc'!$M$7:$M$66,MATCH(8,'Danh mục công việc'!$AH$7:$AH$66,0)),"")} -> 15 | M41: {=IFERROR(INDEX('Danh mục công việc'!$X$7:$X$66,MATCH(8,'Danh mục công việc'!$AH$7:$AH$66,0)),"")} -> 40
B42: {=IFERROR(INDEX('Danh mục công việc'!$B$7:$B$66,MATCH(9,'Danh mục công việc'!$AH$7:$AH$66,0)),"")} -> C02 | C42: {=IFERROR(INDEX('Danh mục công việc'!$D$7:$D$66,MATCH(9,'Danh mục công việc'!$AH$7:$AH$66,0)),"")} -> Kết cấu thân tầng 3–4 | H42: {=IFERROR(INDEX('Danh mục công việc'!$R$7:$R$66,MATCH(9,'Danh mục công việc'!$AH$7:$AH$66,0)),"")} -> 46414 | J42: {=IFERROR(INDEX('Danh mục công việc'!$S$7:$S$66,MATCH(9,'Danh mục công việc'!$AH$7:$AH$66,0)),"")} -> 46441 | L42: {=IFERROR(INDEX('Danh mục công việc'!$M$7:$M$66,MATCH(9,'Danh mục công việc'!$AH$7:$AH$66,0)),"")} -> 15 | M42: {=IFERROR(INDEX('Danh mục công việc'!$X$7:$X$66,MATCH(9,'Danh mục công việc'!$AH$7:$AH$66,0)),"")} -> 40
B43: {=IFERROR(INDEX('Danh mục công việc'!$B$7:$B$66,MATCH(10,'Danh mục công việc'!$AH$7:$AH$66,0)),"")} -> D01 | C43: {=IFERROR(INDEX('Danh mục công việc'!$D$7:$D$66,MATCH(10,'Danh mục công việc'!$AH$7:$AH$66,0)),"")} -> Xây tường tầng 1–4 | H43: {=IFERROR(INDEX('Danh mục công việc'!$R$7:$R$66,MATCH(10,'Danh mục công việc'!$AH$7:$AH$66,0)),"")} -> 46449 | J43: {=IFERROR(INDEX('Danh mục công việc'!$S$7:$S$66,MATCH(10,'Danh mục công việc'!$AH$7:$AH$66,0)),"")} -> 46506 | L43: {=IFERROR(INDEX('Danh mục công việc'!$M$7:$M$66,MATCH(10,'Danh mục công việc'!$AH$7:$AH$66,0)),"")} -> 42 | M43: {=IFERROR(INDEX('Danh mục công việc'!$X$7:$X$66,MATCH(10,'Danh mục công việc'!$AH$7:$AH$66,0)),"")} -> 24
B44: {=IFERROR(INDEX('Danh mục công việc'!$B$7:$B$66,MATCH(11,'Danh mục công việc'!$AH$7:$AH$66,0)),"")} -> D02 | C44: {=IFERROR(INDEX('Danh mục công việc'!$D$7:$D$66,MATCH(11,'Danh mục công việc'!$AH$7:$AH$66,0)),"")} -> Xây tường tầng 5–8 | H44: {=IFERROR(INDEX('Danh mục công việc'!$R$7:$R$66,MATCH(11,'Danh mục công việc'!$AH$7:$AH$66,0)),"")} -> 46513 | J44: {=IFERROR(INDEX('Danh mục công việc'!$S$7:$S$66,MATCH(11,'Danh mục công việc'!$AH$7:$AH$66,0)),"")} -> 46566 | L44: {=IFERROR(INDEX('Danh mục công việc'!$M$7:$M$66,MATCH(11,'Danh mục công việc'!$AH$7:$AH$66,0)),"")} -> 38 | M44: {=IFERROR(INDEX('Danh mục công việc'!$X$7:$X$66,MATCH(11,'Danh mục công việc'!$AH$7:$AH$66,0)),"")} -> 24
B45: {=IFERROR(INDEX('Danh mục công việc'!$B$7:$B$66,MATCH(12,'Danh mục công việc'!$AH$7:$AH$66,0)),"")} -> D05 | C45: {=IFERROR(INDEX('Danh mục công việc'!$D$7:$D$66,MATCH(12,'Danh mục công việc'!$AH$7:$AH$66,0)),"")} -> Trát tường trong và ngoài nhà | H45: {=IFERROR(INDEX('Danh mục công việc'!$R$7:$R$66,MATCH(12,'Danh mục công việc'!$AH$7:$AH$66,0)),"")} -> 46553 | J45: {=IFERROR(INDEX('Danh mục công việc'!$S$7:$S$66,MATCH(12,'Danh mục công việc'!$AH$7:$AH$66,0)),"")} -> 46622 | L45: {=IFERROR(INDEX('Danh mục công việc'!$M$7:$M$66,MATCH(12,'Danh mục công việc'!$AH$7:$AH$66,0)),"")} -> 50 | M45: {=IFERROR(INDEX('Danh mục công việc'!$X$7:$X$66,MATCH(12,'Danh mục công việc'!$AH$7:$AH$66,0)),"")} -> 40
B46: {=IFERROR(INDEX('Danh mục công việc'!$B$7:$B$66,MATCH(13,'Danh mục công việc'!$AH$7:$AH$66,0)),"")} -> E02 | C46: {=IFERROR(INDEX('Danh mục công việc'!$D$7:$D$66,MATCH(13,'Danh mục công việc'!$AH$7:$AH$66,0)),"")} -> Bả, sơn tường và trần | H46: {=IFERROR(INDEX('Danh mục công việc'!$R$7:$R$66,MATCH(13,'Danh mục công việc'!$AH$7:$AH$66,0)),"")} -> 46630 | J46: {=IFERROR(INDEX('Danh mục công việc'!$S$7:$S$66,MATCH(13,'Danh mục công việc'!$AH$7:$AH$66,0)),"")} -> 46699 | L46: {=IFERROR(INDEX('Danh mục công việc'!$M$7:$M$66,MATCH(13,'Danh mục công việc'!$AH$7:$AH$66,0)),"")} -> 50 | M46: {=IFERROR(INDEX('Danh mục công việc'!$X$7:$X$66,MATCH(13,'Danh mục công việc'!$AH$7:$AH$66,0)),"")} -> 20
B47: {=IFERROR(INDEX('Danh mục công việc'!$B$7:$B$66,MATCH(14,'Danh mục công việc'!$AH$7:$AH$66,0)),"")} -> E03 | C47: {=IFERROR(INDEX('Danh mục công việc'!$D$7:$D$66,MATCH(14,'Danh mục công việc'!$AH$7:$AH$66,0)),"")} -> Lắp cửa nhôm kính | H47: {=IFERROR(INDEX('Danh mục công việc'!$R$7:$R$66,MATCH(14,'Danh mục công việc'!$AH$7:$AH$66,0)),"")} -> 46651 | J47: {=IFERROR(INDEX('Danh mục công việc'!$S$7:$S$66,MATCH(14,'Danh mục công việc'!$AH$7:$AH$66,0)),"")} -> 46679 | L47: {=IFERROR(INDEX('Danh mục công việc'!$M$7:$M$66,MATCH(14,'Danh mục công việc'!$AH$7:$AH$66,0)),"")} -> 21 | M47: {=IFERROR(INDEX('Danh mục công việc'!$X$7:$X$66,MATCH(14,'Danh mục công việc'!$AH$7:$AH$66,0)),"")} -> 16
B48: {=IFERROR(INDEX('Danh mục công việc'!$B$7:$B$66,MATCH(15,'Danh mục công việc'!$AH$7:$AH$66,0)),"")} -> E05 | C48: {=IFERROR(INDEX('Danh mục công việc'!$D$7:$D$66,MATCH(15,'Danh mục công việc'!$AH$7:$AH$66,0)),"")} -> Lắp thiết bị điện, thiết bị vệ sinh | H48: {=IFERROR(INDEX('Danh mục công việc'!$R$7:$R$66,MATCH(15,'Danh mục công việc'!$AH$7:$AH$66,0)),"")} -> 46686 | J48: {=IFERROR(INDEX('Danh mục công việc'!$S$7:$S$66,MATCH(15,'Danh mục công việc'!$AH$7:$AH$66,0)),"")} -> 46703 | L48: {=IFERROR(INDEX('Danh mục công việc'!$M$7:$M$66,MATCH(15,'Danh mục công việc'!$AH$7:$AH$66,0)),"")} -> 14 | M48: {=IFERROR(INDEX('Danh mục công việc'!$X$7:$X$66,MATCH(15,'Danh mục công việc'!$AH$7:$AH$66,0)),"")} -> 10
B49: Hiển thị tối đa 15 công việc găng đầu tiên. Danh sách đầy đủ ở cột 'Đường găng' của sheet 'Danh mục công việc'.
B51: BIỂU ĐỒ

Sheet Cấu hình
B2: THÔNG TIN & CẤU HÌNH KẾ HOẠCH THI CÔNG
B3: Điền vào các ô nền cam nhạt. Mọi sheet khác tự cập nhật theo các thông số tại đây.
E4: 4. Ngày nghỉ lễ / nghỉ đặc biệt | H4: 5. Danh mục giai đoạn
B5: 1. Thông tin dự án | E5: Ngày | F5: Tên ngày nghỉ | H5: Mã | I5: Tên giai đoạn
B6: Tên dự án / công trình | C6: Tòa nhà văn phòng ABC – 8 tầng (dữ liệu mẫu) | E6: 46388 | F6: Tết Dương lịch (ví dụ) | H6: A | I6: Chuẩn bị mặt bằng
B7: Địa điểm xây dựng | C7: Hà Nội (ví dụ) | E7: 46422 | F7: Nghỉ Tết Nguyên đán (ví dụ) | H7: B | I7: Phần ngầm – móng
B8: Chủ đầu tư | C8: Công ty CP Đầu tư ABC | E8: 46423 | F8: Nghỉ Tết Nguyên đán (ví dụ) | H8: C | I8: Phần thân – kết cấu
B9: Nhà thầu thi công | C9: Công ty TNHH Xây dựng XYZ | E9: 46426 | F9: Nghỉ Tết Nguyên đán (ví dụ) | H9: D | I9: Hoàn thiện thô (xây, MEP)
B10: Chỉ huy trưởng công trường | C10: Nguyễn Văn An | E10: 46427 | F10: Nghỉ Tết Nguyên đán (ví dụ) | H10: E | I10: Hoàn thiện
B11: Người lập kế hoạch | C11: Trần Thị Bình | E11: 46428 | F11: Nghỉ Tết Nguyên đán (ví dụ) | H11: F | I11: Hạ tầng và bàn giao
E12: 46507 | F12: Giải phóng miền Nam (ví dụ)
B13: 2. Mốc thời gian & lịch làm việc
B14: Ngày lập kế hoạch | C14: 46323
B15: Ngày khởi công | C15: 46328
B16: Ngày hoàn thành theo hợp đồng | C16: 46752
B17: Ngày nghỉ cuối tuần (mã 1 hoặc 11) | C17: 1
B18: Mã 1 = nghỉ Thứ Bảy và Chủ Nhật. Mã 11 = chỉ nghỉ Chủ Nhật. Ngày nghỉ lễ nhập ở cột bên phải.
B20: 3. Hướng dẫn sử dụng
B21: Bước 1: Điền các mục ở sheet này (ngày khởi công, lịch nghỉ, danh mục giai đoạn).
B22: Bước 2: Sheet 'Danh mục công việc' – nhập mã, tên, khối lượng, đơn giá, năng suất, số tổ, công nhân và công việc trước. Số ngày, ngày bắt đầu/kết thúc, dự trữ thời gian và đường găng tự tính.
B23: Bước 3: Xem 'Gantt' (biểu đồ tiến độ), 'Nhân lực - Vốn' (biểu đồ nhân lực, đường cong S) và 'Vật tư' (ngày phải đặt hàng).
B24: Bước 4: 'Tổng hợp' cho biết ngày hoàn thành dự kiến, so sánh với hợp đồng, các công việc găng và các lỗi liên kết cần sửa.
B25: Quy tắc: công việc trước phải nằm phía trên công việc sau; mã công việc không trùng nhau. Độ trễ dương = chờ thêm (ví dụ bảo dưỡng bê tông), âm = cho phép làm chồng lên.
B26: Cách tính: số ngày = khối lượng ÷ (năng suất × số tổ), làm tròn lên (hoặc nhập tay). Giá trị mỗi công việc được phân bổ đều theo ngày lịch trong thời gian thi công. Quan hệ liên kết là Kết thúc – Bắt đầu.
B27: Dữ liệu hiện tại là dữ liệu mẫu (công trình giả định, ngày nghỉ lễ chỉ là ví dụ). Hãy xóa các ô nền cam nhạt và nhập dữ liệu thật; ô nền xám là công thức, không nhập đè.

Sheet Danh mục công việc
A2: DANH MỤC CÔNG VIỆC & LẬP TIẾN ĐỘ TỰ ĐỘNG
A3: ="Công trình: "&IF('Cấu hình'!C6="","(chưa nhập)",'Cấu hình'!C6) -> Công trình: Tòa nhà văn phòng ABC – 8 tầng (dữ liệu mẫu)
P4: Hoàn thành dự kiến: | S4: =MAX(S7:S66) -> 46728
A5: THÔNG TIN CÔNG VIỆC | E5: KHỐI LƯỢNG & GIÁ TRỊ | I5: NĂNG SUẤT & THỜI GIAN | N5: LIÊN KẾT & RÀNG BUỘC | R5: LỊCH TỰ ĐỘNG & ĐƯỜNG GĂNG | X5: NGUỒN LỰC & GHI CHÚ | AC5: CỘT PHỤ TRỢ (KHÔNG CHỈNH SỬA)
A6: STT | B6: Mã CV | C6: Giai đoạn | D6: Tên công việc | E6: ĐVT | F6: Khối lượng | G6: Đơn giá (VNĐ) | H6: Thành tiền (VNĐ) | I6: Năng suất / tổ / ngày | J6: Số tổ / máy | K6: Công nhân / tổ | L6: Số ngày nhập tay (tùy chọn) | M6: Số ngày thi công | N6: CV trước 1 | O6: CV trước 2 | P6: Độ trễ (ngày LV) | Q6: Bắt đầu không sớm hơn | R6: Bắt đầu sớm nhất | S6: Kết thúc sớm nhất | T6: Kết thúc muộn nhất | U6: Bắt đầu muộn nhất | V6: Dự trữ (ngày LV) | W6: Đường găng | X6: Nhân lực huy động | Y6: Tổng công (người-ngày) | Z6: Kiểm tra liên kết | AA6: Ghi chú | AC6: Bắt đầu (số) | AD6: Kết thúc (số) | AE6: Giá trị (số) | AF6: Nhân lực (số) | AG6: Hạn kết thúc CV trước | AH6: STT găng
A7: =IF(D7="","",COUNTA($D$7:D7)) -> 1 | B7: A01 | C7: Chuẩn bị mặt bằng | D7: Giải phóng mặt bằng, dựng lán trại, hàng rào | E7: m2 | F7: 2500 | G7: 90000 | H7: =IF(D7="","",F7*G7) -> 225000000 | I7: 500 | J7: 1 | K7: 15 | M7: =IF(D7="","",IF(L7<>"",L7,IF(I7*J7>0,MAX(1,ROUNDUP(F7/(I7*J7),0)),1))) -> 5 | R7: {=IF(D7="","",_xlfn.WORKDAY.INTL(MAX('Cấu hình'!$C$15,N(Q7),IF(N7="",0,IFERROR(_xlfn.WORKDAY.INTL(INDEX($S$6:S6,MATCH(N7,$B$6:B6,0)),1+P7,'Cấu hình'!$C$17,'Cấu hình'!$E$6:$E$35),0)),IF(O7="",0,IFERROR(_xlfn.WORKDAY.INTL(INDEX($S$6:S6,MATCH(O7,$B$6:B6,0)),1+P7,'Cấu hình'!$C$17,'Cấu hình'!$E$6:$E$35),0)))-1,1,'Cấu hình'!$C$17,'Cấu hình'!$E$6:$E$35))} -> 46328 | S7: =IF(D7="","",_xlfn.WORKDAY.INTL(R7,M7-1,'Cấu hình'!$C$17,'Cấu hình'!$E$6:$E$35)) -> 46332 | T7: =IF(D7="","",MIN($S$4,IF(B7="",$S$4,MIN(IF(COUNTIF(N8:N$67,B7)>0,MINIFS(AG8:AG$67,N8:N$67,B7),$S$4),IF(COUNTIF(O8:O$67,B7)>0,MINIFS(AG8:AG$67,O8:O$67,B7),$S$4))))) -> 46332 | U7: =IF(D7="","",_xlfn.WORKDAY.INTL(T7,-(M7-1),'Cấu hình'!$C$17,'Cấu hình'!$E$6:$E$35)) -> 46328 | V7: =IF(D7="","",_xlfn.NETWORKDAYS.INTL(S7,T7,'Cấu hình'!$C$17,'Cấu hình'!$E$6:$E$35)-1) -> 0 | W7: =IF(D7="","",IF(V7<=0,"Găng","")) -> Găng | X7: =IF(D7="","",J7*K7) -> 15 | Y7: =IF(D7="","",M7*J7*K7) -> 75 | Z7: =IF(D7="","",IF(OR(AND(N7<>"",IFERROR(MATCH(N7,$B$6:B6,0),0)=0),AND(O7<>"",IFERROR(MATCH(O7,$B$6:B6,0),0)=0)),"Kiểm tra mã CV trước","")) | AC7: =IF(D7="",0,R7) -> 46328 | AD7: =IF(D7="",0,S7) -> 46332 | AE7: =IF(D7="",0,H7) -> 225000000 | AF7: =IF(D7="",0,X7) -> 15 | AG7: =IF(D7="","",_xlfn.WORKDAY.INTL(U7,-(1+P7),'Cấu hình'!$C$17,'Cấu hình'!$E$6:$E$35)) -> 46325 | AH7: =IF(W7="Găng",COUNTIF(W$7:W7,"Găng"),"") -> 1
A8: =IF(D8="","",COUNTA($D$7:D8)) -> 2 | B8: A02 | C8: Chuẩn bị mặt bằng | D8: Cấp điện nước tạm, đường công vụ | E8: trọn gói | F8: 1 | G8: 85000000 | H8: =IF(D8="","",F8*G8) -> 85000000 | J8: 1 | K8: 6 | L8: 5 | M8: =IF(D8="","",IF(L8<>"",L8,IF(I8*J8>0,MAX(1,ROUNDUP(F8/(I8*J8),0)),1))) -> 5 | N8: A01 | R8: {=IF(D8="","",_xlfn.WORKDAY.INTL(MAX('Cấu hình'!$C$15,N(Q8),IF(N8="",0,IFERROR(_xlfn.WORKDAY.INTL(INDEX($S$6:S7,MATCH(N8,$B$6:B7,0)),1+P8,'Cấu hình'!$C$17,'Cấu hình'!$E$6:$E$35),0)),IF(O8="",0,IFERROR(_xlfn.WORKDAY.INTL(INDEX($S$6:S7,MATCH(O8,$B$6:B7,0)),1+P8,'Cấu hình'!$C$17,'Cấu hình'!$E$6:$E$35),0)))-1,1,'Cấu hình'!$C$17,'Cấu hình'!$E$6:$E$35))} -> 46335 | S8: =IF(D8="","",_xlfn.WORKDAY.INTL(R8,M8-1,'Cấu hình'!$C$17,'Cấu hình'!$E$6:$E$35)) -> 46339 | T8: =IF(D8="","",MIN($S$4,IF(B8="",$S$4,MIN(IF(COUNTIF(N9:N$67,B8)>0,MINIFS(AG9:AG$67,N9:N$67,B8),$S$4),IF(COUNTIF(O9:O$67,B8)>0,MINIFS(AG9:AG$67,O9:O$67,B8),$S$4))))) -> 46339 | U8: =IF(D8="","",_xlfn.WORKDAY.INTL(T8,-(M8-1),'Cấu hình'!$C$17,'Cấu hình'!$E$6:$E$35)) -> 46335 | V8: =IF(D8="","",_xlfn.NETWORKDAYS.INTL(S8,T8,'Cấu hình'!$C$17,'Cấu hình'!$E$6:$E$35)-1) -> 0 | W8: =IF(D8="","",IF(V8<=0,"Găng","")) -> Găng | X8: =IF(D8="","",J8*K8) -> 6 | Y8: =IF(D8="","",M8*J8*K8) -> 30 | Z8: =IF(D8="","",IF(OR(AND(N8<>"",IFERROR(MATCH(N8,$B$6:B7,0),0)=0),AND(O8<>"",IFERROR(MATCH(O8,$B$6:B7,0),0)=0)),"Kiểm tra mã CV trước","")) | AC8: =IF(D8="",0,R8) -> 46335 | AD8: =IF(D8="",0,S8) -> 46339 | AE8: =IF(D8="",0,H8) -> 85000000 | AF8: =IF(D8="",0,X8) -> 6 | AG8: =IF(D8="","",_xlfn.WORKDAY.INTL(U8,-(1+P8),'Cấu hình'!$C$17,'Cấu hình'!$E$6:$E$35)) -> 46332 | AH8: =IF(W8="Găng",COUNTIF(W$7:W8,"Găng"),"") -> 2
A9: =IF(D9="","",COUNTA($D$7:D9)) -> 3 | B9: B01 | C9: Phần ngầm – móng | D9: Đào đất hố móng, vận chuyển đất thải | E9: m3 | F9: 3200 | G9: 200000 | H9: =IF(D9="","",F9*G9) -> 640000000 | I9: 400 | J9: 2 | K9: 3 | M9: =IF(D9="","",IF(L9<>"",L9,IF(I9*J9>0,MAX(1,ROUNDUP(F9/(I9*J9),0)),1))) -> 4 | N9: A02 | R9: {=IF(D9="","",_xlfn.WORKDAY.INTL(MAX('Cấu hình'!$C$15,N(Q9),IF(N9="",0,IFERROR(_xlfn.WORKDAY.INTL(INDEX($S$6:S8,MATCH(N9,$B$6:B8,0)),1+P9,'Cấu hình'!$C$17,'Cấu hình'!$E$6:$E$35),0)),IF(O9="",0,IFERROR(_xlfn.WORKDAY.INTL(INDEX($S$6:S8,MATCH(O9,$B$6:B8,0)),1+P9,'Cấu hình'!$C$17,'Cấu hình'!$E$6:$E$35),0)))-1,1,'Cấu hình'!$C$17,'Cấu hình'!$E$6:$E$35))} -> 46342 | S9: =IF(D9="","",_xlfn.WORKDAY.INTL(R9,M9-1,'Cấu hình'!$C$17,'Cấu hình'!$E$6:$E$35)) -> 46345 | T9: =IF(D9="","",MIN($S$4,IF(B9="",$S$4,MIN(IF(COUNTIF(N10:N$67,B9)>0,MINIFS(AG10:AG$67,N10:N$67,B9),$S$4),IF(COUNTIF(O10:O$67,B9)>0,MINIFS(AG10:AG$67,O10:O$67,B9),$S$4))))) -> 46345 | U9: =IF(D9="","",_xlfn.WORKDAY.INTL(T9,-(M9-1),'Cấu hình'!$C$17,'Cấu hình'!$E$6:$E$35)) -> 46342 | V9: =IF(D9="","",_xlfn.NETWORKDAYS.INTL(S9,T9,'Cấu hình'!$C$17,'Cấu hình'!$E$6:$E$35)-1) -> 0 | W9: =IF(D9="","",IF(V9<=0,"Găng","")) -> Găng | X9: =IF(D9="","",J9*K9) -> 6 | Y9: =IF(D9="","",M9*J9*K9) -> 24 | Z9: =IF(D9="","",IF(OR(AND(N9<>"",IFERROR(MATCH(N9,$B$6:B8,0),0)=0),AND(O9<>"",IFERROR(MATCH(O9,$B$6:B8,0),0)=0)),"Kiểm tra mã CV trước","")) | AC9: =IF(D9="",0,R9) -> 46342 | AD9: =IF(D9="",0,S9) -> 46345 | AE9: =IF(D9="",0,H9) -> 640000000 | AF9: =IF(D9="",0,X9) -> 6 | AG9: =IF(D9="","",_xlfn.WORKDAY.INTL(U9,-(1+P9),'Cấu hình'!$C$17,'Cấu hình'!$E$6:$E$35)) -> 46339 | AH9: =IF(W9="Găng",COUNTIF(W$7:W9,"Găng"),"") -> 3
A10: =IF(D10="","",COUNTA($D$7:D10)) -> 4 | B10: B02 | C10: Phần ngầm – móng | D10: Bê tông lót móng | E10: m3 | F10: 180 | G10: 1800000 | H10: =IF(D10="","",F10*G10) -> 324000000 | I10: 40 | J10: 1 | K10: 10 | M10: =IF(D10="","",IF(L10<>"",L10,IF(I10*J10>0,MAX(1,ROUNDUP(F10/(I10*J10),0)),1))) -> 5 | N10: B01 | R10: {=IF(D10="","",_xlfn.WORKDAY.INTL(MAX('Cấu hình'!$C$15,N(Q10),IF(N10="",0,IFERROR(_xlfn.WORKDAY.INTL(INDEX($S$6:S9,MATCH(N10,$B$6:B9,0)),1+P10,'Cấu hình'!$C$17,'Cấu hình'!$E$6:$E$35),0)),IF(O10="",0,IFERROR(_xlfn.WORKDAY.INTL(INDEX($S$6:S9,MATCH(O10,$B$6:B9,0)),1+P10,'Cấu hình'!$C$17,'Cấu hình'!$E$6:$E$35),0)))-1,1,'Cấu hình'!$C$17,'Cấu hình'!$E$6:$E$35))} -> 46346 | S10: =IF(D10="","",_xlfn.WORKDAY.INTL(R10,M10-1,'Cấu hình'!$C$17,'Cấu hình'!$E$6:$E$35)) -> 46352 | T10: =IF(D10="","",MIN($S$4,IF(B10="",$S$4,MIN(IF(COUNTIF(N11:N$67,B10)>0,MINIFS(AG11:AG$67,N11:N$67,B10),$S$4),IF(COUNTIF(O11:O$67,B10)>0,MINIFS(AG11:AG$67,O11:O$67,B10),$S$4))))) -> 46352 | U10: =IF(D10="","",_xlfn.WORKDAY.INTL(T10,-(M10-1),'Cấu hình'!$C$17,'Cấu hình'!$E$6:$E$35)) -> 46346 | V10: =IF(D10="","",_xlfn.NETWORKDAYS.INTL(S10,T10,'Cấu hình'!$C$17,'Cấu hình'!$E$6:$E$35)-1) -> 0 | W10: =IF(D10="","",IF(V10<=0,"Găng","")) -> Găng | X10: =IF(D10="","",J10*K10) -> 10 | Y10: =IF(D10="","",M10*J10*K10) -> 50 | Z10: =IF(D10="","",IF(OR(AND(N10<>"",IFERROR(MATCH(N10,$B$6:B9,0),0)=0),AND(O10<>"",IFERROR(MATCH(O10,$B$6:B9,0),0)=0)),"Kiểm tra mã CV trước","")) | AC10: =IF(D10="",0,R10) -> 46346 | AD10: =IF(D10="",0,S10) -> 46352 | AE10: =IF(D10="",0,H10) -> 324000000 | AF10: =IF(D10="",0,X10) -> 10 | AG10: =IF(D10="","",_xlfn.WORKDAY.INTL(U10,-(1+P10),'Cấu hình'!$C$17,'Cấu hình'!$E$6:$E$35)) -> 46345 | AH10: =IF(W10="Găng",COUNTIF(W$7:W10,"Găng"),"") -> 4
A11: =IF(D11="","",COUNTA($D$7:D11)) -> 5 | B11: B03 | C11: Phần ngầm – móng | D11: Gia công, lắp dựng cốt thép móng | E11: tấn | F11: 85 | G11: 18500000 | H11: =IF(D11="","",F11*G11) -> 1572500000 | I11: 3 | J11: 3 | K11: 8 | M11: =IF(D11="","",IF(L11<>"",L11,IF(I11*J11>0,MAX(1,ROUNDUP(F11/(I11*J11),0)),1))) -> 10 | N11: B02 | R11: {=IF(D11="","",_xlfn.WORKDAY.INTL(MAX('Cấu hình'!$C$15,N(Q11),IF(N11="",0,IFERROR(_xlfn.WORKDAY.INTL(INDEX($S$6:S10,MATCH(N11,$B$6:B10,0)),1+P11,'Cấu hình'!$C$17,'Cấu hình'!$E$6:$E$35),0)),IF(O11="",0,IFERROR(_xlfn.WORKDAY.INTL(INDEX($S$6:S10,MATCH(O11,$B$6:B10,0)),1+P11,'Cấu hình'!$C$17,'Cấu hình'!$E$6:$E$35),0)))-1,1,'Cấu hình'!$C$17,'Cấu hình'!$E$6:$E$35))} -> 46353 | S11: =IF(D11="","",_xlfn.WORKDAY.INTL(R11,M11-1,'Cấu hình'!$C$17,'Cấu hình'!$E$6:$E$35)) -> 46366 | T11: =IF(D11="","",MIN($S$4,IF(B11="",$S$4,MIN(IF(COUNTIF(N12:N$67,B11)>0,MINIFS(AG12:AG$67,N12:N$67,B11),$S$4),IF(COUNTIF(O12:O$67,B11)>0,MINIFS(AG12:AG$67,O12:O$67,B11),$S$4))))) -> 46366 | U11: =IF(D11="","",_xlfn.WORKDAY.INTL(T11,-(M11-1),'Cấu hình'!$C$17,'Cấu hình'!$E$6:$E$35)) -> 46353 | V11: =IF(D11="","",_xlfn.NETWORKDAYS.INTL(S11,T11,'Cấu hình'!$C$17,'Cấu hình'!$E$6:$E$35)-1) -> 0 | W11: =IF(D11="","",IF(V11<=0,"Găng","")) -> Găng | X11: =IF(D11="","",J11*K11) -> 24 | Y11: =IF(D11="","",M11*J11*K11) -> 240 | Z11: =IF(D11="","",IF(OR(AND(N11<>"",IFERROR(MATCH(N11,$B$6:B10,0),0)=0),AND(O11<>"",IFERROR(MATCH(O11,$B$6:B10,0),0)=0)),"Kiểm tra mã CV trước","")) | AC11: =IF(D11="",0,R11) -> 46353 | AD11: =IF(D11="",0,S11) -> 46366 | AE11: =IF(D11="",0,H11) -> 1572500000 | AF11: =IF(D11="",0,X11) -> 24 | AG11: =IF(D11="","",_xlfn.WORKDAY.INTL(U11,-(1+P11),'Cấu hình'!$C$17,'Cấu hình'!$E$6:$E$35)) -> 46352 | AH11: =IF(W11="Găng",COUNTIF(W$7:W11,"Găng"),"") -> 5
A12: =IF(D12="","",COUNTA($D$7:D12)) -> 6 | B12: B04 | C12: Phần ngầm – móng | D12: Lắp dựng ván khuôn móng | E12: m2 | F12: 1200 | G12: 280000 | H12: =IF(D12="","",F12*G12) -> 336000000 | I12: 60 | J12: 3 | K12: 8 | M12: =IF(D12="","",IF(L12<>"",L12,IF(I12*J12>0,MAX(1,ROUNDUP(F12/(I12*J12),0)),1))) -> 7 | N12: B02 | R12: {=IF(D12="","",_xlfn.WORKDAY.INTL(MAX('Cấu hình'!$C$15,N(Q12),IF(N12="",0,IFERROR(_xlfn.WORKDAY.INTL(INDEX($S$6:S11,MATCH(N12,$B$6:B11,0)),1+P12,'Cấu hình'!$C$17,'Cấu hình'!$E$6:$E$35),0)),IF(O12="",0,IFERROR(_xlfn.WORKDAY.INTL(INDEX($S$6:S11,MATCH(O12,$B$6:B11,0)),1+P12,'Cấu hình'!$C$17,'Cấu hình'!$E$6:$E$35),0)))-1,1,'Cấu hình'!$C$17,'Cấu hình'!$E$6:$E$35))} -> 46353 | S12: =IF(D12="","",_xlfn.WORKDAY.INTL(R12,M12-1,'Cấu hình'!$C$17,'Cấu hình'!$E$6:$E$35)) -> 46363 | T12: =IF(D12="","",MIN($S$4,IF(B12="",$S$4,MIN(IF(COUNTIF(N13:N$67,B12)>0,MINIFS(AG13:AG$67,N13:N$67,B12),$S$4),IF(COUNTIF(O13:O$67,B12)>0,MINIFS(AG13:AG$67,O13:O$67,B12),$S$4))))) -> 46366 | U12: =IF(D12="","",_xlfn.WORKDAY.INTL(T12,-(M12-1),'Cấu hình'!$C$17,'Cấu hình'!$E$6:$E$35)) -> 46358 | V12: =IF(D12="","",_xlfn.NETWORKDAYS.INTL(S12,T12,'Cấu hình'!$C$17,'Cấu hình'!$E$6:$E$35)-1) -> 3 | W12: =IF(D12="","",IF(V12<=0,"Găng","")) | X12: =IF(D12="","",J12*K12) -> 24 | Y12: =IF(D12="","",M12*J12*K12) -> 168 | Z12: =IF(D12="","",IF(OR(AND(N12<>"",IFERROR(MATCH(N12,$B$6:B11,0),0)=0),AND(O12<>"",IFERROR(MATCH(O12,$B$6:B11,0),0)=0)),"Kiểm tra mã CV trước","")) | AC12: =IF(D12="",0,R12) -> 46353 | AD12: =IF(D12="",0,S12) -> 46363 | AE12: =IF(D12="",0,H12) -> 336000000 | AF12: =IF(D12="",0,X12) -> 24 | AG12: =IF(D12="","",_xlfn.WORKDAY.INTL(U12,-(1+P12),'Cấu hình'!$C$17,'Cấu hình'!$E$6:$E$35)) -> 46357 | AH12: =IF(W12="Găng",COUNTIF(W$7:W12,"Găng"),"")
A13: =IF(D13="","",COUNTA($D$7:D13)) -> 7 | B13: B05 | C13: Phần ngầm – móng | D13: Đổ bê tông móng | E13: m3 | F13: 950 | G13: 1950000 | H13: =IF(D13="","",F13*G13) -> 1852500000 | I13: 120 | J13: 1 | K13: 15 | M13: =IF(D13="","",IF(L13<>"",L13,IF(I13*J13>0,MAX(1,ROUNDUP(F13/(I13*J13),0)),1))) -> 8 | N13: B03 | O13: B04 | R13: {=IF(D13="","",_xlfn.WORKDAY.INTL(MAX('Cấu hình'!$C$15,N(Q13),IF(N13="",0,IFERROR(_xlfn.WORKDAY.INTL(INDEX($S$6:S12,MATCH(N13,$B$6:B12,0)),1+P13,'Cấu hình'!$C$17,'Cấu hình'!$E$6:$E$35),0)),IF(O13="",0,IFERROR(_xlfn.WORKDAY.INTL(INDEX($S$6:S12,MATCH(O13,$B$6:B12,0)),1+P13,'Cấu hình'!$C$17,'Cấu hình'!$E$6:$E$35),0)))-1,1,'Cấu hình'!$C$17,'Cấu hình'!$E$6:$E$35))} -> 46367 | S13: =IF(D13="","",_xlfn.WORKDAY.INTL(R13,M13-1,'Cấu hình'!$C$17,'Cấu hình'!$E$6:$E$35)) -> 46378 | T13: =IF(D13="","",MIN($S$4,IF(B13="",$S$4,MIN(IF(COUNTIF(N14:N$67,B13)>0,MINIFS(AG14:AG$67,N14:N$67,B13),$S$4),IF(COUNTIF(O14:O$67,B13)>0,MINIFS(AG14:AG$67,O14:O$67,B13),$S$4))))) -> 46378 | U13: =IF(D13="","",_xlfn.WORKDAY.INTL(T13,-(M13-1),'Cấu hình'!$C$17,'Cấu hình'!$E$6:$E$35)) -> 46367 | V13: =IF(D13="","",_xlfn.NETWORKDAYS.INTL(S13,T13,'Cấu hình'!$C$17,'Cấu hình'!$E$6:$E$35)-1) -> 0 | W13: =IF(D13="","",IF(V13<=0,"Găng","")) -> Găng | X13: =IF(D13="","",J13*K13) -> 15 | Y13: =IF(D13="","",M13*J13*K13) -> 120 | Z13: =IF(D13="","",IF(OR(AND(N13<>"",IFERROR(MATCH(N13,$B$6:B12,0),0)=0),AND(O13<>"",IFERROR(MATCH(O13,$B$6:B12,0),0)=0)),"Kiểm tra mã CV trước","")) | AC13: =IF(D13="",0,R13) -> 46367 | AD13: =IF(D13="",0,S13) -> 46378 | AE13: =IF(D13="",0,H13) -> 1852500000 | AF13: =IF(D13="",0,X13) -> 15 | AG13: =IF(D13="","",_xlfn.WORKDAY.INTL(U13,-(1+P13),'Cấu hình'!$C$17,'Cấu hình'!$E$6:$E$35)) -> 46366 | AH13: =IF(W13="Găng",COUNTIF(W$7:W13,"Găng"),"") -> 6
A14: =IF(D14="","",COUNTA($D$7:D14)) -> 8 | B14: B06 | C14: Phần ngầm – móng | D14: Lấp đất, hoàn trả mặt bằng sau móng | E14: m3 | F14: 1800 | G14: 90000 | H14: =IF(D14="","",F14*G14) -> 162000000 | I14: 300 | J14: 1 | K14: 6 | M14: =IF(D14="","",IF(L14<>"",L14,IF(I14*J14>0,MAX(1,ROUNDUP(F14/(I14*J14),0)),1))) -> 6 | N14: B05 | P14: 3 | R14: {=IF(D14="","",_xlfn.WORKDAY.INTL(MAX('Cấu hình'!$C$15,N(Q14),IF(N14="",0,IFERROR(_xlfn.WORKDAY.INTL(INDEX($S$6:S13,MATCH(N14,$B$6:B13,0)),1+P14,'Cấu hình'!$C$17,'Cấu hình'!$E$6:$E$35),0)),IF(O14="",0,IFERROR(_xlfn.WORKDAY.INTL(INDEX($S$6:S13,MATCH(O14,$B$6:B13,0)),1+P14,'Cấu hình'!$C$17,'Cấu hình'!$E$6:$E$35),0)))-1,1,'Cấu hình'!$C$17,'Cấu hình'!$E$6:$E$35))} -> 46384 | S14: =IF(D14="","",_xlfn.WORKDAY.INTL(R14,M14-1,'Cấu hình'!$C$17,'Cấu hình'!$E$6:$E$35)) -> 46392 | T14: =IF(D14="","",MIN($S$4,IF(B14="",$S$4,MIN(IF(COUNTIF(N15:N$67,B14)>0,MINIFS(AG15:AG$67,N15:N$67,B14),$S$4),IF(COUNTIF(O15:O$67,B14)>0,MINIFS(AG15:AG$67,O15:O$67,B14),$S$4))))) -> 46392 | U14: =IF(D14="","",_xlfn.WORKDAY.INTL(T14,-(M14-1),'Cấu hình'!$C$17,'Cấu hình'!$E$6:$E$35)) -> 46384 | V14: =IF(D14="","",_xlfn.NETWORKDAYS.INTL(S14,T14,'Cấu hình'!$C$17,'Cấu hình'!$E$6:$E$35)-1) -> 0 | W14: =IF(D14="","",IF(V14<=0,"Găng","")) -> Găng | X14: =IF(D14="","",J14*K14) -> 6 | Y14: =IF(D14="","",M14*J14*K14) -> 36 | Z14: =IF(D14="","",IF(OR(AND(N14<>"",IFERROR(MATCH(N14,$B$6:B13,0),0)=0),AND(O14<>"",IFERROR(MATCH(O14,$B$6:B13,0),0)=0)),"Kiểm tra mã CV trước","")) | AC14: =IF(D14="",0,R14) -> 46384 | AD14: =IF(D14="",0,S14) -> 46392 | AE14: =IF(D14="",0,H14) -> 162000000 | AF14: =IF(D14="",0,X14) -> 6 | AG14: =IF(D14="","",_xlfn.WORKDAY.INTL(U14,-(1+P14),'Cấu hình'!$C$17,'Cấu hình'!$E$6:$E$35)) -> 46378 | AH14: =IF(W14="Găng",COUNTIF(W$7:W14,"Găng"),"") -> 7
A15: =IF(D15="","",COUNTA($D$7:D15)) -> 9 | B15: C01 | C15: Phần thân – kết cấu | D15: Kết cấu thân tầng 1–2 (cốp pha, cốt thép, bê tông) | E15: m3 | F15: 600 | G15: 4500000 | H15: =IF(D15="","",F15*G15) -> 2700000000 | I15: 20 | J15: 2 | K15: 20 | M15: =IF(D15="","",IF(L15<>"",L15,IF(I15*J15>0,MAX(1,ROUNDUP(F15/(I15*J15),0)),1))) -> 15 | N15: B06 | R15: {=IF(D15="","",_xlfn.WORKDAY.INTL(MAX('Cấu hình'!$C$15,N(Q15),IF(N15="",0,IFERROR(_xlfn.WORKDAY.INTL(INDEX($S$6:S14,MATCH(N15,$B$6:B14,0)),1+P15,'Cấu hình'!$C$17,'Cấu hình'!$E$6:$E$35),0)),IF(O15="",0,IFERROR(_xlfn.WORKDAY.INTL(INDEX($S$6:S14,MATCH(O15,$B$6:B14,0)),1+P15,'Cấu hình'!$C$17,'Cấu hình'!$E$6:$E$35),0)))-1,1,'Cấu hình'!$C$17,'Cấu hình'!$E$6:$E$35))} -> 46393 | S15: =IF(D15="","",_xlfn.WORKDAY.INTL(R15,M15-1,'Cấu hình'!$C$17,'Cấu hình'!$E$6:$E$35)) -> 46413 | T15: =IF(D15="","",MIN($S$4,IF(B15="",$S$4,MIN(IF(COUNTIF(N16:N$67,B15)>0,MINIFS(AG16:AG$67,N16:N$67,B15),$S$4),IF(COUNTIF(O16:O$67,B15)>0,MINIFS(AG16:AG$67,O16:O$67,B15),$S$4))))) -> 46413 | U15: =IF(D15="","",_xlfn.WORKDAY.INTL(T15,-(M15-1),'Cấu hình'!$C$17,'Cấu hình'!$E$6:$E$35)) -> 46393 | V15: =IF(D15="","",_xlfn.NETWORKDAYS.INTL(S15,T15,'Cấu hình'!$C$17,'Cấu hình'!$E$6:$E$35)-1) -> 0 | W15: =IF(D15="","",IF(V15<=0,"Găng","")) -> Găng | X15: =IF(D15="","",J15*K15) -> 40 | Y15: =IF(D15="","",M15*J15*K15) -> 600 | Z15: =IF(D15="","",IF(OR(AND(N15<>"",IFERROR(MATCH(N15,$B$6:B14,0),0)=0),AND(O15<>"",IFERROR(MATCH(O15,$B$6:B14,0),0)=0)),"Kiểm tra mã CV trước","")) | AC15: =IF(D15="",0,R15) -> 46393 | AD15: =IF(D15="",0,S15) -> 46413 | AE15: =IF(D15="",0,H15) -> 2700000000 | AF15: =IF(D15="",0,X15) -> 40 | AG15: =IF(D15="","",_xlfn.WORKDAY.INTL(U15,-(1+P15),'Cấu hình'!$C$17,'Cấu hình'!$E$6:$E$35)) -> 46392 | AH15: =IF(W15="Găng",COUNTIF(W$7:W15,"Găng"),"") -> 8
A16: =IF(D16="","",COUNTA($D$7:D16)) -> 10 | B16: C02 | C16: Phần thân – kết cấu | D16: Kết cấu thân tầng 3–4 | E16: m3 | F16: 600 | G16: 4500000 | H16: =IF(D16="","",F16*G16) -> 2700000000 | I16: 20 | J16: 2 | K16: 20 | M16: =IF(D16="","",IF(L16<>"",L16,IF(I16*J16>0,MAX(1,ROUNDUP(F16/(I16*J16),0)),1))) -> 15 | N16: C01 | R16: {=IF(D16="","",_xlfn.WORKDAY.INTL(MAX('Cấu hình'!$C$15,N(Q16),IF(N16="",0,IFERROR(_xlfn.WORKDAY.INTL(INDEX($S$6:S15,MATCH(N16,$B$6:B15,0)),1+P16,'Cấu hình'!$C$17,'Cấu hình'!$E$6:$E$35),0)),IF(O16="",0,IFERROR(_xlfn.WORKDAY.INTL(INDEX($S$6:S15,MATCH(O16,$B$6:B15,0)),1+P16,'Cấu hình'!$C$17,'Cấu hình'!$E$6:$E$35),0)))-1,1,'Cấu hình'!$C$17,'Cấu hình'!$E$6:$E$35))} -> 46414 | S16: =IF(D16="","",_xlfn.WORKDAY.INTL(R16,M16-1,'Cấu hình'!$C$17,'Cấu hình'!$E$6:$E$35)) -> 46441 | T16: =IF(D16="","",MIN($S$4,IF(B16="",$S$4,MIN(IF(COUNTIF(N17:N$67,B16)>0,MINIFS(AG17:AG$67,N17:N$67,B16),$S$4),IF(COUNTIF(O17:O$67,B16)>0,MINIFS(AG17:AG$67,O17:O$67,B16),$S$4))))) -> 46441 | U16: =IF(D16="","",_xlfn.WORKDAY.INTL(T16,-(M16-1),'Cấu hình'!$C$17,'Cấu hình'!$E$6:$E$35)) -> 46414 | V16: =IF(D16="","",_xlfn.NETWORKDAYS.INTL(S16,T16,'Cấu hình'!$C$17,'Cấu hình'!$E$6:$E$35)-1) -> 0 | W16: =IF(D16="","",IF(V16<=0,"Găng","")) -> Găng | X16: =IF(D16="","",J16*K16) -> 40 | Y16: =IF(D16="","",M16*J16*K16) -> 600 | Z16: =IF(D16="","",IF(OR(AND(N16<>"",IFERROR(MATCH(N16,$B$6:B15,0),0)=0),AND(O16<>"",IFERROR(MATCH(O16,$B$6:B15,0),0)=0)),"Kiểm tra mã CV trước","")) | AC16: =IF(D16="",0,R16) -> 46414 | AD16: =IF(D16="",0,S16) -> 46441 | AE16: =IF(D16="",0,H16) -> 2700000000 | AF16: =IF(D16="",0,X16) -> 40 | AG16: =IF(D16="","",_xlfn.WORKDAY.INTL(U16,-(1+P16),'Cấu hình'!$C$17,'Cấu hình'!$E$6:$E$35)) -> 46413 | AH16: =IF(W16="Găng",COUNTIF(W$7:W16,"Găng"),"") -> 9
A17: =IF(D17="","",COUNTA($D$7:D17)) -> 11 | B17: C03 | C17: Phần thân – kết cấu | D17: Kết cấu thân tầng 5–6 | E17: m3 | F17: 600 | G17: 4500000 | H17: =IF(D17="","",F17*G17) -> 2700000000 | I17: 20 | J17: 2 | K17: 20 | M17: =IF(D17="","",IF(L17<>"",L17,IF(I17*J17>0,MAX(1,ROUNDUP(F17/(I17*J17),0)),1))) -> 15 | N17: C02 | R17: {=IF(D17="","",_xlfn.WORKDAY.INTL(MAX('Cấu hình'!$C$15,N(Q17),IF(N17="",0,IFERROR(_xlfn.WORKDAY.INTL(INDEX($S$6:S16,MATCH(N17,$B$6:B16,0)),1+P17,'Cấu hình'!$C$17,'Cấu hình'!$E$6:$E$35),0)),IF(O17="",0,IFERROR(_xlfn.WORKDAY.INTL(INDEX($S$6:S16,MATCH(O17,$B$6:B16,0)),1+P17,'Cấu hình'!$C$17,'Cấu hình'!$E$6:$E$35),0)))-1,1,'Cấu hình'!$C$17,'Cấu hình'!$E$6:$E$35))} -> 46442 | S17: =IF(D17="","",_xlfn.WORKDAY.INTL(R17,M17-1,'Cấu hình'!$C$17,'Cấu hình'!$E$6:$E$35)) -> 46462 | T17: =IF(D17="","",MIN($S$4,IF(B17="",$S$4,MIN(IF(COUNTIF(N18:N$67,B17)>0,MINIFS(AG18:AG$67,N18:N$67,B17),$S$4),IF(COUNTIF(O18:O$67,B17)>0,MINIFS(AG18:AG$67,O18:O$67,B17),$S$4))))) -> 46485 | U17: =IF(D17="","",_xlfn.WORKDAY.INTL(T17,-(M17-1),'Cấu hình'!$C$17,'Cấu hình'!$E$6:$E$35)) -> 46465 | V17: =IF(D17="","",_xlfn.NETWORKDAYS.INTL(S17,T17,'Cấu hình'!$C$17,'Cấu hình'!$E$6:$E$35)-1) -> 17 | W17: =IF(D17="","",IF(V17<=0,"Găng","")) | X17: =IF(D17="","",J17*K17) -> 40 | Y17: =IF(D17="","",M17*J17*K17) -> 600 | Z17: =IF(D17="","",IF(OR(AND(N17<>"",IFERROR(MATCH(N17,$B$6:B16,0),0)=0),AND(O17<>"",IFERROR(MATCH(O17,$B$6:B16,0),0)=0)),"Kiểm tra mã CV trước","")) | AC17: =IF(D17="",0,R17) -> 46442 | AD17: =IF(D17="",0,S17) -> 46462 | AE17: =IF(D17="",0,H17) -> 2700000000 | AF17: =IF(D17="",0,X17) -> 40 | AG17: =IF(D17="","",_xlfn.WORKDAY.INTL(U17,-(1+P17),'Cấu hình'!$C$17,'Cấu hình'!$E$6:$E$35)) -> 46464 | AH17: =IF(W17="Găng",COUNTIF(W$7:W17,"Găng"),"")
A18: =IF(D18="","",COUNTA($D$7:D18)) -> 12 | B18: C04 | C18: Phần thân – kết cấu | D18: Kết cấu thân tầng 7–8 | E18: m3 | F18: 600 | G18: 4500000 | H18: =IF(D18="","",F18*G18) -> 2700000000 | I18: 20 | J18: 2 | K18: 20 | M18: =IF(D18="","",IF(L18<>"",L18,IF(I18*J18>0,MAX(1,ROUNDUP(F18/(I18*J18),0)),1))) -> 15 | N18: C03 | R18: {=IF(D18="","",_xlfn.WORKDAY.INTL(MAX('Cấu hình'!$C$15,N(Q18),IF(N18="",0,IFERROR(_xlfn.WORKDAY.INTL(INDEX($S$6:S17,MATCH(N18,$B$6:B17,0)),1+P18,'Cấu hình'!$C$17,'Cấu hình'!$E$6:$E$35),0)),IF(O18="",0,IFERROR(_xlfn.WORKDAY.INTL(INDEX($S$6:S17,MATCH(O18,$B$6:B17,0)),1+P18,'Cấu hình'!$C$17,'Cấu hình'!$E$6:$E$35),0)))-1,1,'Cấu hình'!$C$17,'Cấu hình'!$E$6:$E$35))} -> 46463 | S18: =IF(D18="","",_xlfn.WORKDAY.INTL(R18,M18-1,'Cấu hình'!$C$17,'Cấu hình'!$E$6:$E$35)) -> 46483 | T18: =IF(D18="","",MIN($S$4,IF(B18="",$S$4,MIN(IF(COUNTIF(N19:N$67,B18)>0,MINIFS(AG19:AG$67,N19:N$67,B18),$S$4),IF(COUNTIF(O19:O$67,B18)>0,MINIFS(AG19:AG$67,O19:O$67,B18),$S$4))))) -> 46506 | U18: =IF(D18="","",_xlfn.WORKDAY.INTL(T18,-(M18-1),'Cấu hình'!$C$17,'Cấu hình'!$E$6:$E$35)) -> 46486 | V18: =IF(D18="","",_xlfn.NETWORKDAYS.INTL(S18,T18,'Cấu hình'!$C$17,'Cấu hình'!$E$6:$E$35)-1) -> 17 | W18: =IF(D18="","",IF(V18<=0,"Găng","")) | X18: =IF(D18="","",J18*K18) -> 40 | Y18: =IF(D18="","",M18*J18*K18) -> 600 | Z18: =IF(D18="","",IF(OR(AND(N18<>"",IFERROR(MATCH(N18,$B$6:B17,0),0)=0),AND(O18<>"",IFERROR(MATCH(O18,$B$6:B17,0),0)=0)),"Kiểm tra mã CV trước","")) | AC18: =IF(D18="",0,R18) -> 46463 | AD18: =IF(D18="",0,S18) -> 46483 | AE18: =IF(D18="",0,H18) -> 2700000000 | AF18: =IF(D18="",0,X18) -> 40 | AG18: =IF(D18="","",_xlfn.WORKDAY.INTL(U18,-(1+P18),'Cấu hình'!$C$17,'Cấu hình'!$E$6:$E$35)) -> 46485 | AH18: =IF(W18="Găng",COUNTIF(W$7:W18,"Găng"),"")
A19: =IF(D19="","",COUNTA($D$7:D19)) -> 13 | B19: C05 | C19: Phần thân – kết cấu | D19: Kết cấu mái và tum | E19: m3 | F19: 220 | G19: 4500000 | H19: =IF(D19="","",F19*G19) -> 990000000 | I19: 20 | J19: 1 | K19: 20 | M19: =IF(D19="","",IF(L19<>"",L19,IF(I19*J19>0,MAX(1,ROUNDUP(F19/(I19*J19),0)),1))) -> 11 | N19: C04 | R19: {=IF(D19="","",_xlfn.WORKDAY.INTL(MAX('Cấu hình'!$C$15,N(Q19),IF(N19="",0,IFERROR(_xlfn.WORKDAY.INTL(INDEX($S$6:S18,MATCH(N19,$B$6:B18,0)),1+P19,'Cấu hình'!$C$17,'Cấu hình'!$E$6:$E$35),0)),IF(O19="",0,IFERROR(_xlfn.WORKDAY.INTL(INDEX($S$6:S18,MATCH(O19,$B$6:B18,0)),1+P19,'Cấu hình'!$C$17,'Cấu hình'!$E$6:$E$35),0)))-1,1,'Cấu hình'!$C$17,'Cấu hình'!$E$6:$E$35))} -> 46484 | S19: =IF(D19="","",_xlfn.WORKDAY.INTL(R19,M19-1,'Cấu hình'!$C$17,'Cấu hình'!$E$6:$E$35)) -> 46498 | T19: =IF(D19="","",MIN($S$4,IF(B19="",$S$4,MIN(IF(COUNTIF(N20:N$67,B19)>0,MINIFS(AG20:AG$67,N20:N$67,B19),$S$4),IF(COUNTIF(O20:O$67,B19)>0,MINIFS(AG20:AG$67,O20:O$67,B19),$S$4))))) -> 46626 | U19: =IF(D19="","",_xlfn.WORKDAY.INTL(T19,-(M19-1),'Cấu hình'!$C$17,'Cấu hình'!$E$6:$E$35)) -> 46612 | V19: =IF(D19="","",_xlfn.NETWORKDAYS.INTL(S19,T19,'Cấu hình'!$C$17,'Cấu hình'!$E$6:$E$35)-1) -> 91 | W19: =IF(D19="","",IF(V19<=0,"Găng","")) | X19: =IF(D19="","",J19*K19) -> 20 | Y19: =IF(D19="","",M19*J19*K19) -> 220 | Z19: =IF(D19="","",IF(OR(AND(N19<>"",IFERROR(MATCH(N19,$B$6:B18,0),0)=0),AND(O19<>"",IFERROR(MATCH(O19,$B$6:B18,0),0)=0)),"Kiểm tra mã CV trước","")) | AC19: =IF(D19="",0,R19) -> 46484 | AD19: =IF(D19="",0,S19) -> 46498 | AE19: =IF(D19="",0,H19) -> 990000000 | AF19: =IF(D19="",0,X19) -> 20 | AG19: =IF(D19="","",_xlfn.WORKDAY.INTL(U19,-(1+P19),'Cấu hình'!$C$17,'Cấu hình'!$E$6:$E$35)) -> 46611 | AH19: =IF(W19="Găng",COUNTIF(W$7:W19,"Găng"),"")
A20: =IF(D20="","",COUNTA($D$7:D20)) -> 14 | B20: D01 | C20: Hoàn thiện thô (xây, MEP) | D20: Xây tường tầng 1–4 | E20: m2 | F20: 5000 | G20: 190000 | H20: =IF(D20="","",F20*G20) -> 950000000 | I20: 40 | J20: 3 | K20: 8 | M20: =IF(D20="","",IF(L20<>"",L20,IF(I20*J20>0,MAX(1,ROUNDUP(F20/(I20*J20),0)),1))) -> 42 | N20: C02 | P20: 5 | R20: {=IF(D20="","",_xlfn.WORKDAY.INTL(MAX('Cấu hình'!$C$15,N(Q20),IF(N20="",0,IFERROR(_xlfn.WORKDAY.INTL(INDEX($S$6:S19,MATCH(N20,$B$6:B19,0)),1+P20,'Cấu hình'!$C$17,'Cấu hình'!$E$6:$E$35),0)),IF(O20="",0,IFERROR(_xlfn.WORKDAY.INTL(INDEX($S$6:S19,MATCH(O20,$B$6:B19,0)),1+P20,'Cấu hình'!$C$17,'Cấu hình'!$E$6:$E$35),0)))-1,1,'Cấu hình'!$C$17,'Cấu hình'!$E$6:$E$35))} -> 46449 | S20: =IF(D20="","",_xlfn.WORKDAY.INTL(R20,M20-1,'Cấu hình'!$C$17,'Cấu hình'!$E$6:$E$35)) -> 46506 | T20: =IF(D20="","",MIN($S$4,IF(B20="",$S$4,MIN(IF(COUNTIF(N21:N$67,B20)>0,MINIFS(AG21:AG$67,N21:N$67,B20),$S$4),IF(COUNTIF(O21:O$67,B20)>0,MINIFS(AG21:AG$67,O21:O$67,B20),$S$4))))) -> 46506 | U20: =IF(D20="","",_xlfn.WORKDAY.INTL(T20,-(M20-1),'Cấu hình'!$C$17,'Cấu hình'!$E$6:$E$35)) -> 46449 | V20: =IF(D20="","",_xlfn.NETWORKDAYS.INTL(S20,T20,'Cấu hình'!$C$17,'Cấu hình'!$E$6:$E$35)-1) -> 0 | W20: =IF(D20="","",IF(V20<=0,"Găng","")) -> Găng | X20: =IF(D20="","",J20*K20) -> 24 | Y20: =IF(D20="","",M20*J20*K20) -> 1008 | Z20: =IF(D20="","",IF(OR(AND(N20<>"",IFERROR(MATCH(N20,$B$6:B19,0),0)=0),AND(O20<>"",IFERROR(MATCH(O20,$B$6:B19,0),0)=0)),"Kiểm tra mã CV trước","")) | AC20: =IF(D20="",0,R20) -> 46449 | AD20: =IF(D20="",0,S20) -> 46506 | AE20: =IF(D20="",0,H20) -> 950000000 | AF20: =IF(D20="",0,X20) -> 24 | AG20: =IF(D20="","",_xlfn.WORKDAY.INTL(U20,-(1+P20),'Cấu hình'!$C$17,'Cấu hình'!$E$6:$E$35)) -> 46441 | AH20: =IF(W20="Găng",COUNTIF(W$7:W20,"Găng"),"") -> 10
A21: =IF(D21="","",COUNTA($D$7:D21)) -> 15 | B21: D02 | C21: Hoàn thiện thô (xây, MEP) | D21: Xây tường tầng 5–8 | E21: m2 | F21: 4500 | G21: 190000 | H21: =IF(D21="","",F21*G21) -> 855000000 | I21: 40 | J21: 3 | K21: 8 | M21: =IF(D21="","",IF(L21<>"",L21,IF(I21*J21>0,MAX(1,ROUNDUP(F21/(I21*J21),0)),1))) -> 38 | N21: C04 | O21: D01 | P21: 3 | R21: {=IF(D21="","",_xlfn.WORKDAY.INTL(MAX('Cấu hình'!$C$15,N(Q21),IF(N21="",0,IFERROR(_xlfn.WORKDAY.INTL(INDEX($S$6:S20,MATCH(N21,$B$6:B20,0)),1+P21,'Cấu hình'!$C$17,'Cấu hình'!$E$6:$E$35),0)),IF(O21="",0,IFERROR(_xlfn.WORKDAY.INTL(INDEX($S$6:S20,MATCH(O21,$B$6:B20,0)),1+P21,'Cấu hình'!$C$17,'Cấu hình'!$E$6:$E$35),0)))-1,1,'Cấu hình'!$C$17,'Cấu hình'!$E$6:$E$35))} -> 46513 | S21: =IF(D21="","",_xlfn.WORKDAY.INTL(R21,M21-1,'Cấu hình'!$C$17,'Cấu hình'!$E$6:$E$35)) -> 46566 | T21: =IF(D21="","",MIN($S$4,IF(B21="",$S$4,MIN(IF(COUNTIF(N22:N$67,B21)>0,MINIFS(AG22:AG$67,N22:N$67,B21),$S$4),IF(COUNTIF(O22:O$67,B21)>0,MINIFS(AG22:AG$67,O22:O$67,B21),$S$4))))) -> 46566 | U21: =IF(D21="","",_xlfn.WORKDAY.INTL(T21,-(M21-1),'Cấu hình'!$C$17,'Cấu hình'!$E$6:$E$35)) -> 46513 | V21: =IF(D21="","",_xlfn.NETWORKDAYS.INTL(S21,T21,'Cấu hình'!$C$17,'Cấu hình'!$E$6:$E$35)-1) -> 0 | W21: =IF(D21="","",IF(V21<=0,"Găng","")) -> Găng | X21: =IF(D21="","",J21*K21) -> 24 | Y21: =IF(D21="","",M21*J21*K21) -> 912 | Z21: =IF(D21="","",IF(OR(AND(N21<>"",IFERROR(MATCH(N21,$B$6:B20,0),0)=0),AND(O21<>"",IFERROR(MATCH(O21,$B$6:B20,0),0)=0)),"Kiểm tra mã CV trước","")) | AC21: =IF(D21="",0,R21) -> 46513 | AD21: =IF(D21="",0,S21) -> 46566 | AE21: =IF(D21="",0,H21) -> 855000000 | AF21: =IF(D21="",0,X21) -> 24 | AG21: =IF(D21="","",_xlfn.WORKDAY.INTL(U21,-(1+P21),'Cấu hình'!$C$17,'Cấu hình'!$E$6:$E$35)) -> 46506 | AH21: =IF(W21="Găng",COUNTIF(W$7:W21,"Găng"),"") -> 11
A22: =IF(D22="","",COUNTA($D$7:D22)) -> 16 | B22: D03 | C22: Hoàn thiện thô (xây, MEP) | D22: Lắp đặt hệ thống điện âm tường | E22: tầng | F22: 8 | G22: 400000000 | H22: =IF(D22="","",F22*G22) -> 3200000000 | I22: 0.25 | J22: 2 | K22: 6 | M22: =IF(D22="","",IF(L22<>"",L22,IF(I22*J22>0,MAX(1,ROUNDUP(F22/(I22*J22),0)),1))) -> 16 | N22: D01 | R22: {=IF(D22="","",_xlfn.WORKDAY.INTL(MAX('Cấu hình'!$C$15,N(Q22),IF(N22="",0,IFERROR(_xlfn.WORKDAY.INTL(INDEX($S$6:S21,MATCH(N22,$B$6:B21,0)),1+P22,'Cấu hình'!$C$17,'Cấu hình'!$E$6:$E$35),0)),IF(O22="",0,IFERROR(_xlfn.WORKDAY.INTL(INDEX($S$6:S21,MATCH(O22,$B$6:B21,0)),1+P22,'Cấu hình'!$C$17,'Cấu hình'!$E$6:$E$35),0)))-1,1,'Cấu hình'!$C$17,'Cấu hình'!$E$6:$E$35))} -> 46510 | S22: =IF(D22="","",_xlfn.WORKDAY.INTL(R22,M22-1,'Cấu hình'!$C$17,'Cấu hình'!$E$6:$E$35)) -> 46531 | T22: =IF(D22="","",MIN($S$4,IF(B22="",$S$4,MIN(IF(COUNTIF(N23:N$67,B22)>0,MINIFS(AG23:AG$67,N23:N$67,B22),$S$4),IF(COUNTIF(O23:O$67,B22)>0,MINIFS(AG23:AG$67,O23:O$67,B22),$S$4))))) -> 46622 | U22: =IF(D22="","",_xlfn.WORKDAY.INTL(T22,-(M22-1),'Cấu hình'!$C$17,'Cấu hình'!$E$6:$E$35)) -> 46601 | V22: =IF(D22="","",_xlfn.NETWORKDAYS.INTL(S22,T22,'Cấu hình'!$C$17,'Cấu hình'!$E$6:$E$35)-1) -> 65 | W22: =IF(D22="","",IF(V22<=0,"Găng","")) | X22: =IF(D22="","",J22*K22) -> 12 | Y22: =IF(D22="","",M22*J22*K22) -> 192 | Z22: =IF(D22="","",IF(OR(AND(N22<>"",IFERROR(MATCH(N22,$B$6:B21,0),0)=0),AND(O22<>"",IFERROR(MATCH(O22,$B$6:B21,0),0)=0)),"Kiểm tra mã CV trước","")) | AC22: =IF(D22="",0,R22) -> 46510 | AD22: =IF(D22="",0,S22) -> 46531 | AE22: =IF(D22="",0,H22) -> 3200000000 | AF22: =IF(D22="",0,X22) -> 12 | AG22: =IF(D22="","",_xlfn.WORKDAY.INTL(U22,-(1+P22),'Cấu hình'!$C$17,'Cấu hình'!$E$6:$E$35)) -> 46598 | AH22: =IF(W22="Găng",COUNTIF(W$7:W22,"Găng"),"")
A23: =IF(D23="","",COUNTA($D$7:D23)) -> 17 | B23: D04 | C23: Hoàn thiện thô (xây, MEP) | D23: Lắp đặt cấp thoát nước, PCCC | E23: tầng | F23: 8 | G23: 350000000 | H23: =IF(D23="","",F23*G23) -> 2800000000 | I23: 0.2 | J23: 2 | K23: 6 | M23: =IF(D23="","",IF(L23<>"",L23,IF(I23*J23>0,MAX(1,ROUNDUP(F23/(I23*J23),0)),1))) -> 20 | N23: D01 | R23: {=IF(D23="","",_xlfn.WORKDAY.INTL(MAX('Cấu hình'!$C$15,N(Q23),IF(N23="",0,IFERROR(_xlfn.WORKDAY.INTL(INDEX($S$6:S22,MATCH(N23,$B$6:B22,0)),1+P23,'Cấu hình'!$C$17,'Cấu hình'!$E$6:$E$35),0)),IF(O23="",0,IFERROR(_xlfn.WORKDAY.INTL(INDEX($S$6:S22,MATCH(O23,$B$6:B22,0)),1+P23,'Cấu hình'!$C$17,'Cấu hình'!$E$6:$E$35),0)))-1,1,'Cấu hình'!$C$17,'Cấu hình'!$E$6:$E$35))} -> 46510 | S23: =IF(D23="","",_xlfn.WORKDAY.INTL(R23,M23-1,'Cấu hình'!$C$17,'Cấu hình'!$E$6:$E$35)) -> 46535 | T23: =IF(D23="","",MIN($S$4,IF(B23="",$S$4,MIN(IF(COUNTIF(N24:N$67,B23)>0,MINIFS(AG24:AG$67,N24:N$67,B23),$S$4),IF(COUNTIF(O24:O$67,B23)>0,MINIFS(AG24:AG$67,O24:O$67,B23),$S$4))))) -> 46672 | U23: =IF(D23="","",_xlfn.WORKDAY.INTL(T23,-(M23-1),'Cấu hình'!$C$17,'Cấu hình'!$E$6:$E$35)) -> 46645 | V23: =IF(D23="","",_xlfn.NETWORKDAYS.INTL(S23,T23,'Cấu hình'!$C$17,'Cấu hình'!$E$6:$E$35)-1) -> 97 | W23: =IF(D23="","",IF(V23<=0,"Găng","")) | X23: =IF(D23="","",J23*K23) -> 12 | Y23: =IF(D23="","",M23*J23*K23) -> 240 | Z23: =IF(D23="","",IF(OR(AND(N23<>"",IFERROR(MATCH(N23,$B$6:B22,0),0)=0),AND(O23<>"",IFERROR(MATCH(O23,$B$6:B22,0),0)=0)),"Kiểm tra mã CV trước","")) | AC23: =IF(D23="",0,R23) -> 46510 | AD23: =IF(D23="",0,S23) -> 46535 | AE23: =IF(D23="",0,H23) -> 2800000000 | AF23: =IF(D23="",0,X23) -> 12 | AG23: =IF(D23="","",_xlfn.WORKDAY.INTL(U23,-(1+P23),'Cấu hình'!$C$17,'Cấu hình'!$E$6:$E$35)) -> 46644 | AH23: =IF(W23="Găng",COUNTIF(W$7:W23,"Găng"),"")
A24: =IF(D24="","",COUNTA($D$7:D24)) -> 18 | B24: D05 | C24: Hoàn thiện thô (xây, MEP) | D24: Trát tường trong và ngoài nhà | E24: m2 | F24: 12000 | G24: 85000 | H24: =IF(D24="","",F24*G24) -> 1020000000 | I24: 30 | J24: 8 | K24: 5 | M24: =IF(D24="","",IF(L24<>"",L24,IF(I24*J24>0,MAX(1,ROUNDUP(F24/(I24*J24),0)),1))) -> 50 | N24: D02 | P24: -10 | R24: {=IF(D24="","",_xlfn.WORKDAY.INTL(MAX('Cấu hình'!$C$15,N(Q24),IF(N24="",0,IFERROR(_xlfn.WORKDAY.INTL(INDEX($S$6:S23,MATCH(N24,$B$6:B23,0)),1+P24,'Cấu hình'!$C$17,'Cấu hình'!$E$6:$E$35),0)),IF(O24="",0,IFERROR(_xlfn.WORKDAY.INTL(INDEX($S$6:S23,MATCH(O24,$B$6:B23,0)),1+P24,'Cấu hình'!$C$17,'Cấu hình'!$E$6:$E$35),0)))-1,1,'Cấu hình'!$C$17,'Cấu hình'!$E$6:$E$35))} -> 46553 | S24: =IF(D24="","",_xlfn.WORKDAY.INTL(R24,M24-1,'Cấu hình'!$C$17,'Cấu hình'!$E$6:$E$35)) -> 46622 | T24: =IF(D24="","",MIN($S$4,IF(B24="",$S$4,MIN(IF(COUNTIF(N25:N$67,B24)>0,MINIFS(AG25:AG$67,N25:N$67,B24),$S$4),IF(COUNTIF(O25:O$67,B24)>0,MINIFS(AG25:AG$67,O25:O$67,B24),$S$4))))) -> 46622 | U24: =IF(D24="","",_xlfn.WORKDAY.INTL(T24,-(M24-1),'Cấu hình'!$C$17,'Cấu hình'!$E$6:$E$35)) -> 46553 | V24: =IF(D24="","",_xlfn.NETWORKDAYS.INTL(S24,T24,'Cấu hình'!$C$17,'Cấu hình'!$E$6:$E$35)-1) -> 0 | W24: =IF(D24="","",IF(V24<=0,"Găng","")) -> Găng | X24: =IF(D24="","",J24*K24) -> 40 | Y24: =IF(D24="","",M24*J24*K24) -> 2000 | Z24: =IF(D24="","",IF(OR(AND(N24<>"",IFERROR(MATCH(N24,$B$6:B23,0),0)=0),AND(O24<>"",IFERROR(MATCH(O24,$B$6:B23,0),0)=0)),"Kiểm tra mã CV trước","")) | AC24: =IF(D24="",0,R24) -> 46553 | AD24: =IF(D24="",0,S24) -> 46622 | AE24: =IF(D24="",0,H24) -> 1020000000 | AF24: =IF(D24="",0,X24) -> 40 | AG24: =IF(D24="","",_xlfn.WORKDAY.INTL(U24,-(1+P24),'Cấu hình'!$C$17,'Cấu hình'!$E$6:$E$35)) -> 46566 | AH24: =IF(W24="Găng",COUNTIF(W$7:W24,"Găng"),"") -> 12
A25: =IF(D25="","",COUNTA($D$7:D25)) -> 19 | B25: E01 | C25: Hoàn thiện | D25: Ốp lát sàn, tường khu vệ sinh | E25: m2 | F25: 9000 | G25: 210000 | H25: =IF(D25="","",F25*G25) -> 1890000000 | I25: 25 | J25: 6 | K25: 4 | M25: =IF(D25="","",IF(L25<>"",L25,IF(I25*J25>0,MAX(1,ROUNDUP(F25/(I25*J25),0)),1))) -> 60 | N25: D05 | O25: D04 | P25: -20 | R25: {=IF(D25="","",_xlfn.WORKDAY.INTL(MAX('Cấu hình'!$C$15,N(Q25),IF(N25="",0,IFERROR(_xlfn.WORKDAY.INTL(INDEX($S$6:S24,MATCH(N25,$B$6:B24,0)),1+P25,'Cấu hình'!$C$17,'Cấu hình'!$E$6:$E$35),0)),IF(O25="",0,IFERROR(_xlfn.WORKDAY.INTL(INDEX($S$6:S24,MATCH(O25,$B$6:B24,0)),1+P25,'Cấu hình'!$C$17,'Cấu hình'!$E$6:$E$35),0)))-1,1,'Cấu hình'!$C$17,'Cấu hình'!$E$6:$E$35))} -> 46595 | S25: =IF(D25="","",_xlfn.WORKDAY.INTL(R25,M25-1,'Cấu hình'!$C$17,'Cấu hình'!$E$6:$E$35)) -> 46678 | T25: =IF(D25="","",MIN($S$4,IF(B25="",$S$4,MIN(IF(COUNTIF(N26:N$67,B25)>0,MINIFS(AG26:AG$67,N26:N$67,B25),$S$4),IF(COUNTIF(O26:O$67,B25)>0,MINIFS(AG26:AG$67,O26:O$67,B25),$S$4))))) -> 46728 | U25: =IF(D25="","",_xlfn.WORKDAY.INTL(T25,-(M25-1),'Cấu hình'!$C$17,'Cấu hình'!$E$6:$E$35)) -> 46645 | V25: =IF(D25="","",_xlfn.NETWORKDAYS.INTL(S25,T25,'Cấu hình'!$C$17,'Cấu hình'!$E$6:$E$35)-1) -> 36 | W25: =IF(D25="","",IF(V25<=0,"Găng","")) | X25: =IF(D25="","",J25*K25) -> 24 | Y25: =IF(D25="","",M25*J25*K25) -> 1440 | Z25: =IF(D25="","",IF(OR(AND(N25<>"",IFERROR(MATCH(N25,$B$6:B24,0),0)=0),AND(O25<>"",IFERROR(MATCH(O25,$B$6:B24,0),0)=0)),"Kiểm tra mã CV trước","")) | AC25: =IF(D25="",0,R25) -> 46595 | AD25: =IF(D25="",0,S25) -> 46678 | AE25: =IF(D25="",0,H25) -> 1890000000 | AF25: =IF(D25="",0,X25) -> 24 | AG25: =IF(D25="","",_xlfn.WORKDAY.INTL(U25,-(1+P25),'Cấu hình'!$C$17,'Cấu hình'!$E$6:$E$35)) -> 46672 | AH25: =IF(W25="Găng",COUNTIF(W$7:W25,"Găng"),"")
A26: =IF(D26="","",COUNTA($D$7:D26)) -> 20 | B26: E02 | C26: Hoàn thiện | D26: Bả, sơn tường và trần | E26: m2 | F26: 20000 | G26: 60000 | H26: =IF(D26="","",F26*G26) -> 1200000000 | I26: 80 | J26: 5 | K26: 4 | M26: =IF(D26="","",IF(L26<>"",L26,IF(I26*J26>0,MAX(1,ROUNDUP(F26/(I26*J26),0)),1))) -> 50 | N26: D05 | O26: D03 | P26: 5 | R26: {=IF(D26="","",_xlfn.WORKDAY.INTL(MAX('Cấu hình'!$C$15,N(Q26),IF(N26="",0,IFERROR(_xlfn.WORKDAY.INTL(INDEX($S$6:S25,MATCH(N26,$B$6:B25,0)),1+P26,'Cấu hình'!$C$17,'Cấu hình'!$E$6:$E$35),0)),IF(O26="",0,IFERROR(_xlfn.WORKDAY.INTL(INDEX($S$6:S25,MATCH(O26,$B$6:B25,0)),1+P26,'Cấu hình'!$C$17,'Cấu hình'!$E$6:$E$35),0)))-1,1,'Cấu hình'!$C$17,'Cấu hình'!$E$6:$E$35))} -> 46630 | S26: =IF(D26="","",_xlfn.WORKDAY.INTL(R26,M26-1,'Cấu hình'!$C$17,'Cấu hình'!$E$6:$E$35)) -> 46699 | T26: =IF(D26="","",MIN($S$4,IF(B26="",$S$4,MIN(IF(COUNTIF(N27:N$67,B26)>0,MINIFS(AG27:AG$67,N27:N$67,B26),$S$4),IF(COUNTIF(O27:O$67,B26)>0,MINIFS(AG27:AG$67,O27:O$67,B26),$S$4))))) -> 46699 | U26: =IF(D26="","",_xlfn.WORKDAY.INTL(T26,-(M26-1),'Cấu hình'!$C$17,'Cấu hình'!$E$6:$E$35)) -> 46630 | V26: =IF(D26="","",_xlfn.NETWORKDAYS.INTL(S26,T26,'Cấu hình'!$C$17,'Cấu hình'!$E$6:$E$35)-1) -> 0 | W26: =IF(D26="","",IF(V26<=0,"Găng","")) -> Găng | X26: =IF(D26="","",J26*K26) -> 20 | Y26: =IF(D26="","",M26*J26*K26) -> 1000 | Z26: =IF(D26="","",IF(OR(AND(N26<>"",IFERROR(MATCH(N26,$B$6:B25,0),0)=0),AND(O26<>"",IFERROR(MATCH(O26,$B$6:B25,0),0)=0)),"Kiểm tra mã CV trước","")) | AC26: =IF(D26="",0,R26) -> 46630 | AD26: =IF(D26="",0,S26) -> 46699 | AE26: =IF(D26="",0,H26) -> 1200000000 | AF26: =IF(D26="",0,X26) -> 20 | AG26: =IF(D26="","",_xlfn.WORKDAY.INTL(U26,-(1+P26),'Cấu hình'!$C$17,'Cấu hình'!$E$6:$E$35)) -> 46622 | AH26: =IF(W26="Găng",COUNTIF(W$7:W26,"Găng"),"") -> 13
A27: =IF(D27="","",COUNTA($D$7:D27)) -> 21 | B27: E03 | C27: Hoàn thiện | D27: Lắp cửa nhôm kính | E27: bộ | F27: 420 | G27: 3200000 | H27: =IF(D27="","",F27*G27) -> 1344000000 | I27: 5 | J27: 4 | K27: 4 | M27: =IF(D27="","",IF(L27<>"",L27,IF(I27*J27>0,MAX(1,ROUNDUP(F27/(I27*J27),0)),1))) -> 21 | N27: D05 | P27: 20 | R27: {=IF(D27="","",_xlfn.WORKDAY.INTL(MAX('Cấu hình'!$C$15,N(Q27),IF(N27="",0,IFERROR(_xlfn.WORKDAY.INTL(INDEX($S$6:S26,MATCH(N27,$B$6:B26,0)),1+P27,'Cấu hình'!$C$17,'Cấu hình'!$E$6:$E$35),0)),IF(O27="",0,IFERROR(_xlfn.WORKDAY.INTL(INDEX($S$6:S26,MATCH(O27,$B$6:B26,0)),1+P27,'Cấu hình'!$C$17,'Cấu hình'!$E$6:$E$35),0)))-1,1,'Cấu hình'!$C$17,'Cấu hình'!$E$6:$E$35))} -> 46651 | S27: =IF(D27="","",_xlfn.WORKDAY.INTL(R27,M27-1,'Cấu hình'!$C$17,'Cấu hình'!$E$6:$E$35)) -> 46679 | T27: =IF(D27="","",MIN($S$4,IF(B27="",$S$4,MIN(IF(COUNTIF(N28:N$67,B27)>0,MINIFS(AG28:AG$67,N28:N$67,B27),$S$4),IF(COUNTIF(O28:O$67,B27)>0,MINIFS(AG28:AG$67,O28:O$67,B27),$S$4))))) -> 46679 | U27: =IF(D27="","",_xlfn.WORKDAY.INTL(T27,-(M27-1),'Cấu hình'!$C$17,'Cấu hình'!$E$6:$E$35)) -> 46651 | V27: =IF(D27="","",_xlfn.NETWORKDAYS.INTL(S27,T27,'Cấu hình'!$C$17,'Cấu hình'!$E$6:$E$35)-1) -> 0 | W27: =IF(D27="","",IF(V27<=0,"Găng","")) -> Găng | X27: =IF(D27="","",J27*K27) -> 16 | Y27: =IF(D27="","",M27*J27*K27) -> 336 | Z27: =IF(D27="","",IF(OR(AND(N27<>"",IFERROR(MATCH(N27,$B$6:B26,0),0)=0),AND(O27<>"",IFERROR(MATCH(O27,$B$6:B26,0),0)=0)),"Kiểm tra mã CV trước","")) | AC27: =IF(D27="",0,R27) -> 46651 | AD27: =IF(D27="",0,S27) -> 46679 | AE27: =IF(D27="",0,H27) -> 1344000000 | AF27: =IF(D27="",0,X27) -> 16 | AG27: =IF(D27="","",_xlfn.WORKDAY.INTL(U27,-(1+P27),'Cấu hình'!$C$17,'Cấu hình'!$E$6:$E$35)) -> 46622 | AH27: =IF(W27="Găng",COUNTIF(W$7:W27,"Găng"),"") -> 14
A28: =IF(D28="","",COUNTA($D$7:D28)) -> 22 | B28: E04 | C28: Hoàn thiện | D28: Lắp đặt thang máy | E28: bộ | F28: 2 | G28: 1100000000 | H28: =IF(D28="","",F28*G28) -> 2200000000 | J28: 1 | K28: 8 | L28: 45 | M28: =IF(D28="","",IF(L28<>"",L28,IF(I28*J28>0,MAX(1,ROUNDUP(F28/(I28*J28),0)),1))) -> 45 | N28: C05 | P28: 20 | R28: {=IF(D28="","",_xlfn.WORKDAY.INTL(MAX('Cấu hình'!$C$15,N(Q28),IF(N28="",0,IFERROR(_xlfn.WORKDAY.INTL(INDEX($S$6:S27,MATCH(N28,$B$6:B27,0)),1+P28,'Cấu hình'!$C$17,'Cấu hình'!$E$6:$E$35),0)),IF(O28="",0,IFERROR(_xlfn.WORKDAY.INTL(INDEX($S$6:S27,MATCH(O28,$B$6:B27,0)),1+P28,'Cấu hình'!$C$17,'Cấu hình'!$E$6:$E$35),0)))-1,1,'Cấu hình'!$C$17,'Cấu hình'!$E$6:$E$35))} -> 46528 | S28: =IF(D28="","",_xlfn.WORKDAY.INTL(R28,M28-1,'Cấu hình'!$C$17,'Cấu hình'!$E$6:$E$35)) -> 46590 | T28: =IF(D28="","",MIN($S$4,IF(B28="",$S$4,MIN(IF(COUNTIF(N29:N$67,B28)>0,MINIFS(AG29:AG$67,N29:N$67,B28),$S$4),IF(COUNTIF(O29:O$67,B28)>0,MINIFS(AG29:AG$67,O29:O$67,B28),$S$4))))) -> 46717 | U28: =IF(D28="","",_xlfn.WORKDAY.INTL(T28,-(M28-1),'Cấu hình'!$C$17,'Cấu hình'!$E$6:$E$35)) -> 46657 | V28: =IF(D28="","",_xlfn.NETWORKDAYS.INTL(S28,T28,'Cấu hình'!$C$17,'Cấu hình'!$E$6:$E$35)-1) -> 91 | W28: =IF(D28="","",IF(V28<=0,"Găng","")) | X28: =IF(D28="","",J28*K28) -> 8 | Y28: =IF(D28="","",M28*J28*K28) -> 360 | Z28: =IF(D28="","",IF(OR(AND(N28<>"",IFERROR(MATCH(N28,$B$6:B27,0),0)=0),AND(O28<>"",IFERROR(MATCH(O28,$B$6:B27,0),0)=0)),"Kiểm tra mã CV trước","")) | AC28: =IF(D28="",0,R28) -> 46528 | AD28: =IF(D28="",0,S28) -> 46590 | AE28: =IF(D28="",0,H28) -> 2200000000 | AF28: =IF(D28="",0,X28) -> 8 | AG28: =IF(D28="","",_xlfn.WORKDAY.INTL(U28,-(1+P28),'Cấu hình'!$C$17,'Cấu hình'!$E$6:$E$35)) -> 46626 | AH28: =IF(W28="Găng",COUNTIF(W$7:W28,"Găng"),"")
A29: =IF(D29="","",COUNTA($D$7:D29)) -> 23 | B29: E05 | C29: Hoàn thiện | D29: Lắp thiết bị điện, thiết bị vệ sinh | E29: tầng | F29: 8 | G29: 300000000 | H29: =IF(D29="","",F29*G29) -> 2400000000 | I29: 0.3 | J29: 2 | K29: 5 | M29: =IF(D29="","",IF(L29<>"",L29,IF(I29*J29>0,MAX(1,ROUNDUP(F29/(I29*J29),0)),1))) -> 14 | N29: E02 | P29: -10 | R29: {=IF(D29="","",_xlfn.WORKDAY.INTL(MAX('Cấu hình'!$C$15,N(Q29),IF(N29="",0,IFERROR(_xlfn.WORKDAY.INTL(INDEX($S$6:S28,MATCH(N29,$B$6:B28,0)),1+P29,'Cấu hình'!$C$17,'Cấu hình'!$E$6:$E$35),0)),IF(O29="",0,IFERROR(_xlfn.WORKDAY.INTL(INDEX($S$6:S28,MATCH(O29,$B$6:B28,0)),1+P29,'Cấu hình'!$C$17,'Cấu hình'!$E$6:$E$35),0)))-1,1,'Cấu hình'!$C$17,'Cấu hình'!$E$6:$E$35))} -> 46686 | S29: =IF(D29="","",_xlfn.WORKDAY.INTL(R29,M29-1,'Cấu hình'!$C$17,'Cấu hình'!$E$6:$E$35)) -> 46703 | T29: =IF(D29="","",MIN($S$4,IF(B29="",$S$4,MIN(IF(COUNTIF(N30:N$67,B29)>0,MINIFS(AG30:AG$67,N30:N$67,B29),$S$4),IF(COUNTIF(O30:O$67,B29)>0,MINIFS(AG30:AG$67,O30:O$67,B29),$S$4))))) -> 46703 | U29: =IF(D29="","",_xlfn.WORKDAY.INTL(T29,-(M29-1),'Cấu hình'!$C$17,'Cấu hình'!$E$6:$E$35)) -> 46686 | V29: =IF(D29="","",_xlfn.NETWORKDAYS.INTL(S29,T29,'Cấu hình'!$C$17,'Cấu hình'!$E$6:$E$35)-1) -> 0 | W29: =IF(D29="","",IF(V29<=0,"Găng","")) -> Găng | X29: =IF(D29="","",J29*K29) -> 10 | Y29: =IF(D29="","",M29*J29*K29) -> 140 | Z29: =IF(D29="","",IF(OR(AND(N29<>"",IFERROR(MATCH(N29,$B$6:B28,0),0)=0),AND(O29<>"",IFERROR(MATCH(O29,$B$6:B28,0),0)=0)),"Kiểm tra mã CV trước","")) | AC29: =IF(D29="",0,R29) -> 46686 | AD29: =IF(D29="",0,S29) -> 46703 | AE29: =IF(D29="",0,H29) -> 2400000000 | AF29: =IF(D29="",0,X29) -> 10 | AG29: =IF(D29="","",_xlfn.WORKDAY.INTL(U29,-(1+P29),'Cấu hình'!$C$17,'Cấu hình'!$E$6:$E$35)) -> 46699 | AH29: =IF(W29="Găng",COUNTIF(W$7:W29,"Găng"),"") -> 15
A30: =IF(D30="","",COUNTA($D$7:D30)) -> 24 | B30: F01 | C30: Hạ tầng và bàn giao | D30: Hạ tầng kỹ thuật ngoài nhà, sân đường | E30: m2 | F30: 3500 | G30: 600000 | H30: =IF(D30="","",F30*G30) -> 2100000000 | I30: 100 | J30: 2 | K30: 8 | M30: =IF(D30="","",IF(L30<>"",L30,IF(I30*J30>0,MAX(1,ROUNDUP(F30/(I30*J30),0)),1))) -> 18 | N30: E03 | R30: {=IF(D30="","",_xlfn.WORKDAY.INTL(MAX('Cấu hình'!$C$15,N(Q30),IF(N30="",0,IFERROR(_xlfn.WORKDAY.INTL(INDEX($S$6:S29,MATCH(N30,$B$6:B29,0)),1+P30,'Cấu hình'!$C$17,'Cấu hình'!$E$6:$E$35),0)),IF(O30="",0,IFERROR(_xlfn.WORKDAY.INTL(INDEX($S$6:S29,MATCH(O30,$B$6:B29,0)),1+P30,'Cấu hình'!$C$17,'Cấu hình'!$E$6:$E$35),0)))-1,1,'Cấu hình'!$C$17,'Cấu hình'!$E$6:$E$35))} -> 46680 | S30: =IF(D30="","",_xlfn.WORKDAY.INTL(R30,M30-1,'Cấu hình'!$C$17,'Cấu hình'!$E$6:$E$35)) -> 46703 | T30: =IF(D30="","",MIN($S$4,IF(B30="",$S$4,MIN(IF(COUNTIF(N31:N$67,B30)>0,MINIFS(AG31:AG$67,N31:N$67,B30),$S$4),IF(COUNTIF(O31:O$67,B30)>0,MINIFS(AG31:AG$67,O31:O$67,B30),$S$4))))) -> 46703 | U30: =IF(D30="","",_xlfn.WORKDAY.INTL(T30,-(M30-1),'Cấu hình'!$C$17,'Cấu hình'!$E$6:$E$35)) -> 46680 | V30: =IF(D30="","",_xlfn.NETWORKDAYS.INTL(S30,T30,'Cấu hình'!$C$17,'Cấu hình'!$E$6:$E$35)-1) -> 0 | W30: =IF(D30="","",IF(V30<=0,"Găng","")) -> Găng | X30: =IF(D30="","",J30*K30) -> 16 | Y30: =IF(D30="","",M30*J30*K30) -> 288 | Z30: =IF(D30="","",IF(OR(AND(N30<>"",IFERROR(MATCH(N30,$B$6:B29,0),0)=0),AND(O30<>"",IFERROR(MATCH(O30,$B$6:B29,0),0)=0)),"Kiểm tra mã CV trước","")) | AC30: =IF(D30="",0,R30) -> 46680 | AD30: =IF(D30="",0,S30) -> 46703 | AE30: =IF(D30="",0,H30) -> 2100000000 | AF30: =IF(D30="",0,X30) -> 16 | AG30: =IF(D30="","",_xlfn.WORKDAY.INTL(U30,-(1+P30),'Cấu hình'!$C$17,'Cấu hình'!$E$6:$E$35)) -> 46679 | AH30: =IF(W30="Găng",COUNTIF(W$7:W30,"Găng"),"") -> 16
A31: =IF(D31="","",COUNTA($D$7:D31)) -> 25 | B31: F02 | C31: Hạ tầng và bàn giao | D31: Vệ sinh công nghiệp, hoàn thiện cuối cùng | E31: m2 | F31: 12000 | G31: 15000 | H31: =IF(D31="","",F31*G31) -> 180000000 | I31: 600 | J31: 2 | K31: 10 | M31: =IF(D31="","",IF(L31<>"",L31,IF(I31*J31>0,MAX(1,ROUNDUP(F31/(I31*J31),0)),1))) -> 10 | N31: E05 | O31: F01 | R31: {=IF(D31="","",_xlfn.WORKDAY.INTL(MAX('Cấu hình'!$C$15,N(Q31),IF(N31="",0,IFERROR(_xlfn.WORKDAY.INTL(INDEX($S$6:S30,MATCH(N31,$B$6:B30,0)),1+P31,'Cấu hình'!$C$17,'Cấu hình'!$E$6:$E$35),0)),IF(O31="",0,IFERROR(_xlfn.WORKDAY.INTL(INDEX($S$6:S30,MATCH(O31,$B$6:B30,0)),1+P31,'Cấu hình'!$C$17,'Cấu hình'!$E$6:$E$35),0)))-1,1,'Cấu hình'!$C$17,'Cấu hình'!$E$6:$E$35))} -> 46706 | S31: =IF(D31="","",_xlfn.WORKDAY.INTL(R31,M31-1,'Cấu hình'!$C$17,'Cấu hình'!$E$6:$E$35)) -> 46717 | T31: =IF(D31="","",MIN($S$4,IF(B31="",$S$4,MIN(IF(COUNTIF(N32:N$67,B31)>0,MINIFS(AG32:AG$67,N32:N$67,B31),$S$4),IF(COUNTIF(O32:O$67,B31)>0,MINIFS(AG32:AG$67,O32:O$67,B31),$S$4))))) -> 46717 | U31: =IF(D31="","",_xlfn.WORKDAY.INTL(T31,-(M31-1),'Cấu hình'!$C$17,'Cấu hình'!$E$6:$E$35)) -> 46706 | V31: =IF(D31="","",_xlfn.NETWORKDAYS.INTL(S31,T31,'Cấu hình'!$C$17,'Cấu hình'!$E$6:$E$35)-1) -> 0 | W31: =IF(D31="","",IF(V31<=0,"Găng","")) -> Găng | X31: =IF(D31="","",J31*K31) -> 20 | Y31: =IF(D31="","",M31*J31*K31) -> 200 | Z31: =IF(D31="","",IF(OR(AND(N31<>"",IFERROR(MATCH(N31,$B$6:B30,0),0)=0),AND(O31<>"",IFERROR(MATCH(O31,$B$6:B30,0),0)=0)),"Kiểm tra mã CV trước","")) | AC31: =IF(D31="",0,R31) -> 46706 | AD31: =IF(D31="",0,S31) -> 46717 | AE31: =IF(D31="",0,H31) -> 180000000 | AF31: =IF(D31="",0,X31) -> 20 | AG31: =IF(D31="","",_xlfn.WORKDAY.INTL(U31,-(1+P31),'Cấu hình'!$C$17,'Cấu hình'!$E$6:$E$35)) -> 46703 | AH31: =IF(W31="Găng",COUNTIF(W$7:W31,"Găng"),"") -> 17
A32: =IF(D32="","",COUNTA($D$7:D32)) -> 26 | B32: F03 | C32: Hạ tầng và bàn giao | D32: Nghiệm thu, bàn giao công trình | E32: trọn gói | F32: 1 | G32: 0 | H32: =IF(D32="","",F32*G32) -> 0 | J32: 1 | K32: 6 | L32: 7 | M32: =IF(D32="","",IF(L32<>"",L32,IF(I32*J32>0,MAX(1,ROUNDUP(F32/(I32*J32),0)),1))) -> 7 | N32: F02 | O32: E04 | R32: {=IF(D32="","",_xlfn.WORKDAY.INTL(MAX('Cấu hình'!$C$15,N(Q32),IF(N32="",0,IFERROR(_xlfn.WORKDAY.INTL(INDEX($S$6:S31,MATCH(N32,$B$6:B31,0)),1+P32,'Cấu hình'!$C$17,'Cấu hình'!$E$6:$E$35),0)),IF(O32="",0,IFERROR(_xlfn.WORKDAY.INTL(INDEX($S$6:S31,MATCH(O32,$B$6:B31,0)),1+P32,'Cấu hình'!$C$17,'Cấu hình'!$E$6:$E$35),0)))-1,1,'Cấu hình'!$C$17,'Cấu hình'!$E$6:$E$35))} -> 46720 | S32: =IF(D32="","",_xlfn.WORKDAY.INTL(R32,M32-1,'Cấu hình'!$C$17,'Cấu hình'!$E$6:$E$35)) -> 46728 | T32: =IF(D32="","",MIN($S$4,IF(B32="",$S$4,MIN(IF(COUNTIF(N33:N$67,B32)>0,MINIFS(AG33:AG$67,N33:N$67,B32),$S$4),IF(COUNTIF(O33:O$67,B32)>0,MINIFS(AG33:AG$67,O33:O$67,B32),$S$4))))) -> 46728 | U32: =IF(D32="","",_xlfn.WORKDAY.INTL(T32,-(M32-1),'Cấu hình'!$C$17,'Cấu hình'!$E$6:$E$35)) -> 46720 | V32: =IF(D32="","",_xlfn.NETWORKDAYS.INTL(S32,T32,'Cấu hình'!$C$17,'Cấu hình'!$E$6:$E$35)-1) -> 0 | W32: =IF(D32="","",IF(V32<=0,"Găng","")) -> Găng | X32: =IF(D32="","",J32*K32) -> 6 | Y32: =IF(D32="","",M32*J32*K32) -> 42 | Z32: =IF(D32="","",IF(OR(AND(N32<>"",IFERROR(MATCH(N32,$B$6:B31,0),0)=0),AND(O32<>"",IFERROR(MATCH(O32,$B$6:B31,0),0)=0)),"Kiểm tra mã CV trước","")) | AC32: =IF(D32="",0,R32) -> 46720 | AD32: =IF(D32="",0,S32) -> 46728 | AE32: =IF(D32="",0,H32) -> 0 | AF32: =IF(D32="",0,X32) -> 6 | AG32: =IF(D32="","",_xlfn.WORKDAY.INTL(U32,-(1+P32),'Cấu hình'!$C$17,'Cấu hình'!$E$6:$E$35)) -> 46717 | AH32: =IF(W32="Găng",COUNTIF(W$7:W32,"Găng"),"") -> 18
A33: =IF(D33="","",COUNTA($D$7:D33)) | H33: =IF(D33="","",F33*G33) | M33: =IF(D33="","",IF(L33<>"",L33,IF(I33*J33>0,MAX(1,ROUNDUP(F33/(I33*J33),0)),1))) | R33: {=IF(D33="","",_xlfn.WORKDAY.INTL(MAX('Cấu hình'!$C$15,N(Q33),IF(N33="",0,IFERROR(_xlfn.WORKDAY.INTL(INDEX($S$6:S32,MATCH(N33,$B$6:B32,0)),1+P33,'Cấu hình'!$C$17,'Cấu hình'!$E$6:$E$35),0)),IF(O33="",0,IFERROR(_xlfn.WORKDAY.INTL(INDEX($S$6:S32,MATCH(O33,$B$6:B32,0)),1+P33,'Cấu hình'!$C$17,'Cấu hình'!$E$6:$E$35),0)))-1,1,'Cấu hình'!$C$17,'Cấu hình'!$E$6:$E$35))} | S33: =IF(D33="","",_xlfn.WORKDAY.INTL(R33,M33-1,'Cấu hình'!$C$17,'Cấu hình'!$E$6:$E$35)) | T33: =IF(D33="","",MIN($S$4,IF(B33="",$S$4,MIN(IF(COUNTIF(N34:N$67,B33)>0,MINIFS(AG34:AG$67,N34:N$67,B33),$S$4),IF(COUNTIF(O34:O$67,B33)>0,MINIFS(AG34:AG$67,O34:O$67,B33),$S$4))))) | U33: =IF(D33="","",_xlfn.WORKDAY.INTL(T33,-(M33-1),'Cấu hình'!$C$17,'Cấu hình'!$E$6:$E$35)) | V33: =IF(D33="","",_xlfn.NETWORKDAYS.INTL(S33,T33,'Cấu hình'!$C$17,'Cấu hình'!$E$6:$E$35)-1) | W33: =IF(D33="","",IF(V33<=0,"Găng","")) | X33: =IF(D33="","",J33*K33) | Y33: =IF(D33="","",M33*J33*K33) | Z33: =IF(D33="","",IF(OR(AND(N33<>"",IFERROR(MATCH(N33,$B$6:B32,0),0)=0),AND(O33<>"",IFERROR(MATCH(O33,$B$6:B32,0),0)=0)),"Kiểm tra mã CV trước","")) | AC33: =IF(D33="",0,R33) -> 0 | AD33: =IF(D33="",0,S33) -> 0 | AE33: =IF(D33="",0,H33) -> 0 | AF33: =IF(D33="",0,X33) -> 0 | AG33: =IF(D33="","",_xlfn.WORKDAY.INTL(U33,-(1+P33),'Cấu hình'!$C$17,'Cấu hình'!$E$6:$E$35)) | AH33: =IF(W33="Găng",COUNTIF(W$7:W33,"Găng"),"")
A34: =IF(D34="","",COUNTA($D$7:D34)) | H34: =IF(D34="","",F34*G34) | M34: =IF(D34="","",IF(L34<>"",L34,IF(I34*J34>0,MAX(1,ROUNDUP(F34/(I34*J34),0)),1))) | R34: {=IF(D34="","",_xlfn.WORKDAY.INTL(MAX('Cấu hình'!$C$15,N(Q34),IF(N34="",0,IFERROR(_xlfn.WORKDAY.INTL(INDEX($S$6:S33,MATCH(N34,$B$6:B33,0)),1+P34,'Cấu hình'!$C$17,'Cấu hình'!$E$6:$E$35),0)),IF(O34="",0,IFERROR(_xlfn.WORKDAY.INTL(INDEX($S$6:S33,MATCH(O34,$B$6:B33,0)),1+P34,'Cấu hình'!$C$17,'Cấu hình'!$E$6:$E$35),0)))-1,1,'Cấu hình'!$C$17,'Cấu hình'!$E$6:$E$35))} | S34: =IF(D34="","",_xlfn.WORKDAY.INTL(R34,M34-1,'Cấu hình'!$C$17,'Cấu hình'!$E$6:$E$35)) | T34: =IF(D34="","",MIN($S$4,IF(B34="",$S$4,MIN(IF(COUNTIF(N35:N$67,B34)>0,MINIFS(AG35:AG$67,N35:N$67,B34),$S$4),IF(COUNTIF(O35:O$67,B34)>0,MINIFS(AG35:AG$67,O35:O$67,B34),$S$4))))) | U34: =IF(D34="","",_xlfn.WORKDAY.INTL(T34,-(M34-1),'Cấu hình'!$C$17,'Cấu hình'!$E$6:$E$35)) | V34: =IF(D34="","",_xlfn.NETWORKDAYS.INTL(S34,T34,'Cấu hình'!$C$17,'Cấu hình'!$E$6:$E$35)-1) | W34: =IF(D34="","",IF(V34<=0,"Găng","")) | X34: =IF(D34="","",J34*K34) | Y34: =IF(D34="","",M34*J34*K34) | Z34: =IF(D34="","",IF(OR(AND(N34<>"",IFERROR(MATCH(N34,$B$6:B33,0),0)=0),AND(O34<>"",IFERROR(MATCH(O34,$B$6:B33,0),0)=0)),"Kiểm tra mã CV trước","")) | AC34: =IF(D34="",0,R34) -> 0 | AD34: =IF(D34="",0,S34) -> 0 | AE34: =IF(D34="",0,H34) -> 0 | AF34: =IF(D34="",0,X34) -> 0 | AG34: =IF(D34="","",_xlfn.WORKDAY.INTL(U34,-(1+P34),'Cấu hình'!$C$17,'Cấu hình'!$E$6:$E$35)) | AH34: =IF(W34="Găng",COUNTIF(W$7:W34,"Găng"),"")
A35: =IF(D35="","",COUNTA($D$7:D35)) | H35: =IF(D35="","",F35*G35) | M35: =IF(D35="","",IF(L35<>"",L35,IF(I35*J35>0,MAX(1,ROUNDUP(F35/(I35*J35),0)),1))) | R35: {=IF(D35="","",_xlfn.WORKDAY.INTL(MAX('Cấu hình'!$C$15,N(Q35),IF(N35="",0,IFERROR(_xlfn.WORKDAY.INTL(INDEX($S$6:S34,MATCH(N35,$B$6:B34,0)),1+P35,'Cấu hình'!$C$17,'Cấu hình'!$E$6:$E$35),0)),IF(O35="",0,IFERROR(_xlfn.WORKDAY.INTL(INDEX($S$6:S34,MATCH(O35,$B$6:B34,0)),1+P35,'Cấu hình'!$C$17,'Cấu hình'!$E$6:$E$35),0)))-1,1,'Cấu hình'!$C$17,'Cấu hình'!$E$6:$E$35))} | S35: =IF(D35="","",_xlfn.WORKDAY.INTL(R35,M35-1,'Cấu hình'!$C$17,'Cấu hình'!$E$6:$E$35)) | T35: =IF(D35="","",MIN($S$4,IF(B35="",$S$4,MIN(IF(COUNTIF(N36:N$67,B35)>0,MINIFS(AG36:AG$67,N36:N$67,B35),$S$4),IF(COUNTIF(O36:O$67,B35)>0,MINIFS(AG36:AG$67,O36:O$67,B35),$S$4))))) | U35: =IF(D35="","",_xlfn.WORKDAY.INTL(T35,-(M35-1),'Cấu hình'!$C$17,'Cấu hình'!$E$6:$E$35)) | V35: =IF(D35="","",_xlfn.NETWORKDAYS.INTL(S35,T35,'Cấu hình'!$C$17,'Cấu hình'!$E$6:$E$35)-1) | W35: =IF(D35="","",IF(V35<=0,"Găng","")) | X35: =IF(D35="","",J35*K35) | Y35: =IF(D35="","",M35*J35*K35) | Z35: =IF(D35="","",IF(OR(AND(N35<>"",IFERROR(MATCH(N35,$B$6:B34,0),0)=0),AND(O35<>"",IFERROR(MATCH(O35,$B$6:B34,0),0)=0)),"Kiểm tra mã CV trước","")) | AC35: =IF(D35="",0,R35) -> 0 | AD35: =IF(D35="",0,S35) -> 0 | AE35: =IF(D35="",0,H35) -> 0 | AF35: =IF(D35="",0,X35) -> 0 | AG35: =IF(D35="","",_xlfn.WORKDAY.INTL(U35,-(1+P35),'Cấu hình'!$C$17,'Cấu hình'!$E$6:$E$35)) | AH35: =IF(W35="Găng",COUNTIF(W$7:W35,"Găng"),"")
A36: =IF(D36="","",COUNTA($D$7:D36)) | H36: =IF(D36="","",F36*G36) | M36: =IF(D36="","",IF(L36<>"",L36,IF(I36*J36>0,MAX(1,ROUNDUP(F36/(I36*J36),0)),1))) | R36: {=IF(D36="","",_xlfn.WORKDAY.INTL(MAX('Cấu hình'!$C$15,N(Q36),IF(N36="",0,IFERROR(_xlfn.WORKDAY.INTL(INDEX($S$6:S35,MATCH(N36,$B$6:B35,0)),1+P36,'Cấu hình'!$C$17,'Cấu hình'!$E$6:$E$35),0)),IF(O36="",0,IFERROR(_xlfn.WORKDAY.INTL(INDEX($S$6:S35,MATCH(O36,$B$6:B35,0)),1+P36,'Cấu hình'!$C$17,'Cấu hình'!$E$6:$E$35),0)))-1,1,'Cấu hình'!$C$17,'Cấu hình'!$E$6:$E$35))} | S36: =IF(D36="","",_xlfn.WORKDAY.INTL(R36,M36-1,'Cấu hình'!$C$17,'Cấu hình'!$E$6:$E$35)) | T36: =IF(D36="","",MIN($S$4,IF(B36="",$S$4,MIN(IF(COUNTIF(N37:N$67,B36)>0,MINIFS(AG37:AG$67,N37:N$67,B36),$S$4),IF(COUNTIF(O37:O$67,B36)>0,MINIFS(AG37:AG$67,O37:O$67,B36),$S$4))))) | U36: =IF(D36="","",_xlfn.WORKDAY.INTL(T36,-(M36-1),'Cấu hình'!$C$17,'Cấu hình'!$E$6:$E$35)) | V36: =IF(D36="","",_xlfn.NETWORKDAYS.INTL(S36,T36,'Cấu hình'!$C$17,'Cấu hình'!$E$6:$E$35)-1) | W36: =IF(D36="","",IF(V36<=0,"Găng","")) | X36: =IF(D36="","",J36*K36) | Y36: =IF(D36="","",M36*J36*K36) | Z36: =IF(D36="","",IF(OR(AND(N36<>"",IFERROR(MATCH(N36,$B$6:B35,0),0)=0),AND(O36<>"",IFERROR(MATCH(O36,$B$6:B35,0),0)=0)),"Kiểm tra mã CV trước","")) | AC36: =IF(D36="",0,R36) -> 0 | AD36: =IF(D36="",0,S36) -> 0 | AE36: =IF(D36="",0,H36) -> 0 | AF36: =IF(D36="",0,X36) -> 0 | AG36: =IF(D36="","",_xlfn.WORKDAY.INTL(U36,-(1+P36),'Cấu hình'!$C$17,'Cấu hình'!$E$6:$E$35)) | AH36: =IF(W36="Găng",COUNTIF(W$7:W36,"Găng"),"")
A37: =IF(D37="","",COUNTA($D$7:D37)) | H37: =IF(D37="","",F37*G37) | M37: =IF(D37="","",IF(L37<>"",L37,IF(I37*J37>0,MAX(1,ROUNDUP(F37/(I37*J37),0)),1))) | R37: {=IF(D37="","",_xlfn.WORKDAY.INTL(MAX('Cấu hình'!$C$15,N(Q37),IF(N37="",0,IFERROR(_xlfn.WORKDAY.INTL(INDEX($S$6:S36,MATCH(N37,$B$6:B36,0)),1+P37,'Cấu hình'!$C$17,'Cấu hình'!$E$6:$E$35),0)),IF(O37="",0,IFERROR(_xlfn.WORKDAY.INTL(INDEX($S$6:S36,MATCH(O37,$B$6:B36,0)),1+P37,'Cấu hình'!$C$17,'Cấu hình'!$E$6:$E$35),0)))-1,1,'Cấu hình'!$C$17,'Cấu hình'!$E$6:$E$35))} | S37: =IF(D37="","",_xlfn.WORKDAY.INTL(R37,M37-1,'Cấu hình'!$C$17,'Cấu hình'!$E$6:$E$35)) | T37: =IF(D37="","",MIN($S$4,IF(B37="",$S$4,MIN(IF(COUNTIF(N38:N$67,B37)>0,MINIFS(AG38:AG$67,N38:N$67,B37),$S$4),IF(COUNTIF(O38:O$67,B37)>0,MINIFS(AG38:AG$67,O38:O$67,B37),$S$4))))) | U37: =IF(D37="","",_xlfn.WORKDAY.INTL(T37,-(M37-1),'Cấu hình'!$C$17,'Cấu hình'!$E$6:$E$35)) | V37: =IF(D37="","",_xlfn.NETWORKDAYS.INTL(S37,T37,'Cấu hình'!$C$17,'Cấu hình'!$E$6:$E$35)-1) | W37: =IF(D37="","",IF(V37<=0,"Găng","")) | X37: =IF(D37="","",J37*K37) | Y37: =IF(D37="","",M37*J37*K37) | Z37: =IF(D37="","",IF(OR(AND(N37<>"",IFERROR(MATCH(N37,$B$6:B36,0),0)=0),AND(O37<>"",IFERROR(MATCH(O37,$B$6:B36,0),0)=0)),"Kiểm tra mã CV trước","")) | AC37: =IF(D37="",0,R37) -> 0 | AD37: =IF(D37="",0,S37) -> 0 | AE37: =IF(D37="",0,H37) -> 0 | AF37: =IF(D37="",0,X37) -> 0 | AG37: =IF(D37="","",_xlfn.WORKDAY.INTL(U37,-(1+P37),'Cấu hình'!$C$17,'Cấu hình'!$E$6:$E$35)) | AH37: =IF(W37="Găng",COUNTIF(W$7:W37,"Găng"),"")
A38: =IF(D38="","",COUNTA($D$7:D38)) | H38: =IF(D38="","",F38*G38) | M38: =IF(D38="","",IF(L38<>"",L38,IF(I38*J38>0,MAX(1,ROUNDUP(F38/(I38*J38),0)),1))) | R38: {=IF(D38="","",_xlfn.WORKDAY.INTL(MAX('Cấu hình'!$C$15,N(Q38),IF(N38="",0,IFERROR(_xlfn.WORKDAY.INTL(INDEX($S$6:S37,MATCH(N38,$B$6:B37,0)),1+P38,'Cấu hình'!$C$17,'Cấu hình'!$E$6:$E$35),0)),IF(O38="",0,IFERROR(_xlfn.WORKDAY.INTL(INDEX($S$6:S37,MATCH(O38,$B$6:B37,0)),1+P38,'Cấu hình'!$C$17,'Cấu hình'!$E$6:$E$35),0)))-1,1,'Cấu hình'!$C$17,'Cấu hình'!$E$6:$E$35))} | S38: =IF(D38="","",_xlfn.WORKDAY.INTL(R38,M38-1,'Cấu hình'!$C$17,'Cấu hình'!$E$6:$E$35)) | T38: =IF(D38="","",MIN($S$4,IF(B38="",$S$4,MIN(IF(COUNTIF(N39:N$67,B38)>0,MINIFS(AG39:AG$67,N39:N$67,B38),$S$4),IF(COUNTIF(O39:O$67,B38)>0,MINIFS(AG39:AG$67,O39:O$67,B38),$S$4))))) | U38: =IF(D38="","",_xlfn.WORKDAY.INTL(T38,-(M38-1),'Cấu hình'!$C$17,'Cấu hình'!$E$6:$E$35)) | V38: =IF(D38="","",_xlfn.NETWORKDAYS.INTL(S38,T38,'Cấu hình'!$C$17,'Cấu hình'!$E$6:$E$35)-1) | W38: =IF(D38="","",IF(V38<=0,"Găng","")) | X38: =IF(D38="","",J38*K38) | Y38: =IF(D38="","",M38*J38*K38) | Z38: =IF(D38="","",IF(OR(AND(N38<>"",IFERROR(MATCH(N38,$B$6:B37,0),0)=0),AND(O38<>"",IFERROR(MATCH(O38,$B$6:B37,0),0)=0)),"Kiểm tra mã CV trước","")) | AC38: =IF(D38="",0,R38) -> 0 | AD38: =IF(D38="",0,S38) -> 0 | AE38: =IF(D38="",0,H38) -> 0 | AF38: =IF(D38="",0,X38) -> 0 | AG38: =IF(D38="","",_xlfn.WORKDAY.INTL(U38,-(1+P38),'Cấu hình'!$C$17,'Cấu hình'!$E$6:$E$35)) | AH38: =IF(W38="Găng",COUNTIF(W$7:W38,"Găng"),"")
A39: =IF(D39="","",COUNTA($D$7:D39)) | H39: =IF(D39="","",F39*G39) | M39: =IF(D39="","",IF(L39<>"",L39,IF(I39*J39>0,MAX(1,ROUNDUP(F39/(I39*J39),0)),1))) | R39: {=IF(D39="","",_xlfn.WORKDAY.INTL(MAX('Cấu hình'!$C$15,N(Q39),IF(N39="",0,IFERROR(_xlfn.WORKDAY.INTL(INDEX($S$6:S38,MATCH(N39,$B$6:B38,0)),1+P39,'Cấu hình'!$C$17,'Cấu hình'!$E$6:$E$35),0)),IF(O39="",0,IFERROR(_xlfn.WORKDAY.INTL(INDEX($S$6:S38,MATCH(O39,$B$6:B38,0)),1+P39,'Cấu hình'!$C$17,'Cấu hình'!$E$6:$E$35),0)))-1,1,'Cấu hình'!$C$17,'Cấu hình'!$E$6:$E$35))} | S39: =IF(D39="","",_xlfn.WORKDAY.INTL(R39,M39-1,'Cấu hình'!$C$17,'Cấu hình'!$E$6:$E$35)) | T39: =IF(D39="","",MIN($S$4,IF(B39="",$S$4,MIN(IF(COUNTIF(N40:N$67,B39)>0,MINIFS(AG40:AG$67,N40:N$67,B39),$S$4),IF(COUNTIF(O40:O$67,B39)>0,MINIFS(AG40:AG$67,O40:O$67,B39),$S$4))))) | U39: =IF(D39="","",_xlfn.WORKDAY.INTL(T39,-(M39-1),'Cấu hình'!$C$17,'Cấu hình'!$E$6:$E$35)) | V39: =IF(D39="","",_xlfn.NETWORKDAYS.INTL(S39,T39,'Cấu hình'!$C$17,'Cấu hình'!$E$6:$E$35)-1) | W39: =IF(D39="","",IF(V39<=0,"Găng","")) | X39: =IF(D39="","",J39*K39) | Y39: =IF(D39="","",M39*J39*K39) | Z39: =IF(D39="","",IF(OR(AND(N39<>"",IFERROR(MATCH(N39,$B$6:B38,0),0)=0),AND(O39<>"",IFERROR(MATCH(O39,$B$6:B38,0),0)=0)),"Kiểm tra mã CV trước","")) | AC39: =IF(D39="",0,R39) -> 0 | AD39: =IF(D39="",0,S39) -> 0 | AE39: =IF(D39="",0,H39) -> 0 | AF39: =IF(D39="",0,X39) -> 0 | AG39: =IF(D39="","",_xlfn.WORKDAY.INTL(U39,-(1+P39),'Cấu hình'!$C$17,'Cấu hình'!$E$6:$E$35)) | AH39: =IF(W39="Găng",COUNTIF(W$7:W39,"Găng"),"")
A40: =IF(D40="","",COUNTA($D$7:D40)) | H40: =IF(D40="","",F40*G40) | M40: =IF(D40="","",IF(L40<>"",L40,IF(I40*J40>0,MAX(1,ROUNDUP(F40/(I40*J40),0)),1))) | R40: {=IF(D40="","",_xlfn.WORKDAY.INTL(MAX('Cấu hình'!$C$15,N(Q40),IF(N40="",0,IFERROR(_xlfn.WORKDAY.INTL(INDEX($S$6:S39,MATCH(N40,$B$6:B39,0)),1+P40,'Cấu hình'!$C$17,'Cấu hình'!$E$6:$E$35),0)),IF(O40="",0,IFERROR(_xlfn.WORKDAY.INTL(INDEX($S$6:S39,MATCH(O40,$B$6:B39,0)),1+P40,'Cấu hình'!$C$17,'Cấu hình'!$E$6:$E$35),0)))-1,1,'Cấu hình'!$C$17,'Cấu hình'!$E$6:$E$35))} | S40: =IF(D40="","",_xlfn.WORKDAY.INTL(R40,M40-1,'Cấu hình'!$C$17,'Cấu hình'!$E$6:$E$35)) | T40: =IF(D40="","",MIN($S$4,IF(B40="",$S$4,MIN(IF(COUNTIF(N41:N$67,B40)>0,MINIFS(AG41:AG$67,N41:N$67,B40),$S$4),IF(COUNTIF(O41:O$67,B40)>0,MINIFS(AG41:AG$67,O41:O$67,B40),$S$4))))) | U40: =IF(D40="","",_xlfn.WORKDAY.INTL(T40,-(M40-1),'Cấu hình'!$C$17,'Cấu hình'!$E$6:$E$35)) | V40: =IF(D40="","",_xlfn.NETWORKDAYS.INTL(S40,T40,'Cấu hình'!$C$17,'Cấu hình'!$E$6:$E$35)-1) | W40: =IF(D40="","",IF(V40<=0,"Găng","")) | X40: =IF(D40="","",J40*K40) | Y40: =IF(D40="","",M40*J40*K40) | Z40: =IF(D40="","",IF(OR(AND(N40<>"",IFERROR(MATCH(N40,$B$6:B39,0),0)=0),AND(O40<>"",IFERROR(MATCH(O40,$B$6:B39,0),0)=0)),"Kiểm tra mã CV trước","")) | AC40: =IF(D40="",0,R40) -> 0 | AD40: =IF(D40="",0,S40) -> 0 | AE40: =IF(D40="",0,H40) -> 0 | AF40: =IF(D40="",0,X40) -> 0 | AG40: =IF(D40="","",_xlfn.WORKDAY.INTL(U40,-(1+P40),'Cấu hình'!$C$17,'Cấu hình'!$E$6:$E$35)) | AH40: =IF(W40="Găng",COUNTIF(W$7:W40,"Găng"),"")
A41: =IF(D41="","",COUNTA($D$7:D41)) | H41: =IF(D41="","",F41*G41) | M41: =IF(D41="","",IF(L41<>"",L41,IF(I41*J41>0,MAX(1,ROUNDUP(F41/(I41*J41),0)),1))) | R41: {=IF(D41="","",_xlfn.WORKDAY.INTL(MAX('Cấu hình'!$C$15,N(Q41),IF(N41="",0,IFERROR(_xlfn.WORKDAY.INTL(INDEX($S$6:S40,MATCH(N41,$B$6:B40,0)),1+P41,'Cấu hình'!$C$17,'Cấu hình'!$E$6:$E$35),0)),IF(O41="",0,IFERROR(_xlfn.WORKDAY.INTL(INDEX($S$6:S40,MATCH(O41,$B$6:B40,0)),1+P41,'Cấu hình'!$C$17,'Cấu hình'!$E$6:$E$35),0)))-1,1,'Cấu hình'!$C$17,'Cấu hình'!$E$6:$E$35))} | S41: =IF(D41="","",_xlfn.WORKDAY.INTL(R41,M41-1,'Cấu hình'!$C$17,'Cấu hình'!$E$6:$E$35)) | T41: =IF(D41="","",MIN($S$4,IF(B41="",$S$4,MIN(IF(COUNTIF(N42:N$67,B41)>0,MINIFS(AG42:AG$67,N42:N$67,B41),$S$4),IF(COUNTIF(O42:O$67,B41)>0,MINIFS(AG42:AG$67,O42:O$67,B41),$S$4))))) | U41: =IF(D41="","",_xlfn.WORKDAY.INTL(T41,-(M41-1),'Cấu hình'!$C$17,'Cấu hình'!$E$6:$E$35)) | V41: =IF(D41="","",_xlfn.NETWORKDAYS.INTL(S41,T41,'Cấu hình'!$C$17,'Cấu hình'!$E$6:$E$35)-1) | W41: =IF(D41="","",IF(V41<=0,"Găng","")) | X41: =IF(D41="","",J41*K41) | Y41: =IF(D41="","",M41*J41*K41) | Z41: =IF(D41="","",IF(OR(AND(N41<>"",IFERROR(MATCH(N41,$B$6:B40,0),0)=0),AND(O41<>"",IFERROR(MATCH(O41,$B$6:B40,0),0)=0)),"Kiểm tra mã CV trước","")) | AC41: =IF(D41="",0,R41) -> 0 | AD41: =IF(D41="",0,S41) -> 0 | AE41: =IF(D41="",0,H41) -> 0 | AF41: =IF(D41="",0,X41) -> 0 | AG41: =IF(D41="","",_xlfn.WORKDAY.INTL(U41,-(1+P41),'Cấu hình'!$C$17,'Cấu hình'!$E$6:$E$35)) | AH41: =IF(W41="Găng",COUNTIF(W$7:W41,"Găng"),"")
A42: =IF(D42="","",COUNTA($D$7:D42)) | H42: =IF(D42="","",F42*G42) | M42: =IF(D42="","",IF(L42<>"",L42,IF(I42*J42>0,MAX(1,ROUNDUP(F42/(I42*J42),0)),1))) | R42: {=IF(D42="","",_xlfn.WORKDAY.INTL(MAX('Cấu hình'!$C$15,N(Q42),IF(N42="",0,IFERROR(_xlfn.WORKDAY.INTL(INDEX($S$6:S41,MATCH(N42,$B$6:B41,0)),1+P42,'Cấu hình'!$C$17,'Cấu hình'!$E$6:$E$35),0)),IF(O42="",0,IFERROR(_xlfn.WORKDAY.INTL(INDEX($S$6:S41,MATCH(O42,$B$6:B41,0)),1+P42,'Cấu hình'!$C$17,'Cấu hình'!$E$6:$E$35),0)))-1,1,'Cấu hình'!$C$17,'Cấu hình'!$E$6:$E$35))} | S42: =IF(D42="","",_xlfn.WORKDAY.INTL(R42,M42-1,'Cấu hình'!$C$17,'Cấu hình'!$E$6:$E$35)) | T42: =IF(D42="","",MIN($S$4,IF(B42="",$S$4,MIN(IF(COUNTIF(N43:N$67,B42)>0,MINIFS(AG43:AG$67,N43:N$67,B42),$S$4),IF(COUNTIF(O43:O$67,B42)>0,MINIFS(AG43:AG$67,O43:O$67,B42),$S$4))))) | U42: =IF(D42="","",_xlfn.WORKDAY.INTL(T42,-(M42-1),'Cấu hình'!$C$17,'Cấu hình'!$E$6:$E$35)) | V42: =IF(D42="","",_xlfn.NETWORKDAYS.INTL(S42,T42,'Cấu hình'!$C$17,'Cấu hình'!$E$6:$E$35)-1) | W42: =IF(D42="","",IF(V42<=0,"Găng","")) | X42: =IF(D42="","",J42*K42) | Y42: =IF(D42="","",M42*J42*K42) | Z42: =IF(D42="","",IF(OR(AND(N42<>"",IFERROR(MATCH(N42,$B$6:B41,0),0)=0),AND(O42<>"",IFERROR(MATCH(O42,$B$6:B41,0),0)=0)),"Kiểm tra mã CV trước","")) | AC42: =IF(D42="",0,R42) -> 0 | AD42: =IF(D42="",0,S42) -> 0 | AE42: =IF(D42="",0,H42) -> 0 | AF42: =IF(D42="",0,X42) -> 0 | AG42: =IF(D42="","",_xlfn.WORKDAY.INTL(U42,-(1+P42),'Cấu hình'!$C$17,'Cấu hình'!$E$6:$E$35)) | AH42: =IF(W42="Găng",COUNTIF(W$7:W42,"Găng"),"")
A43: =IF(D43="","",COUNTA($D$7:D43)) | H43: =IF(D43="","",F43*G43) | M43: =IF(D43="","",IF(L43<>"",L43,IF(I43*J43>0,MAX(1,ROUNDUP(F43/(I43*J43),0)),1))) | R43: {=IF(D43="","",_xlfn.WORKDAY.INTL(MAX('Cấu hình'!$C$15,N(Q43),IF(N43="",0,IFERROR(_xlfn.WORKDAY.INTL(INDEX($S$6:S42,MATCH(N43,$B$6:B42,0)),1+P43,'Cấu hình'!$C$17,'Cấu hình'!$E$6:$E$35),0)),IF(O43="",0,IFERROR(_xlfn.WORKDAY.INTL(INDEX($S$6:S42,MATCH(O43,$B$6:B42,0)),1+P43,'Cấu hình'!$C$17,'Cấu hình'!$E$6:$E$35),0)))-1,1,'Cấu hình'!$C$17,'Cấu hình'!$E$6:$E$35))} | S43: =IF(D43="","",_xlfn.WORKDAY.INTL(R43,M43-1,'Cấu hình'!$C$17,'Cấu hình'!$E$6:$E$35)) | T43: =IF(D43="","",MIN($S$4,IF(B43="",$S$4,MIN(IF(COUNTIF(N44:N$67,B43)>0,MINIFS(AG44:AG$67,N44:N$67,B43),$S$4),IF(COUNTIF(O44:O$67,B43)>0,MINIFS(AG44:AG$67,O44:O$67,B43),$S$4))))) | U43: =IF(D43="","",_xlfn.WORKDAY.INTL(T43,-(M43-1),'Cấu hình'!$C$17,'Cấu hình'!$E$6:$E$35)) | V43: =IF(D43="","",_xlfn.NETWORKDAYS.INTL(S43,T43,'Cấu hình'!$C$17,'Cấu hình'!$E$6:$E$35)-1) | W43: =IF(D43="","",IF(V43<=0,"Găng","")) | X43: =IF(D43="","",J43*K43) | Y43: =IF(D43="","",M43*J43*K43) | Z43: =IF(D43="","",IF(OR(AND(N43<>"",IFERROR(MATCH(N43,$B$6:B42,0),0)=0),AND(O43<>"",IFERROR(MATCH(O43,$B$6:B42,0),0)=0)),"Kiểm tra mã CV trước","")) | AC43: =IF(D43="",0,R43) -> 0 | AD43: =IF(D43="",0,S43) -> 0 | AE43: =IF(D43="",0,H43) -> 0 | AF43: =IF(D43="",0,X43) -> 0 | AG43: =IF(D43="","",_xlfn.WORKDAY.INTL(U43,-(1+P43),'Cấu hình'!$C$17,'Cấu hình'!$E$6:$E$35)) | AH43: =IF(W43="Găng",COUNTIF(W$7:W43,"Găng"),"")
A44: =IF(D44="","",COUNTA($D$7:D44)) | H44: =IF(D44="","",F44*G44) | M44: =IF(D44="","",IF(L44<>"",L44,IF(I44*J44>0,MAX(1,ROUNDUP(F44/(I44*J44),0)),1))) | R44: {=IF(D44="","",_xlfn.WORKDAY.INTL(MAX('Cấu hình'!$C$15,N(Q44),IF(N44="",0,IFERROR(_xlfn.WORKDAY.INTL(INDEX($S$6:S43,MATCH(N44,$B$6:B43,0)),1+P44,'Cấu hình'!$C$17,'Cấu hình'!$E$6:$E$35),0)),IF(O44="",0,IFERROR(_xlfn.WORKDAY.INTL(INDEX($S$6:S43,MATCH(O44,$B$6:B43,0)),1+P44,'Cấu hình'!$C$17,'Cấu hình'!$E$6:$E$35),0)))-1,1,'Cấu hình'!$C$17,'Cấu hình'!$E$6:$E$35))} | S44: =IF(D44="","",_xlfn.WORKDAY.INTL(R44,M44-1,'Cấu hình'!$C$17,'Cấu hình'!$E$6:$E$35)) | T44: =IF(D44="","",MIN($S$4,IF(B44="",$S$4,MIN(IF(COUNTIF(N45:N$67,B44)>0,MINIFS(AG45:AG$67,N45:N$67,B44),$S$4),IF(COUNTIF(O45:O$67,B44)>0,MINIFS(AG45:AG$67,O45:O$67,B44),$S$4))))) | U44: =IF(D44="","",_xlfn.WORKDAY.INTL(T44,-(M44-1),'Cấu hình'!$C$17,'Cấu hình'!$E$6:$E$35)) | V44: =IF(D44="","",_xlfn.NETWORKDAYS.INTL(S44,T44,'Cấu hình'!$C$17,'Cấu hình'!$E$6:$E$35)-1) | W44: =IF(D44="","",IF(V44<=0,"Găng","")) | X44: =IF(D44="","",J44*K44) | Y44: =IF(D44="","",M44*J44*K44) | Z44: =IF(D44="","",IF(OR(AND(N44<>"",IFERROR(MATCH(N44,$B$6:B43,0),0)=0),AND(O44<>"",IFERROR(MATCH(O44,$B$6:B43,0),0)=0)),"Kiểm tra mã CV trước","")) | AC44: =IF(D44="",0,R44) -> 0 | AD44: =IF(D44="",0,S44) -> 0 | AE44: =IF(D44="",0,H44) -> 0 | AF44: =IF(D44="",0,X44) -> 0 | AG44: =IF(D44="","",_xlfn.WORKDAY.INTL(U44,-(1+P44),'Cấu hình'!$C$17,'Cấu hình'!$E$6:$E$35)) | AH44: =IF(W44="Găng",COUNTIF(W$7:W44,"Găng"),"")
... A66: =IF(D66="","",COUNTA($D$7:D66)) | H66: =IF(D66="","",F66*G66) | M66: =IF(D66="","",IF(L66<>"",L66,IF(I66*J66>0,MAX(1,ROUNDUP(F66/(I66*J66),0)),1))) | R66: {=IF(D66="","",_xlfn.WORKDAY.INTL(MAX('Cấu hình'!$C$15,N(Q66),IF(N66="",0,IFERROR(_xlfn.WORKDAY.INTL(INDEX($S$6:S65,MATCH(N66,$B$6:B65,0)),1+P66,'Cấu hình'!$C$17,'Cấu hình'!$E$6:$E$35),0)),IF(O66="",0,IFERROR(_xlfn.WORKDAY.INTL(INDEX($S$6:S65,MATCH(O66,$B$6:B65,0)),1+P66,'Cấu hình'!$C$17,'Cấu hình'!$E$6:$E$35),0)))-1,1,'Cấu hình'!$C$17,'Cấu hình'!$E$6:$E$35))} | S66: =IF(D66="","",_xlfn.WORKDAY.INTL(R66,M66-1,'Cấu hình'!$C$17,'Cấu hình'!$E$6:$E$35)) | T66: =IF(D66="","",MIN($S$4,IF(B66="",$S$4,MIN(IF(COUNTIF(N67:N$67,B66)>0,MINIFS(AG67:AG$67,N67:N$67,B66),$S$4),IF(COUNTIF(O67:O$67,B66)>0,MINIFS(AG67:AG$67,O67:O$67,B66),$S$4))))) | U66: =IF(D66="","",_xlfn.WORKDAY.INTL(T66,-(M66-1),'Cấu hình'!$C$17,'Cấu hình'!$E$6:$E$35)) | V66: =IF(D66="","",_xlfn.NETWORKDAYS.INTL(S66,T66,'Cấu hình'!$C$17,'Cấu hình'!$E$6:$E$35)-1) | W66: =IF(D66="","",IF(V66<=0,"Găng","")) | X66: =IF(D66="","",J66*K66) | Y66: =IF(D66="","",M66*J66*K66) | Z66: =IF(D66="","",IF(OR(AND(N66<>"",IFERROR(MATCH(N66,$B$6:B65,0),0)=0),AND(O66<>"",IFERROR(MATCH(O66,$B$6:B65,0),0)=0)),"Kiểm tra mã CV trước","")) | AC66: =IF(D66="",0,R66) -> 0 | AD66: =IF(D66="",0,S66) -> 0 | AE66: =IF(D66="",0,H66) -> 0 | AF66: =IF(D66="",0,X66) -> 0 | AG66: =IF(D66="","",_xlfn.WORKDAY.INTL(U66,-(1+P66),'Cấu hình'!$C$17,'Cấu hình'!$E$6:$E$35)) | AH66: =IF(W66="Găng",COUNTIF(W$7:W66,"Găng"),"")
D67: TỔNG CỘNG | H67: =SUM(H7:H66) -> 37126000000 | Y67: =SUM(Y7:Y66) -> 11521

Sheet Gantt
I2: BIỂU ĐỒ GANTT KẾ HOẠCH THI CÔNG
A3: ="Công trình: "&IF('Cấu hình'!C6="","(chưa nhập)",'Cấu hình'!C6) -> Công trình: Tòa nhà văn phòng ABC – 8 tầng (dữ liệu mẫu)
B4: Ngày lập kế hoạch: | C4: ='Cấu hình'!$C$14 -> 46323 | I4: Đường găng | O4: Công việc thường | U4: Dự trữ thời gian | AA4: Ngày lập KH
A5: Tự động lấy từ sheet 'Danh mục công việc'. Mỗi cột = 1 tuần (ngày thứ Hai đầu tuần).
A6: STT | B6: Công việc | C6: Bắt đầu | D6: Kết thúc | E6: Muộn nhất | F6: Số ngày | G6: Dự trữ | H6: Găng | I6: ="T"&MONTH(I7) -> T11 | J6: =IF(MONTH(J7)<>MONTH(I7),"T"&MONTH(J7),"") | K6: =IF(MONTH(K7)<>MONTH(J7),"T"&MONTH(K7),"") | L6: =IF(MONTH(L7)<>MONTH(K7),"T"&MONTH(L7),"") | M6: =IF(MONTH(M7)<>MONTH(L7),"T"&MONTH(M7),"") | N6: =IF(MONTH(N7)<>MONTH(M7),"T"&MONTH(N7),"") -> T12 | O6: =IF(MONTH(O7)<>MONTH(N7),"T"&MONTH(O7),"") | P6: =IF(MONTH(P7)<>MONTH(O7),"T"&MONTH(P7),"") | Q6: =IF(MONTH(Q7)<>MONTH(P7),"T"&MONTH(Q7),"") | ... BP6: =IF(MONTH(BP7)<>MONTH(BO7),"T"&MONTH(BP7),"")
I7: ='Cấu hình'!$C$15-WEEKDAY('Cấu hình'!$C$15,2)+1 -> 46328 | J7: =I7+7 -> 46335 | K7: =J7+7 -> 46342 | L7: =K7+7 -> 46349 | M7: =L7+7 -> 46356 | N7: =M7+7 -> 46363 | O7: =N7+7 -> 46370 | P7: =O7+7 -> 46377 | Q7: =P7+7 -> 46384 | ... BP7: =BO7+7 -> 46741
A8: ='Danh mục công việc'!A7 -> 1 | B8: =IF('Danh mục công việc'!D7="","",'Danh mục công việc'!D7) -> Giải phóng mặt bằng, dựng lán trại, hàng rào | C8: =IF('Danh mục công việc'!D7="","",'Danh mục công việc'!R7) -> 46328 | D8: =IF('Danh mục công việc'!D7="","",'Danh mục công việc'!S7) -> 46332 | E8: =IF('Danh mục công việc'!D7="","",'Danh mục công việc'!T7) -> 46332 | F8: =IF('Danh mục công việc'!D7="","",'Danh mục công việc'!M7) -> 5 | G8: =IF('Danh mục công việc'!D7="","",'Danh mục công việc'!V7) -> 0 | H8: =IF('Danh mục công việc'!D7="","",'Danh mục công việc'!W7&"") -> Găng
A9: ='Danh mục công việc'!A8 -> 2 | B9: =IF('Danh mục công việc'!D8="","",'Danh mục công việc'!D8) -> Cấp điện nước tạm, đường công vụ | C9: =IF('Danh mục công việc'!D8="","",'Danh mục công việc'!R8) -> 46335 | D9: =IF('Danh mục công việc'!D8="","",'Danh mục công việc'!S8) -> 46339 | E9: =IF('Danh mục công việc'!D8="","",'Danh mục công việc'!T8) -> 46339 | F9: =IF('Danh mục công việc'!D8="","",'Danh mục công việc'!M8) -> 5 | G9: =IF('Danh mục công việc'!D8="","",'Danh mục công việc'!V8) -> 0 | H9: =IF('Danh mục công việc'!D8="","",'Danh mục công việc'!W8&"") -> Găng
A10: ='Danh mục công việc'!A9 -> 3 | B10: =IF('Danh mục công việc'!D9="","",'Danh mục công việc'!D9) -> Đào đất hố móng, vận chuyển đất thải | C10: =IF('Danh mục công việc'!D9="","",'Danh mục công việc'!R9) -> 46342 | D10: =IF('Danh mục công việc'!D9="","",'Danh mục công việc'!S9) -> 46345 | E10: =IF('Danh mục công việc'!D9="","",'Danh mục công việc'!T9) -> 46345 | F10: =IF('Danh mục công việc'!D9="","",'Danh mục công việc'!M9) -> 4 | G10: =IF('Danh mục công việc'!D9="","",'Danh mục công việc'!V9) -> 0 | H10: =IF('Danh mục công việc'!D9="","",'Danh mục công việc'!W9&"") -> Găng
A11: ='Danh mục công việc'!A10 -> 4 | B11: =IF('Danh mục công việc'!D10="","",'Danh mục công việc'!D10) -> Bê tông lót móng | C11: =IF('Danh mục công việc'!D10="","",'Danh mục công việc'!R10) -> 46346 | D11: =IF('Danh mục công việc'!D10="","",'Danh mục công việc'!S10) -> 46352 | E11: =IF('Danh mục công việc'!D10="","",'Danh mục công việc'!T10) -> 46352 | F11: =IF('Danh mục công việc'!D10="","",'Danh mục công việc'!M10) -> 5 | G11: =IF('Danh mục công việc'!D10="","",'Danh mục công việc'!V10) -> 0 | H11: =IF('Danh mục công việc'!D10="","",'Danh mục công việc'!W10&"") -> Găng
A12: ='Danh mục công việc'!A11 -> 5 | B12: =IF('Danh mục công việc'!D11="","",'Danh mục công việc'!D11) -> Gia công, lắp dựng cốt thép móng | C12: =IF('Danh mục công việc'!D11="","",'Danh mục công việc'!R11) -> 46353 | D12: =IF('Danh mục công việc'!D11="","",'Danh mục công việc'!S11) -> 46366 | E12: =IF('Danh mục công việc'!D11="","",'Danh mục công việc'!T11) -> 46366 | F12: =IF('Danh mục công việc'!D11="","",'Danh mục công việc'!M11) -> 10 | G12: =IF('Danh mục công việc'!D11="","",'Danh mục công việc'!V11) -> 0 | H12: =IF('Danh mục công việc'!D11="","",'Danh mục công việc'!W11&"") -> Găng
A13: ='Danh mục công việc'!A12 -> 6 | B13: =IF('Danh mục công việc'!D12="","",'Danh mục công việc'!D12) -> Lắp dựng ván khuôn móng | C13: =IF('Danh mục công việc'!D12="","",'Danh mục công việc'!R12) -> 46353 | D13: =IF('Danh mục công việc'!D12="","",'Danh mục công việc'!S12) -> 46363 | E13: =IF('Danh mục công việc'!D12="","",'Danh mục công việc'!T12) -> 46366 | F13: =IF('Danh mục công việc'!D12="","",'Danh mục công việc'!M12) -> 7 | G13: =IF('Danh mục công việc'!D12="","",'Danh mục công việc'!V12) -> 3 | H13: =IF('Danh mục công việc'!D12="","",'Danh mục công việc'!W12&"")
A14: ='Danh mục công việc'!A13 -> 7 | B14: =IF('Danh mục công việc'!D13="","",'Danh mục công việc'!D13) -> Đổ bê tông móng | C14: =IF('Danh mục công việc'!D13="","",'Danh mục công việc'!R13) -> 46367 | D14: =IF('Danh mục công việc'!D13="","",'Danh mục công việc'!S13) -> 46378 | E14: =IF('Danh mục công việc'!D13="","",'Danh mục công việc'!T13) -> 46378 | F14: =IF('Danh mục công việc'!D13="","",'Danh mục công việc'!M13) -> 8 | G14: =IF('Danh mục công việc'!D13="","",'Danh mục công việc'!V13) -> 0 | H14: =IF('Danh mục công việc'!D13="","",'Danh mục công việc'!W13&"") -> Găng
A15: ='Danh mục công việc'!A14 -> 8 | B15: =IF('Danh mục công việc'!D14="","",'Danh mục công việc'!D14) -> Lấp đất, hoàn trả mặt bằng sau móng | C15: =IF('Danh mục công việc'!D14="","",'Danh mục công việc'!R14) -> 46384 | D15: =IF('Danh mục công việc'!D14="","",'Danh mục công việc'!S14) -> 46392 | E15: =IF('Danh mục công việc'!D14="","",'Danh mục công việc'!T14) -> 46392 | F15: =IF('Danh mục công việc'!D14="","",'Danh mục công việc'!M14) -> 6 | G15: =IF('Danh mục công việc'!D14="","",'Danh mục công việc'!V14) -> 0 | H15: =IF('Danh mục công việc'!D14="","",'Danh mục công việc'!W14&"") -> Găng
A16: ='Danh mục công việc'!A15 -> 9 | B16: =IF('Danh mục công việc'!D15="","",'Danh mục công việc'!D15) -> Kết cấu thân tầng 1–2 (cốp pha, cốt thép, bê tông) | C16: =IF('Danh mục công việc'!D15="","",'Danh mục công việc'!R15) -> 46393 | D16: =IF('Danh mục công việc'!D15="","",'Danh mục công việc'!S15) -> 46413 | E16: =IF('Danh mục công việc'!D15="","",'Danh mục công việc'!T15) -> 46413 | F16: =IF('Danh mục công việc'!D15="","",'Danh mục công việc'!M15) -> 15 | G16: =IF('Danh mục công việc'!D15="","",'Danh mục công việc'!V15) -> 0 | H16: =IF('Danh mục công việc'!D15="","",'Danh mục công việc'!W15&"") -> Găng
A17: ='Danh mục công việc'!A16 -> 10 | B17: =IF('Danh mục công việc'!D16="","",'Danh mục công việc'!D16) -> Kết cấu thân tầng 3–4 | C17: =IF('Danh mục công việc'!D16="","",'Danh mục công việc'!R16) -> 46414 | D17: =IF('Danh mục công việc'!D16="","",'Danh mục công việc'!S16) -> 46441 | E17: =IF('Danh mục công việc'!D16="","",'Danh mục công việc'!T16) -> 46441 | F17: =IF('Danh mục công việc'!D16="","",'Danh mục công việc'!M16) -> 15 | G17: =IF('Danh mục công việc'!D16="","",'Danh mục công việc'!V16) -> 0 | H17: =IF('Danh mục công việc'!D16="","",'Danh mục công việc'!W16&"") -> Găng
A18: ='Danh mục công việc'!A17 -> 11 | B18: =IF('Danh mục công việc'!D17="","",'Danh mục công việc'!D17) -> Kết cấu thân tầng 5–6 | C18: =IF('Danh mục công việc'!D17="","",'Danh mục công việc'!R17) -> 46442 | D18: =IF('Danh mục công việc'!D17="","",'Danh mục công việc'!S17) -> 46462 | E18: =IF('Danh mục công việc'!D17="","",'Danh mục công việc'!T17) -> 46485 | F18: =IF('Danh mục công việc'!D17="","",'Danh mục công việc'!M17) -> 15 | G18: =IF('Danh mục công việc'!D17="","",'Danh mục công việc'!V17) -> 17 | H18: =IF('Danh mục công việc'!D17="","",'Danh mục công việc'!W17&"")
A19: ='Danh mục công việc'!A18 -> 12 | B19: =IF('Danh mục công việc'!D18="","",'Danh mục công việc'!D18) -> Kết cấu thân tầng 7–8 | C19: =IF('Danh mục công việc'!D18="","",'Danh mục công việc'!R18) -> 46463 | D19: =IF('Danh mục công việc'!D18="","",'Danh mục công việc'!S18) -> 46483 | E19: =IF('Danh mục công việc'!D18="","",'Danh mục công việc'!T18) -> 46506 | F19: =IF('Danh mục công việc'!D18="","",'Danh mục công việc'!M18) -> 15 | G19: =IF('Danh mục công việc'!D18="","",'Danh mục công việc'!V18) -> 17 | H19: =IF('Danh mục công việc'!D18="","",'Danh mục công việc'!W18&"")
... A67: ='Danh mục công việc'!A66 | B67: =IF('Danh mục công việc'!D66="","",'Danh mục công việc'!D66) | C67: =IF('Danh mục công việc'!D66="","",'Danh mục công việc'!R66) | D67: =IF('Danh mục công việc'!D66="","",'Danh mục công việc'!S66) | E67: =IF('Danh mục công việc'!D66="","",'Danh mục công việc'!T66) | F67: =IF('Danh mục công việc'!D66="","",'Danh mục công việc'!M66) | G67: =IF('Danh mục công việc'!D66="","",'Danh mục công việc'!V66) | H67: =IF('Danh mục công việc'!D66="","",'Danh mục công việc'!W66&"")

Sheet Nhân lực - Vốn
A2: NHÂN LỰC & DÒNG GIÁ TRỊ THEO TUẦN
A3: ="Công trình: "&IF('Cấu hình'!C6="","(chưa nhập)",'Cấu hình'!C6) -> Công trình: Tòa nhà văn phòng ABC – 8 tầng (dữ liệu mẫu)
A5: Giá trị mỗi công việc được phân bổ đều theo ngày lịch trong thời gian thi công. Nhân lực = tổng công nhân của các công việc đang thi công trong tuần.
A7: Tuần | B7: Từ ngày | C7: Đến ngày | D7: Số CV đang thi công | E7: Nhân lực huy động (người) | F7: Giá trị trong tuần (VNĐ) | G7: Giá trị lũy kế (VNĐ) | H7: % lũy kế
A8: 1 | B8: ='Cấu hình'!$C$15-WEEKDAY('Cấu hình'!$C$15,2)+1 -> 46328 | C8: =B8+6 -> 46334 | D8: =SUMPRODUCT(('Danh mục công việc'!$AC$7:$AC$66>0)*('Danh mục công việc'!$AC$7:$AC$66<=C8)*('Danh mục công việc'!$AD$7:$AD$66>=B8)) -> 1 | E8: =SUMPRODUCT(('Danh mục công việc'!$AC$7:$AC$66>0)*('Danh mục công việc'!$AC$7:$AC$66<=C8)*('Danh mục công việc'!$AD$7:$AD$66>=B8)*'Danh mục công việc'!$AF$7:$AF$66) -> 15 | F8: =SUMPRODUCT(('Danh mục công việc'!$AC$7:$AC$66>0)*'Danh mục công việc'!$AE$7:$AE$66/('Danh mục công việc'!$AD$7:$AD$66-'Danh mục công việc'!$AC$7:$AC$66+1)*(((('Danh mục công việc'!$AD$7:$AD$66<C8)*'Danh mục công việc'!$AD$7:$AD$66+('Danh mục công việc'!$AD$7:$AD$66>=C8)*C8)-(('Danh mục công việc'!$AC$7:$AC$66>B8)*'Danh mục công việc'!$AC$7:$AC$66+('Danh mục công việc'!$AC$7:$AC$66<=B8)*B8)+1)>0)*((('Danh mục công việc'!$AD$7:$AD$66<C8)*'Danh mục công việc'!$AD$7:$AD$66+('Danh mục công việc'!$AD$7:$AD$66>=C8)*C8)-(('Danh mục công việc'!$AC$7:$AC$66>B8)*'Danh mục công việc'!$AC$7:$AC$66+('Danh mục công việc'!$AC$7:$AC$66<=B8)*B8)+1)) -> 225000000 | G8: =F8 -> 225000000 | H8: =IF('Danh mục công việc'!$H$67=0,0,G8/'Danh mục công việc'!$H$67) -> 0.0060604428
A9: 2 | B9: =B8+7 -> 46335 | C9: =B9+6 -> 46341 | D9: =SUMPRODUCT(('Danh mục công việc'!$AC$7:$AC$66>0)*('Danh mục công việc'!$AC$7:$AC$66<=C9)*('Danh mục công việc'!$AD$7:$AD$66>=B9)) -> 1 | E9: =SUMPRODUCT(('Danh mục công việc'!$AC$7:$AC$66>0)*('Danh mục công việc'!$AC$7:$AC$66<=C9)*('Danh mục công việc'!$AD$7:$AD$66>=B9)*'Danh mục công việc'!$AF$7:$AF$66) -> 6 | F9: =SUMPRODUCT(('Danh mục công việc'!$AC$7:$AC$66>0)*'Danh mục công việc'!$AE$7:$AE$66/('Danh mục công việc'!$AD$7:$AD$66-'Danh mục công việc'!$AC$7:$AC$66+1)*(((('Danh mục công việc'!$AD$7:$AD$66<C9)*'Danh mục công việc'!$AD$7:$AD$66+('Danh mục công việc'!$AD$7:$AD$66>=C9)*C9)-(('Danh mục công việc'!$AC$7:$AC$66>B9)*'Danh mục công việc'!$AC$7:$AC$66+('Danh mục công việc'!$AC$7:$AC$66<=B9)*B9)+1)>0)*((('Danh mục công việc'!$AD$7:$AD$66<C9)*'Danh mục công việc'!$AD$7:$AD$66+('Danh mục công việc'!$AD$7:$AD$66>=C9)*C9)-(('Danh mục công việc'!$AC$7:$AC$66>B9)*'Danh mục công việc'!$AC$7:$AC$66+('Danh mục công việc'!$AC$7:$AC$66<=B9)*B9)+1)) -> 85000000 | G9: =G8+F9 -> 310000000 | H9: =IF('Danh mục công việc'!$H$67=0,0,G9/'Danh mục công việc'!$H$67) -> 0.0083499434
A10: 3 | B10: =B9+7 -> 46342 | C10: =B10+6 -> 46348 | D10: =SUMPRODUCT(('Danh mục công việc'!$AC$7:$AC$66>0)*('Danh mục công việc'!$AC$7:$AC$66<=C10)*('Danh mục công việc'!$AD$7:$AD$66>=B10)) -> 2 | E10: =SUMPRODUCT(('Danh mục công việc'!$AC$7:$AC$66>0)*('Danh mục công việc'!$AC$7:$AC$66<=C10)*('Danh mục công việc'!$AD$7:$AD$66>=B10)*'Danh mục công việc'!$AF$7:$AF$66) -> 16 | F10: =SUMPRODUCT(('Danh mục công việc'!$AC$7:$AC$66>0)*'Danh mục công việc'!$AE$7:$AE$66/('Danh mục công việc'!$AD$7:$AD$66-'Danh mục công việc'!$AC$7:$AC$66+1)*(((('Danh mục công việc'!$AD$7:$AD$66<C10)*'Danh mục công việc'!$AD$7:$AD$66+('Danh mục công việc'!$AD$7:$AD$66>=C10)*C10)-(('Danh mục công việc'!$AC$7:$AC$66>B10)*'Danh mục công việc'!$AC$7:$AC$66+('Danh mục công việc'!$AC$7:$AC$66<=B10)*B10)+1)>0)*((('Danh mục công việc'!$AD$7:$AD$66<C10)*'Danh mục công việc'!$AD$7:$AD$66+('Danh mục công việc'!$AD$7:$AD$66>=C10)*C10)-(('Danh mục công việc'!$AC$7:$AC$66>B10)*'Danh mục công việc'!$AC$7:$AC$66+('Danh mục công việc'!$AC$7:$AC$66<=B10)*B10)+1)) -> 7.7885714e+08 | G10: =G9+F10 -> 1088857143 | H10: =IF('Danh mục công việc'!$H$67=0,0,G10/'Danh mục công việc'!$H$67) -> 0.029328695
A11: 4 | B11: =B10+7 -> 46349 | C11: =B11+6 -> 46355 | D11: =SUMPRODUCT(('Danh mục công việc'!$AC$7:$AC$66>0)*('Danh mục công việc'!$AC$7:$AC$66<=C11)*('Danh mục công việc'!$AD$7:$AD$66>=B11)) -> 3 | E11: =SUMPRODUCT(('Danh mục công việc'!$AC$7:$AC$66>0)*('Danh mục công việc'!$AC$7:$AC$66<=C11)*('Danh mục công việc'!$AD$7:$AD$66>=B11)*'Danh mục công việc'!$AF$7:$AF$66) -> 58 | F11: =SUMPRODUCT(('Danh mục công việc'!$AC$7:$AC$66>0)*'Danh mục công việc'!$AE$7:$AE$66/('Danh mục công việc'!$AD$7:$AD$66-'Danh mục công việc'!$AC$7:$AC$66+1)*(((('Danh mục công việc'!$AD$7:$AD$66<C11)*'Danh mục công việc'!$AD$7:$AD$66+('Danh mục công việc'!$AD$7:$AD$66>=C11)*C11)-(('Danh mục công việc'!$AC$7:$AC$66>B11)*'Danh mục công việc'!$AC$7:$AC$66+('Danh mục công việc'!$AC$7:$AC$66<=B11)*B11)+1)>0)*((('Danh mục công việc'!$AD$7:$AD$66<C11)*'Danh mục công việc'!$AD$7:$AD$66+('Danh mục công việc'!$AD$7:$AD$66>=C11)*C11)-(('Danh mục công việc'!$AC$7:$AC$66>B11)*'Danh mục công việc'!$AC$7:$AC$66+('Danh mục công việc'!$AC$7:$AC$66<=B11)*B11)+1)) -> 6.1374351e+08 | G11: =G10+F11 -> 1702600649 | H11: =IF('Danh mục công việc'!$H$67=0,0,G11/'Danh mục công việc'!$H$67) -> 0.045860062
A12: 5 | B12: =B11+7 -> 46356 | C12: =B12+6 -> 46362 | D12: =SUMPRODUCT(('Danh mục công việc'!$AC$7:$AC$66>0)*('Danh mục công việc'!$AC$7:$AC$66<=C12)*('Danh mục công việc'!$AD$7:$AD$66>=B12)) -> 2 | E12: =SUMPRODUCT(('Danh mục công việc'!$AC$7:$AC$66>0)*('Danh mục công việc'!$AC$7:$AC$66<=C12)*('Danh mục công việc'!$AD$7:$AD$66>=B12)*'Danh mục công việc'!$AF$7:$AF$66) -> 48 | F12: =SUMPRODUCT(('Danh mục công việc'!$AC$7:$AC$66>0)*'Danh mục công việc'!$AE$7:$AE$66/('Danh mục công việc'!$AD$7:$AD$66-'Danh mục công việc'!$AC$7:$AC$66+1)*(((('Danh mục công việc'!$AD$7:$AD$66<C12)*'Danh mục công việc'!$AD$7:$AD$66+('Danh mục công việc'!$AD$7:$AD$66>=C12)*C12)-(('Danh mục công việc'!$AC$7:$AC$66>B12)*'Danh mục công việc'!$AC$7:$AC$66+('Danh mục công việc'!$AC$7:$AC$66<=B12)*B12)+1)>0)*((('Danh mục công việc'!$AD$7:$AD$66<C12)*'Danh mục công việc'!$AD$7:$AD$66+('Danh mục công việc'!$AD$7:$AD$66>=C12)*C12)-(('Danh mục công việc'!$AC$7:$AC$66>B12)*'Danh mục công việc'!$AC$7:$AC$66+('Danh mục công việc'!$AC$7:$AC$66<=B12)*B12)+1)) -> 1000068182 | G12: =G11+F12 -> 2702668831 | H12: =IF('Danh mục công việc'!$H$67=0,0,G12/'Danh mục công việc'!$H$67) -> 0.0727972
A13: 6 | B13: =B12+7 -> 46363 | C13: =B13+6 -> 46369 | D13: =SUMPRODUCT(('Danh mục công việc'!$AC$7:$AC$66>0)*('Danh mục công việc'!$AC$7:$AC$66<=C13)*('Danh mục công việc'!$AD$7:$AD$66>=B13)) -> 3 | E13: =SUMPRODUCT(('Danh mục công việc'!$AC$7:$AC$66>0)*('Danh mục công việc'!$AC$7:$AC$66<=C13)*('Danh mục công việc'!$AD$7:$AD$66>=B13)*'Danh mục công việc'!$AF$7:$AF$66) -> 63 | F13: =SUMPRODUCT(('Danh mục công việc'!$AC$7:$AC$66>0)*'Danh mục công việc'!$AE$7:$AE$66/('Danh mục công việc'!$AD$7:$AD$66-'Danh mục công việc'!$AC$7:$AC$66+1)*(((('Danh mục công việc'!$AD$7:$AD$66<C13)*'Danh mục công việc'!$AD$7:$AD$66+('Danh mục công việc'!$AD$7:$AD$66>=C13)*C13)-(('Danh mục công việc'!$AC$7:$AC$66>B13)*'Danh mục công việc'!$AC$7:$AC$66+('Danh mục công việc'!$AC$7:$AC$66<=B13)*B13)+1)>0)*((('Danh mục công việc'!$AD$7:$AD$66<C13)*'Danh mục công việc'!$AD$7:$AD$66+('Danh mục công việc'!$AD$7:$AD$66>=C13)*C13)-(('Danh mục công việc'!$AC$7:$AC$66>B13)*'Danh mục công việc'!$AC$7:$AC$66+('Danh mục công việc'!$AC$7:$AC$66<=B13)*B13)+1)) -> 9.4295617e+08 | G13: =G12+F13 -> 3645625000 | H13: =IF('Danh mục công việc'!$H$67=0,0,G13/'Danh mục công việc'!$H$67) -> 0.098196008
A14: 7 | B14: =B13+7 -> 46370 | C14: =B14+6 -> 46376 | D14: =SUMPRODUCT(('Danh mục công việc'!$AC$7:$AC$66>0)*('Danh mục công việc'!$AC$7:$AC$66<=C14)*('Danh mục công việc'!$AD$7:$AD$66>=B14)) -> 1 | E14: =SUMPRODUCT(('Danh mục công việc'!$AC$7:$AC$66>0)*('Danh mục công việc'!$AC$7:$AC$66<=C14)*('Danh mục công việc'!$AD$7:$AD$66>=B14)*'Danh mục công việc'!$AF$7:$AF$66) -> 15 | F14: =SUMPRODUCT(('Danh mục công việc'!$AC$7:$AC$66>0)*'Danh mục công việc'!$AE$7:$AE$66/('Danh mục công việc'!$AD$7:$AD$66-'Danh mục công việc'!$AC$7:$AC$66+1)*(((('Danh mục công việc'!$AD$7:$AD$66<C14)*'Danh mục công việc'!$AD$7:$AD$66+('Danh mục công việc'!$AD$7:$AD$66>=C14)*C14)-(('Danh mục công việc'!$AC$7:$AC$66>B14)*'Danh mục công việc'!$AC$7:$AC$66+('Danh mục công việc'!$AC$7:$AC$66<=B14)*B14)+1)>0)*((('Danh mục công việc'!$AD$7:$AD$66<C14)*'Danh mục công việc'!$AD$7:$AD$66+('Danh mục công việc'!$AD$7:$AD$66>=C14)*C14)-(('Danh mục công việc'!$AC$7:$AC$66>B14)*'Danh mục công việc'!$AC$7:$AC$66+('Danh mục công việc'!$AC$7:$AC$66<=B14)*B14)+1)) -> 1080625000 | G14: =G13+F14 -> 4726250000 | H14: =IF('Danh mục công việc'!$H$67=0,0,G14/'Danh mục công việc'!$H$67) -> 0.12730297
A15: 8 | B15: =B14+7 -> 46377 | C15: =B15+6 -> 46383 | D15: =SUMPRODUCT(('Danh mục công việc'!$AC$7:$AC$66>0)*('Danh mục công việc'!$AC$7:$AC$66<=C15)*('Danh mục công việc'!$AD$7:$AD$66>=B15)) -> 1 | E15: =SUMPRODUCT(('Danh mục công việc'!$AC$7:$AC$66>0)*('Danh mục công việc'!$AC$7:$AC$66<=C15)*('Danh mục công việc'!$AD$7:$AD$66>=B15)*'Danh mục công việc'!$AF$7:$AF$66) -> 15 | F15: =SUMPRODUCT(('Danh mục công việc'!$AC$7:$AC$66>0)*'Danh mục công việc'!$AE$7:$AE$66/('Danh mục công việc'!$AD$7:$AD$66-'Danh mục công việc'!$AC$7:$AC$66+1)*(((('Danh mục công việc'!$AD$7:$AD$66<C15)*'Danh mục công việc'!$AD$7:$AD$66+('Danh mục công việc'!$AD$7:$AD$66>=C15)*C15)-(('Danh mục công việc'!$AC$7:$AC$66>B15)*'Danh mục công việc'!$AC$7:$AC$66+('Danh mục công việc'!$AC$7:$AC$66<=B15)*B15)+1)>0)*((('Danh mục công việc'!$AD$7:$AD$66<C15)*'Danh mục công việc'!$AD$7:$AD$66+('Danh mục công việc'!$AD$7:$AD$66>=C15)*C15)-(('Danh mục công việc'!$AC$7:$AC$66>B15)*'Danh mục công việc'!$AC$7:$AC$66+('Danh mục công việc'!$AC$7:$AC$66<=B15)*B15)+1)) -> 308750000 | G15: =G14+F15 -> 5035000000 | H15: =IF('Danh mục công việc'!$H$67=0,0,G15/'Danh mục công việc'!$H$67) -> 0.13561924
A16: 9 | B16: =B15+7 -> 46384 | C16: =B16+6 -> 46390 | D16: =SUMPRODUCT(('Danh mục công việc'!$AC$7:$AC$66>0)*('Danh mục công việc'!$AC$7:$AC$66<=C16)*('Danh mục công việc'!$AD$7:$AD$66>=B16)) -> 1 | E16: =SUMPRODUCT(('Danh mục công việc'!$AC$7:$AC$66>0)*('Danh mục công việc'!$AC$7:$AC$66<=C16)*('Danh mục công việc'!$AD$7:$AD$66>=B16)*'Danh mục công việc'!$AF$7:$AF$66) -> 6 | F16: =SUMPRODUCT(('Danh mục công việc'!$AC$7:$AC$66>0)*'Danh mục công việc'!$AE$7:$AE$66/('Danh mục công việc'!$AD$7:$AD$66-'Danh mục công việc'!$AC$7:$AC$66+1)*(((('Danh mục công việc'!$AD$7:$AD$66<C16)*'Danh mục công việc'!$AD$7:$AD$66+('Danh mục công việc'!$AD$7:$AD$66>=C16)*C16)-(('Danh mục công việc'!$AC$7:$AC$66>B16)*'Danh mục công việc'!$AC$7:$AC$66+('Danh mục công việc'!$AC$7:$AC$66<=B16)*B16)+1)>0)*((('Danh mục công việc'!$AD$7:$AD$66<C16)*'Danh mục công việc'!$AD$7:$AD$66+('Danh mục công việc'!$AD$7:$AD$66>=C16)*C16)-(('Danh mục công việc'!$AC$7:$AC$66>B16)*'Danh mục công việc'!$AC$7:$AC$66+('Danh mục công việc'!$AC$7:$AC$66<=B16)*B16)+1)) -> 126000000 | G16: =G15+F16 -> 5161000000 | H16: =IF('Danh mục công việc'!$H$67=0,0,G16/'Danh mục công việc'!$H$67) -> 0.13901309
A17: 10 | B17: =B16+7 -> 46391 | C17: =B17+6 -> 46397 | D17: =SUMPRODUCT(('Danh mục công việc'!$AC$7:$AC$66>0)*('Danh mục công việc'!$AC$7:$AC$66<=C17)*('Danh mục công việc'!$AD$7:$AD$66>=B17)) -> 2 | E17: =SUMPRODUCT(('Danh mục công việc'!$AC$7:$AC$66>0)*('Danh mục công việc'!$AC$7:$AC$66<=C17)*('Danh mục công việc'!$AD$7:$AD$66>=B17)*'Danh mục công việc'!$AF$7:$AF$66) -> 46 | F17: =SUMPRODUCT(('Danh mục công việc'!$AC$7:$AC$66>0)*'Danh mục công việc'!$AE$7:$AE$66/('Danh mục công việc'!$AD$7:$AD$66-'Danh mục công việc'!$AC$7:$AC$66+1)*(((('Danh mục công việc'!$AD$7:$AD$66<C17)*'Danh mục công việc'!$AD$7:$AD$66+('Danh mục công việc'!$AD$7:$AD$66>=C17)*C17)-(('Danh mục công việc'!$AC$7:$AC$66>B17)*'Danh mục công việc'!$AC$7:$AC$66+('Danh mục công việc'!$AC$7:$AC$66<=B17)*B17)+1)>0)*((('Danh mục công việc'!$AD$7:$AD$66<C17)*'Danh mục công việc'!$AD$7:$AD$66+('Danh mục công việc'!$AD$7:$AD$66>=C17)*C17)-(('Danh mục công việc'!$AC$7:$AC$66>B17)*'Danh mục công việc'!$AC$7:$AC$66+('Danh mục công việc'!$AC$7:$AC$66<=B17)*B17)+1)) -> 6.7885714e+08 | G17: =G16+F17 -> 5839857143 | H17: =IF('Danh mục công việc'!$H$67=0,0,G17/'Danh mục công việc'!$H$67) -> 0.15729831
A18: 11 | B18: =B17+7 -> 46398 | C18: =B18+6 -> 46404 | D18: =SUMPRODUCT(('Danh mục công việc'!$AC$7:$AC$66>0)*('Danh mục công việc'!$AC$7:$AC$66<=C18)*('Danh mục công việc'!$AD$7:$AD$66>=B18)) -> 1 | E18: =SUMPRODUCT(('Danh mục công việc'!$AC$7:$AC$66>0)*('Danh mục công việc'!$AC$7:$AC$66<=C18)*('Danh mục công việc'!$AD$7:$AD$66>=B18)*'Danh mục công việc'!$AF$7:$AF$66) -> 40 | F18: =SUMPRODUCT(('Danh mục công việc'!$AC$7:$AC$66>0)*'Danh mục công việc'!$AE$7:$AE$66/('Danh mục công việc'!$AD$7:$AD$66-'Danh mục công việc'!$AC$7:$AC$66+1)*(((('Danh mục công việc'!$AD$7:$AD$66<C18)*'Danh mục công việc'!$AD$7:$AD$66+('Danh mục công việc'!$AD$7:$AD$66>=C18)*C18)-(('Danh mục công việc'!$AC$7:$AC$66>B18)*'Danh mục công việc'!$AC$7:$AC$66+('Danh mục công việc'!$AC$7:$AC$66<=B18)*B18)+1)>0)*((('Danh mục công việc'!$AD$7:$AD$66<C18)*'Danh mục công việc'!$AD$7:$AD$66+('Danh mục công việc'!$AD$7:$AD$66>=C18)*C18)-(('Danh mục công việc'!$AC$7:$AC$66>B18)*'Danh mục công việc'!$AC$7:$AC$66+('Danh mục công việc'!$AC$7:$AC$66<=B18)*B18)+1)) -> 900000000 | G18: =G17+F18 -> 6739857143 | H18: =IF('Danh mục công việc'!$H$67=0,0,G18/'Danh mục công việc'!$H$67) -> 0.18154008
A19: 12 | B19: =B18+7 -> 46405 | C19: =B19+6 -> 46411 | D19: =SUMPRODUCT(('Danh mục công việc'!$AC$7:$AC$66>0)*('Danh mục công việc'!$AC$7:$AC$66<=C19)*('Danh mục công việc'!$AD$7:$AD$66>=B19)) -> 1 | E19: =SUMPRODUCT(('Danh mục công việc'!$AC$7:$AC$66>0)*('Danh mục công việc'!$AC$7:$AC$66<=C19)*('Danh mục công việc'!$AD$7:$AD$66>=B19)*'Danh mục công việc'!$AF$7:$AF$66) -> 40 | F19: =SUMPRODUCT(('Danh mục công việc'!$AC$7:$AC$66>0)*'Danh mục công việc'!$AE$7:$AE$66/('Danh mục công việc'!$AD$7:$AD$66-'Danh mục công việc'!$AC$7:$AC$66+1)*(((('Danh mục công việc'!$AD$7:$AD$66<C19)*'Danh mục công việc'!$AD$7:$AD$66+('Danh mục công việc'!$AD$7:$AD$66>=C19)*C19)-(('Danh mục công việc'!$AC$7:$AC$66>B19)*'Danh mục công việc'!$AC$7:$AC$66+('Danh mục công việc'!$AC$7:$AC$66<=B19)*B19)+1)>0)*((('Danh mục công việc'!$AD$7:$AD$66<C19)*'Danh mục công việc'!$AD$7:$AD$66+('Danh mục công việc'!$AD$7:$AD$66>=C19)*C19)-(('Danh mục công việc'!$AC$7:$AC$66>B19)*'Danh mục công việc'!$AC$7:$AC$66+('Danh mục công việc'!$AC$7:$AC$66<=B19)*B19)+1)) -> 900000000 | G19: =G18+F19 -> 7639857143 | H19: =IF('Danh mục công việc'!$H$67=0,0,G19/'Danh mục công việc'!$H$67) -> 0.20578185
A20: 13 | B20: =B19+7 -> 46412 | C20: =B20+6 -> 46418 | D20: =SUMPRODUCT(('Danh mục công việc'!$AC$7:$AC$66>0)*('Danh mục công việc'!$AC$7:$AC$66<=C20)*('Danh mục công việc'!$AD$7:$AD$66>=B20)) -> 2 | E20: =SUMPRODUCT(('Danh mục công việc'!$AC$7:$AC$66>0)*('Danh mục công việc'!$AC$7:$AC$66<=C20)*('Danh mục công việc'!$AD$7:$AD$66>=B20)*'Danh mục công việc'!$AF$7:$AF$66) -> 80 | F20: =SUMPRODUCT(('Danh mục công việc'!$AC$7:$AC$66>0)*'Danh mục công việc'!$AE$7:$AE$66/('Danh mục công việc'!$AD$7:$AD$66-'Danh mục công việc'!$AC$7:$AC$66+1)*(((('Danh mục công việc'!$AD$7:$AD$66<C20)*'Danh mục công việc'!$AD$7:$AD$66+('Danh mục công việc'!$AD$7:$AD$66>=C20)*C20)-(('Danh mục công việc'!$AC$7:$AC$66>B20)*'Danh mục công việc'!$AC$7:$AC$66+('Danh mục công việc'!$AC$7:$AC$66<=B20)*B20)+1)>0)*((('Danh mục công việc'!$AD$7:$AD$66<C20)*'Danh mục công việc'!$AD$7:$AD$66+('Danh mục công việc'!$AD$7:$AD$66>=C20)*C20)-(('Danh mục công việc'!$AC$7:$AC$66>B20)*'Danh mục công việc'!$AC$7:$AC$66+('Danh mục công việc'!$AC$7:$AC$66<=B20)*B20)+1)) -> 7.3928571e+08 | G20: =G19+F20 -> 8379142857 | H20: =IF('Danh mục công việc'!$H$67=0,0,G20/'Danh mục công việc'!$H$67) -> 0.22569474
... A67: 60 | B67: =B66+7 -> 46741 | C67: =B67+6 -> 46747 | D67: =SUMPRODUCT(('Danh mục công việc'!$AC$7:$AC$66>0)*('Danh mục công việc'!$AC$7:$AC$66<=C67)*('Danh mục công việc'!$AD$7:$AD$66>=B67)) -> 0 | E67: =SUMPRODUCT(('Danh mục công việc'!$AC$7:$AC$66>0)*('Danh mục công việc'!$AC$7:$AC$66<=C67)*('Danh mục công việc'!$AD$7:$AD$66>=B67)*'Danh mục công việc'!$AF$7:$AF$66) -> 0 | F67: =SUMPRODUCT(('Danh mục công việc'!$AC$7:$AC$66>0)*'Danh mục công việc'!$AE$7:$AE$66/('Danh mục công việc'!$AD$7:$AD$66-'Danh mục công việc'!$AC$7:$AC$66+1)*(((('Danh mục công việc'!$AD$7:$AD$66<C67)*'Danh mục công việc'!$AD$7:$AD$66+('Danh mục công việc'!$AD$7:$AD$66>=C67)*C67)-(('Danh mục công việc'!$AC$7:$AC$66>B67)*'Danh mục công việc'!$AC$7:$AC$66+('Danh mục công việc'!$AC$7:$AC$66<=B67)*B67)+1)>0)*((('Danh mục công việc'!$AD$7:$AD$66<C67)*'Danh mục công việc'!$AD$7:$AD$66+('Danh mục công việc'!$AD$7:$AD$66>=C67)*C67)-(('Danh mục công việc'!$AC$7:$AC$66>B67)*'Danh mục công việc'!$AC$7:$AC$66+('Danh mục công việc'!$AC$7:$AC$66<=B67)*B67)+1)) -> 0 | G67: =G66+F67 -> 37126000000 | H67: =IF('Danh mục công việc'!$H$67=0,0,G67/'Danh mục công việc'!$H$67) -> 1
A68: Tổng | D68: Cao điểm: | E68: =MAX(E8:E67) -> 104 | F68: =SUM(F8:F67) -> 37126000000 | G68: =G67 -> 37126000000 | H68: =H67 -> 1

Sheet Vật tư
A2: KẾ HOẠCH CUNG ỨNG VẬT TƯ – THIẾT BỊ CHÍNH
A3: ="Công trình: "&IF('Cấu hình'!C6="","(chưa nhập)",'Cấu hình'!C6) -> Công trình: Tòa nhà văn phòng ABC – 8 tầng (dữ liệu mẫu) | L3: ='Cấu hình'!$C$14 -> 46323
A5: Ngày cần có = ngày bắt đầu của công việc sử dụng. Ngày đặt hàng chậm nhất = ngày cần có trừ thời gian giao hàng (ngày làm việc).
A7: STT | B7: Vật tư / Thiết bị | C7: ĐVT | D7: Khối lượng | E7: Đơn giá (VNĐ) | F7: Thành tiền (VNĐ) | G7: Mã CV sử dụng | H7: Ngày cần có | I7: Giao hàng (ngày LV) | J7: Đặt hàng chậm nhất | K7: Còn lại (ngày) | L7: Trạng thái | M7: Nhà cung cấp | N7: Ghi chú
A8: =IF(B8="","",COUNTA($B$8:B8)) -> 1 | B8: Thép cốt bê tông các loại | C8: tấn | D8: 420 | E8: 17500000 | F8: =IF(B8="","",D8*E8) -> 7350000000 | G8: B03 | H8: {=IF(OR(B8="",G8=""),"",IFERROR(INDEX('Danh mục công việc'!$R$7:$R$66,MATCH(G8,'Danh mục công việc'!$B$7:$B$66,0)),"Sai mã CV"))} -> 46353 | I8: 10 | J8: =IF(ISNUMBER(H8),_xlfn.WORKDAY.INTL(H8,-N(I8),'Cấu hình'!$C$17,'Cấu hình'!$E$6:$E$35),"") -> 46339 | K8: =IF(ISNUMBER(J8),J8-'Cấu hình'!$C$14,"") -> 16 | L8: =IF(ISNUMBER(K8),IF(K8<0,"Quá hạn đặt hàng",IF(K8<=7,"Đặt gấp (≤ 7 ngày)","Chưa đến hạn")),IF(H8="Sai mã CV","Sai mã CV","")) -> Chưa đến hạn | M8: Hòa Phát
A9: =IF(B9="","",COUNTA($B$8:B9)) -> 2 | B9: Xi măng PCB40 | C9: tấn | D9: 1400 | E9: 1550000 | F9: =IF(B9="","",D9*E9) -> 2170000000 | G9: B05 | H9: {=IF(OR(B9="",G9=""),"",IFERROR(INDEX('Danh mục công việc'!$R$7:$R$66,MATCH(G9,'Danh mục công việc'!$B$7:$B$66,0)),"Sai mã CV"))} -> 46367 | I9: 5 | J9: =IF(ISNUMBER(H9),_xlfn.WORKDAY.INTL(H9,-N(I9),'Cấu hình'!$C$17,'Cấu hình'!$E$6:$E$35),"") -> 46360 | K9: =IF(ISNUMBER(J9),J9-'Cấu hình'!$C$14,"") -> 37 | L9: =IF(ISNUMBER(K9),IF(K9<0,"Quá hạn đặt hàng",IF(K9<=7,"Đặt gấp (≤ 7 ngày)","Chưa đến hạn")),IF(H9="Sai mã CV","Sai mã CV","")) -> Chưa đến hạn
A10: =IF(B10="","",COUNTA($B$8:B10)) -> 3 | B10: Bê tông thương phẩm M300 | C10: m3 | D10: 950 | E10: 1450000 | F10: =IF(B10="","",D10*E10) -> 1377500000 | G10: B05 | H10: {=IF(OR(B10="",G10=""),"",IFERROR(INDEX('Danh mục công việc'!$R$7:$R$66,MATCH(G10,'Danh mục công việc'!$B$7:$B$66,0)),"Sai mã CV"))} -> 46367 | I10: 3 | J10: =IF(ISNUMBER(H10),_xlfn.WORKDAY.INTL(H10,-N(I10),'Cấu hình'!$C$17,'Cấu hình'!$E$6:$E$35),"") -> 46364 | K10: =IF(ISNUMBER(J10),J10-'Cấu hình'!$C$14,"") -> 41 | L10: =IF(ISNUMBER(K10),IF(K10<0,"Quá hạn đặt hàng",IF(K10<=7,"Đặt gấp (≤ 7 ngày)","Chưa đến hạn")),IF(H10="Sai mã CV","Sai mã CV","")) -> Chưa đến hạn | M10: Trạm trộn gần công trình
A11: =IF(B11="","",COUNTA($B$8:B11)) -> 4 | B11: Cốp pha thép, giáo chống | C11: bộ | D11: 600 | E11: 1200000 | F11: =IF(B11="","",D11*E11) -> 720000000 | G11: C01 | H11: {=IF(OR(B11="",G11=""),"",IFERROR(INDEX('Danh mục công việc'!$R$7:$R$66,MATCH(G11,'Danh mục công việc'!$B$7:$B$66,0)),"Sai mã CV"))} -> 46393 | I11: 15 | J11: =IF(ISNUMBER(H11),_xlfn.WORKDAY.INTL(H11,-N(I11),'Cấu hình'!$C$17,'Cấu hình'!$E$6:$E$35),"") -> 46371 | K11: =IF(ISNUMBER(J11),J11-'Cấu hình'!$C$14,"") -> 48 | L11: =IF(ISNUMBER(K11),IF(K11<0,"Quá hạn đặt hàng",IF(K11<=7,"Đặt gấp (≤ 7 ngày)","Chưa đến hạn")),IF(H11="Sai mã CV","Sai mã CV","")) -> Chưa đến hạn | M11: Thuê
A12: =IF(B12="","",COUNTA($B$8:B12)) -> 5 | B12: Gạch xây không nung | C12: viên | D12: 380000 | E12: 1400 | F12: =IF(B12="","",D12*E12) -> 532000000 | G12: D01 | H12: {=IF(OR(B12="",G12=""),"",IFERROR(INDEX('Danh mục công việc'!$R$7:$R$66,MATCH(G12,'Danh mục công việc'!$B$7:$B$66,0)),"Sai mã CV"))} -> 46449 | I12: 7 | J12: =IF(ISNUMBER(H12),_xlfn.WORKDAY.INTL(H12,-N(I12),'Cấu hình'!$C$17,'Cấu hình'!$E$6:$E$35),"") -> 46440 | K12: =IF(ISNUMBER(J12),J12-'Cấu hình'!$C$14,"") -> 117 | L12: =IF(ISNUMBER(K12),IF(K12<0,"Quá hạn đặt hàng",IF(K12<=7,"Đặt gấp (≤ 7 ngày)","Chưa đến hạn")),IF(H12="Sai mã CV","Sai mã CV","")) -> Chưa đến hạn
A13: =IF(B13="","",COUNTA($B$8:B13)) -> 6 | B13: Cáp điện, ống luồn dây | C13: trọn gói | D13: 1 | E13: 650000000 | F13: =IF(B13="","",D13*E13) -> 650000000 | G13: D03 | H13: {=IF(OR(B13="",G13=""),"",IFERROR(INDEX('Danh mục công việc'!$R$7:$R$66,MATCH(G13,'Danh mục công việc'!$B$7:$B$66,0)),"Sai mã CV"))} -> 46510 | I13: 15 | J13: =IF(ISNUMBER(H13),_xlfn.WORKDAY.INTL(H13,-N(I13),'Cấu hình'!$C$17,'Cấu hình'!$E$6:$E$35),"") -> 46486 | K13: =IF(ISNUMBER(J13),J13-'Cấu hình'!$C$14,"") -> 163 | L13: =IF(ISNUMBER(K13),IF(K13<0,"Quá hạn đặt hàng",IF(K13<=7,"Đặt gấp (≤ 7 ngày)","Chưa đến hạn")),IF(H13="Sai mã CV","Sai mã CV","")) -> Chưa đến hạn
A14: =IF(B14="","",COUNTA($B$8:B14)) -> 7 | B14: Gạch ốp lát | C14: m2 | D14: 9500 | E14: 180000 | F14: =IF(B14="","",D14*E14) -> 1710000000 | G14: E01 | H14: {=IF(OR(B14="",G14=""),"",IFERROR(INDEX('Danh mục công việc'!$R$7:$R$66,MATCH(G14,'Danh mục công việc'!$B$7:$B$66,0)),"Sai mã CV"))} -> 46595 | I14: 20 | J14: =IF(ISNUMBER(H14),_xlfn.WORKDAY.INTL(H14,-N(I14),'Cấu hình'!$C$17,'Cấu hình'!$E$6:$E$35),"") -> 46567 | K14: =IF(ISNUMBER(J14),J14-'Cấu hình'!$C$14,"") -> 244 | L14: =IF(ISNUMBER(K14),IF(K14<0,"Quá hạn đặt hàng",IF(K14<=7,"Đặt gấp (≤ 7 ngày)","Chưa đến hạn")),IF(H14="Sai mã CV","Sai mã CV","")) -> Chưa đến hạn
A15: =IF(B15="","",COUNTA($B$8:B15)) -> 8 | B15: Bột bả, sơn nước | C15: thùng | D15: 4200 | E15: 1300000 | F15: =IF(B15="","",D15*E15) -> 5460000000 | G15: E02 | H15: {=IF(OR(B15="",G15=""),"",IFERROR(INDEX('Danh mục công việc'!$R$7:$R$66,MATCH(G15,'Danh mục công việc'!$B$7:$B$66,0)),"Sai mã CV"))} -> 46630 | I15: 10 | J15: =IF(ISNUMBER(H15),_xlfn.WORKDAY.INTL(H15,-N(I15),'Cấu hình'!$C$17,'Cấu hình'!$E$6:$E$35),"") -> 46616 | K15: =IF(ISNUMBER(J15),J15-'Cấu hình'!$C$14,"") -> 293 | L15: =IF(ISNUMBER(K15),IF(K15<0,"Quá hạn đặt hàng",IF(K15<=7,"Đặt gấp (≤ 7 ngày)","Chưa đến hạn")),IF(H15="Sai mã CV","Sai mã CV","")) -> Chưa đến hạn
A16: =IF(B16="","",COUNTA($B$8:B16)) -> 9 | B16: Cửa nhôm kính | C16: bộ | D16: 420 | E16: 3200000 | F16: =IF(B16="","",D16*E16) -> 1344000000 | G16: E03 | H16: {=IF(OR(B16="",G16=""),"",IFERROR(INDEX('Danh mục công việc'!$R$7:$R$66,MATCH(G16,'Danh mục công việc'!$B$7:$B$66,0)),"Sai mã CV"))} -> 46651 | I16: 30 | J16: =IF(ISNUMBER(H16),_xlfn.WORKDAY.INTL(H16,-N(I16),'Cấu hình'!$C$17,'Cấu hình'!$E$6:$E$35),"") -> 46609 | K16: =IF(ISNUMBER(J16),J16-'Cấu hình'!$C$14,"") -> 286 | L16: =IF(ISNUMBER(K16),IF(K16<0,"Quá hạn đặt hàng",IF(K16<=7,"Đặt gấp (≤ 7 ngày)","Chưa đến hạn")),IF(H16="Sai mã CV","Sai mã CV","")) -> Chưa đến hạn
A17: =IF(B17="","",COUNTA($B$8:B17)) -> 10 | B17: Thiết bị vệ sinh | C17: bộ | D17: 160 | E17: 4500000 | F17: =IF(B17="","",D17*E17) -> 720000000 | G17: E05 | H17: {=IF(OR(B17="",G17=""),"",IFERROR(INDEX('Danh mục công việc'!$R$7:$R$66,MATCH(G17,'Danh mục công việc'!$B$7:$B$66,0)),"Sai mã CV"))} -> 46686 | I17: 25 | J17: =IF(ISNUMBER(H17),_xlfn.WORKDAY.INTL(H17,-N(I17),'Cấu hình'!$C$17,'Cấu hình'!$E$6:$E$35),"") -> 46651 | K17: =IF(ISNUMBER(J17),J17-'Cấu hình'!$C$14,"") -> 328 | L17: =IF(ISNUMBER(K17),IF(K17<0,"Quá hạn đặt hàng",IF(K17<=7,"Đặt gấp (≤ 7 ngày)","Chưa đến hạn")),IF(H17="Sai mã CV","Sai mã CV","")) -> Chưa đến hạn
A18: =IF(B18="","",COUNTA($B$8:B18)) -> 11 | B18: Thang máy | C18: bộ | D18: 2 | E18: 1100000000 | F18: =IF(B18="","",D18*E18) -> 2200000000 | G18: E04 | H18: {=IF(OR(B18="",G18=""),"",IFERROR(INDEX('Danh mục công việc'!$R$7:$R$66,MATCH(G18,'Danh mục công việc'!$B$7:$B$66,0)),"Sai mã CV"))} -> 46528 | I18: 60 | J18: =IF(ISNUMBER(H18),_xlfn.WORKDAY.INTL(H18,-N(I18),'Cấu hình'!$C$17,'Cấu hình'!$E$6:$E$35),"") -> 46443 | K18: =IF(ISNUMBER(J18),J18-'Cấu hình'!$C$14,"") -> 120 | L18: =IF(ISNUMBER(K18),IF(K18<0,"Quá hạn đặt hàng",IF(K18<=7,"Đặt gấp (≤ 7 ngày)","Chưa đến hạn")),IF(H18="Sai mã CV","Sai mã CV","")) -> Chưa đến hạn | M18: Nhập khẩu – đặt sớm
A19: =IF(B19="","",COUNTA($B$8:B19)) | F19: =IF(B19="","",D19*E19) | H19: {=IF(OR(B19="",G19=""),"",IFERROR(INDEX('Danh mục công việc'!$R$7:$R$66,MATCH(G19,'Danh mục công việc'!$B$7:$B$66,0)),"Sai mã CV"))} | J19: =IF(ISNUMBER(H19),_xlfn.WORKDAY.INTL(H19,-N(I19),'Cấu hình'!$C$17,'Cấu hình'!$E$6:$E$35),"") | K19: =IF(ISNUMBER(J19),J19-'Cấu hình'!$C$14,"") | L19: =IF(ISNUMBER(K19),IF(K19<0,"Quá hạn đặt hàng",IF(K19<=7,"Đặt gấp (≤ 7 ngày)","Chưa đến hạn")),IF(H19="Sai mã CV","Sai mã CV",""))
A20: =IF(B20="","",COUNTA($B$8:B20)) | F20: =IF(B20="","",D20*E20) | H20: {=IF(OR(B20="",G20=""),"",IFERROR(INDEX('Danh mục công việc'!$R$7:$R$66,MATCH(G20,'Danh mục công việc'!$B$7:$B$66,0)),"Sai mã CV"))} | J20: =IF(ISNUMBER(H20),_xlfn.WORKDAY.INTL(H20,-N(I20),'Cấu hình'!$C$17,'Cấu hình'!$E$6:$E$35),"") | K20: =IF(ISNUMBER(J20),J20-'Cấu hình'!$C$14,"") | L20: =IF(ISNUMBER(K20),IF(K20<0,"Quá hạn đặt hàng",IF(K20<=7,"Đặt gấp (≤ 7 ngày)","Chưa đến hạn")),IF(H20="Sai mã CV","Sai mã CV",""))
A21: =IF(B21="","",COUNTA($B$8:B21)) | F21: =IF(B21="","",D21*E21) | H21: {=IF(OR(B21="",G21=""),"",IFERROR(INDEX('Danh mục công việc'!$R$7:$R$66,MATCH(G21,'Danh mục công việc'!$B$7:$B$66,0)),"Sai mã CV"))} | J21: =IF(ISNUMBER(H21),_xlfn.WORKDAY.INTL(H21,-N(I21),'Cấu hình'!$C$17,'Cấu hình'!$E$6:$E$35),"") | K21: =IF(ISNUMBER(J21),J21-'Cấu hình'!$C$14,"") | L21: =IF(ISNUMBER(K21),IF(K21<0,"Quá hạn đặt hàng",IF(K21<=7,"Đặt gấp (≤ 7 ngày)","Chưa đến hạn")),IF(H21="Sai mã CV","Sai mã CV",""))
A22: =IF(B22="","",COUNTA($B$8:B22)) | F22: =IF(B22="","",D22*E22) | H22: {=IF(OR(B22="",G22=""),"",IFERROR(INDEX('Danh mục công việc'!$R$7:$R$66,MATCH(G22,'Danh mục công việc'!$B$7:$B$66,0)),"Sai mã CV"))} | J22: =IF(ISNUMBER(H22),_xlfn.WORKDAY.INTL(H22,-N(I22),'Cấu hình'!$C$17,'Cấu hình'!$E$6:$E$35),"") | K22: =IF(ISNUMBER(J22),J22-'Cấu hình'!$C$14,"") | L22: =IF(ISNUMBER(K22),IF(K22<0,"Quá hạn đặt hàng",IF(K22<=7,"Đặt gấp (≤ 7 ngày)","Chưa đến hạn")),IF(H22="Sai mã CV","Sai mã CV",""))
A23: =IF(B23="","",COUNTA($B$8:B23)) | F23: =IF(B23="","",D23*E23) | H23: {=IF(OR(B23="",G23=""),"",IFERROR(INDEX('Danh mục công việc'!$R$7:$R$66,MATCH(G23,'Danh mục công việc'!$B$7:$B$66,0)),"Sai mã CV"))} | J23: =IF(ISNUMBER(H23),_xlfn.WORKDAY.INTL(H23,-N(I23),'Cấu hình'!$C$17,'Cấu hình'!$E$6:$E$35),"") | K23: =IF(ISNUMBER(J23),J23-'Cấu hình'!$C$14,"") | L23: =IF(ISNUMBER(K23),IF(K23<0,"Quá hạn đặt hàng",IF(K23<=7,"Đặt gấp (≤ 7 ngày)","Chưa đến hạn")),IF(H23="Sai mã CV","Sai mã CV",""))
A24: =IF(B24="","",COUNTA($B$8:B24)) | F24: =IF(B24="","",D24*E24) | H24: {=IF(OR(B24="",G24=""),"",IFERROR(INDEX('Danh mục công việc'!$R$7:$R$66,MATCH(G24,'Danh mục công việc'!$B$7:$B$66,0)),"Sai mã CV"))} | J24: =IF(ISNUMBER(H24),_xlfn.WORKDAY.INTL(H24,-N(I24),'Cấu hình'!$C$17,'Cấu hình'!$E$6:$E$35),"") | K24: =IF(ISNUMBER(J24),J24-'Cấu hình'!$C$14,"") | L24: =IF(ISNUMBER(K24),IF(K24<0,"Quá hạn đặt hàng",IF(K24<=7,"Đặt gấp (≤ 7 ngày)","Chưa đến hạn")),IF(H24="Sai mã CV","Sai mã CV",""))
A25: =IF(B25="","",COUNTA($B$8:B25)) | F25: =IF(B25="","",D25*E25) | H25: {=IF(OR(B25="",G25=""),"",IFERROR(INDEX('Danh mục công việc'!$R$7:$R$66,MATCH(G25,'Danh mục công việc'!$B$7:$B$66,0)),"Sai mã CV"))} | J25: =IF(ISNUMBER(H25),_xlfn.WORKDAY.INTL(H25,-N(I25),'Cấu hình'!$C$17,'Cấu hình'!$E$6:$E$35),"") | K25: =IF(ISNUMBER(J25),J25-'Cấu hình'!$C$14,"") | L25: =IF(ISNUMBER(K25),IF(K25<0,"Quá hạn đặt hàng",IF(K25<=7,"Đặt gấp (≤ 7 ngày)","Chưa đến hạn")),IF(H25="Sai mã CV","Sai mã CV",""))
A26: =IF(B26="","",COUNTA($B$8:B26)) | F26: =IF(B26="","",D26*E26) | H26: {=IF(OR(B26="",G26=""),"",IFERROR(INDEX('Danh mục công việc'!$R$7:$R$66,MATCH(G26,'Danh mục công việc'!$B$7:$B$66,0)),"Sai mã CV"))} | J26: =IF(ISNUMBER(H26),_xlfn.WORKDAY.INTL(H26,-N(I26),'Cấu hình'!$C$17,'Cấu hình'!$E$6:$E$35),"") | K26: =IF(ISNUMBER(J26),J26-'Cấu hình'!$C$14,"") | L26: =IF(ISNUMBER(K26),IF(K26<0,"Quá hạn đặt hàng",IF(K26<=7,"Đặt gấp (≤ 7 ngày)","Chưa đến hạn")),IF(H26="Sai mã CV","Sai mã CV",""))
A27: =IF(B27="","",COUNTA($B$8:B27)) | F27: =IF(B27="","",D27*E27) | H27: {=IF(OR(B27="",G27=""),"",IFERROR(INDEX('Danh mục công việc'!$R$7:$R$66,MATCH(G27,'Danh mục công việc'!$B$7:$B$66,0)),"Sai mã CV"))} | J27: =IF(ISNUMBER(H27),_xlfn.WORKDAY.INTL(H27,-N(I27),'Cấu hình'!$C$17,'Cấu hình'!$E$6:$E$35),"") | K27: =IF(ISNUMBER(J27),J27-'Cấu hình'!$C$14,"") | L27: =IF(ISNUMBER(K27),IF(K27<0,"Quá hạn đặt hàng",IF(K27<=7,"Đặt gấp (≤ 7 ngày)","Chưa đến hạn")),IF(H27="Sai mã CV","Sai mã CV",""))
A28: =IF(B28="","",COUNTA($B$8:B28)) | F28: =IF(B28="","",D28*E28) | H28: {=IF(OR(B28="",G28=""),"",IFERROR(INDEX('Danh mục công việc'!$R$7:$R$66,MATCH(G28,'Danh mục công việc'!$B$7:$B$66,0)),"Sai mã CV"))} | J28: =IF(ISNUMBER(H28),_xlfn.WORKDAY.INTL(H28,-N(I28),'Cấu hình'!$C$17,'Cấu hình'!$E$6:$E$35),"") | K28: =IF(ISNUMBER(J28),J28-'Cấu hình'!$C$14,"") | L28: =IF(ISNUMBER(K28),IF(K28<0,"Quá hạn đặt hàng",IF(K28<=7,"Đặt gấp (≤ 7 ngày)","Chưa đến hạn")),IF(H28="Sai mã CV","Sai mã CV",""))
A29: =IF(B29="","",COUNTA($B$8:B29)) | F29: =IF(B29="","",D29*E29) | H29: {=IF(OR(B29="",G29=""),"",IFERROR(INDEX('Danh mục công việc'!$R$7:$R$66,MATCH(G29,'Danh mục công việc'!$B$7:$B$66,0)),"Sai mã CV"))} | J29: =IF(ISNUMBER(H29),_xlfn.WORKDAY.INTL(H29,-N(I29),'Cấu hình'!$C$17,'Cấu hình'!$E$6:$E$35),"") | K29: =IF(ISNUMBER(J29),J29-'Cấu hình'!$C$14,"") | L29: =IF(ISNUMBER(K29),IF(K29<0,"Quá hạn đặt hàng",IF(K29<=7,"Đặt gấp (≤ 7 ngày)","Chưa đến hạn")),IF(H29="Sai mã CV","Sai mã CV",""))
A30: =IF(B30="","",COUNTA($B$8:B30)) | F30: =IF(B30="","",D30*E30) | H30: {=IF(OR(B30="",G30=""),"",IFERROR(INDEX('Danh mục công việc'!$R$7:$R$66,MATCH(G30,'Danh mục công việc'!$B$7:$B$66,0)),"Sai mã CV"))} | J30: =IF(ISNUMBER(H30),_xlfn.WORKDAY.INTL(H30,-N(I30),'Cấu hình'!$C$17,'Cấu hình'!$E$6:$E$35),"") | K30: =IF(ISNUMBER(J30),J30-'Cấu hình'!$C$14,"") | L30: =IF(ISNUMBER(K30),IF(K30<0,"Quá hạn đặt hàng",IF(K30<=7,"Đặt gấp (≤ 7 ngày)","Chưa đến hạn")),IF(H30="Sai mã CV","Sai mã CV",""))
... A32: =IF(B32="","",COUNTA($B$8:B32)) | F32: =IF(B32="","",D32*E32) | H32: {=IF(OR(B32="",G32=""),"",IFERROR(INDEX('Danh mục công việc'!$R$7:$R$66,MATCH(G32,'Danh mục công việc'!$B$7:$B$66,0)),"Sai mã CV"))} | J32: =IF(ISNUMBER(H32),_xlfn.WORKDAY.INTL(H32,-N(I32),'Cấu hình'!$C$17,'Cấu hình'!$E$6:$E$35),"") | K32: =IF(ISNUMBER(J32),J32-'Cấu hình'!$C$14,"") | L32: =IF(ISNUMBER(K32),IF(K32<0,"Quá hạn đặt hàng",IF(K32<=7,"Đặt gấp (≤ 7 ngày)","Chưa đến hạn")),IF(H32="Sai mã CV","Sai mã CV",""))
